BEGIN:VCALENDAR
VERSION:2.0
PRODID:-//InterPride - ECPv6.15.20//NONSGML v1.0//EN
CALSCALE:GREGORIAN
METHOD:PUBLISH
X-WR-CALNAME:InterPride
X-ORIGINAL-URL:https://www.interpride.org
X-WR-CALDESC:Events for InterPride
REFRESH-INTERVAL;VALUE=DURATION:PT1H
X-Robots-Tag:noindex
X-PUBLISHED-TTL:PT1H
BEGIN:VTIMEZONE
TZID:America/Los_Angeles
BEGIN:DAYLIGHT
TZOFFSETFROM:-0800
TZOFFSETTO:-0700
TZNAME:PDT
DTSTART:20210314T100000
END:DAYLIGHT
BEGIN:STANDARD
TZOFFSETFROM:-0700
TZOFFSETTO:-0800
TZNAME:PST
DTSTART:20211107T090000
END:STANDARD
BEGIN:DAYLIGHT
TZOFFSETFROM:-0800
TZOFFSETTO:-0700
TZNAME:PDT
DTSTART:20220313T100000
END:DAYLIGHT
BEGIN:STANDARD
TZOFFSETFROM:-0700
TZOFFSETTO:-0800
TZNAME:PST
DTSTART:20221106T090000
END:STANDARD
BEGIN:DAYLIGHT
TZOFFSETFROM:-0800
TZOFFSETTO:-0700
TZNAME:PDT
DTSTART:20230312T100000
END:DAYLIGHT
BEGIN:STANDARD
TZOFFSETFROM:-0700
TZOFFSETTO:-0800
TZNAME:PST
DTSTART:20231105T090000
END:STANDARD
BEGIN:DAYLIGHT
TZOFFSETFROM:-0800
TZOFFSETTO:-0700
TZNAME:PDT
DTSTART:20240310T100000
END:DAYLIGHT
BEGIN:STANDARD
TZOFFSETFROM:-0700
TZOFFSETTO:-0800
TZNAME:PST
DTSTART:20241103T090000
END:STANDARD
END:VTIMEZONE
BEGIN:VEVENT
DTSTART;TZID=America/Los_Angeles:20230201T000000
DTEND;TZID=America/Los_Angeles:20230228T000000
DTSTAMP:20260422T000239
CREATED:20221209T204316Z
LAST-MODIFIED:20221209T204316Z
UID:10000949-1675209600-1677542400@www.interpride.org
SUMMARY:International Friendship Month
DESCRIPTION:
URL:https://www.interpride.org/event/international-friendship-month/
CATEGORIES:IMPORTANT DATES
END:VEVENT
BEGIN:VEVENT
DTSTART;TZID=America/Los_Angeles:20230201T000000
DTEND;TZID=America/Los_Angeles:20230228T000000
DTSTAMP:20260422T000239
CREATED:20221209T204316Z
LAST-MODIFIED:20221209T204316Z
UID:10000950-1675209600-1677542400@www.interpride.org
SUMMARY:International Boost Self-Esteem Month
DESCRIPTION:
URL:https://www.interpride.org/event/international-boost-self-esteem-month/
CATEGORIES:IMPORTANT DATES
END:VEVENT
BEGIN:VEVENT
DTSTART;TZID=America/Los_Angeles:20230201T000000
DTEND;TZID=America/Los_Angeles:20230228T000000
DTSTAMP:20260422T000239
CREATED:20221209T204316Z
LAST-MODIFIED:20221209T204316Z
UID:10000951-1675209600-1677542400@www.interpride.org
SUMMARY:LGBTQIA+ History Month (UK)
DESCRIPTION:
URL:https://www.interpride.org/event/lgbtqia-history-month-uk-2/
CATEGORIES:IMPORTANT DATES
END:VEVENT
BEGIN:VEVENT
DTSTART;TZID=America/Los_Angeles:20230201T000000
DTEND;TZID=America/Los_Angeles:20230228T000000
DTSTAMP:20260422T000239
CREATED:20221209T204301Z
LAST-MODIFIED:20221209T204301Z
UID:10000947-1675209600-1677542400@www.interpride.org
SUMMARY:International Month of Black Women in the Arts
DESCRIPTION:
URL:https://www.interpride.org/event/international-month-of-black-women-in-the-arts/
CATEGORIES:IMPORTANT DATES
END:VEVENT
BEGIN:VEVENT
DTSTART;TZID=America/Los_Angeles:20230201T000000
DTEND;TZID=America/Los_Angeles:20230228T000000
DTSTAMP:20260422T000239
CREATED:20221209T204301Z
LAST-MODIFIED:20221209T204301Z
UID:10000948-1675209600-1677542400@www.interpride.org
SUMMARY:Black History Month (US and Canada)
DESCRIPTION:
URL:https://www.interpride.org/event/black-history-month-us-and-canada-2/
CATEGORIES:IMPORTANT DATES
END:VEVENT
BEGIN:VEVENT
DTSTART;TZID=America/Los_Angeles:20230128T000000
DTEND;TZID=America/Los_Angeles:20230128T000000
DTSTAMP:20260422T000239
CREATED:20221209T204300Z
LAST-MODIFIED:20221209T204300Z
UID:10000946-1674864000-1674864000@www.interpride.org
SUMMARY:Global Community Engagement Day
DESCRIPTION:
URL:https://www.interpride.org/event/global-community-engagement-day/
CATEGORIES:IMPORTANT DATES
END:VEVENT
BEGIN:VEVENT
DTSTART;TZID=America/Los_Angeles:20230127T000000
DTEND;TZID=America/Los_Angeles:20230127T000000
DTSTAMP:20260422T000239
CREATED:20221209T204300Z
LAST-MODIFIED:20221209T204300Z
UID:10000945-1674777600-1674777600@www.interpride.org
SUMMARY:International Holocaust Remembrance Day
DESCRIPTION:
URL:https://www.interpride.org/event/international-holocaust-remembrance-day-2/
CATEGORIES:IMPORTANT DATES
END:VEVENT
BEGIN:VEVENT
DTSTART;TZID=America/Los_Angeles:20230126T000000
DTEND;TZID=America/Los_Angeles:20230126T000000
DTSTAMP:20260422T000239
CREATED:20221209T204245Z
LAST-MODIFIED:20221209T204245Z
UID:10000944-1674691200-1674691200@www.interpride.org
SUMMARY:International Environmental Education Day
DESCRIPTION:
URL:https://www.interpride.org/event/international-environmental-education-day/
CATEGORIES:IMPORTANT DATES
END:VEVENT
BEGIN:VEVENT
DTSTART;TZID=America/Los_Angeles:20230124T000000
DTEND;TZID=America/Los_Angeles:20230124T000000
DTSTAMP:20260422T000239
CREATED:20221209T204245Z
LAST-MODIFIED:20221209T204245Z
UID:10000943-1674518400-1674518400@www.interpride.org
SUMMARY:International Day of Education
DESCRIPTION:
URL:https://www.interpride.org/event/international-day-of-education-2/
CATEGORIES:IMPORTANT DATES
END:VEVENT
BEGIN:VEVENT
DTSTART;TZID=America/Los_Angeles:20230120T000000
DTEND;TZID=America/Los_Angeles:20230120T000000
DTSTAMP:20260422T000239
CREATED:20221209T204245Z
LAST-MODIFIED:20221209T204245Z
UID:10000942-1674172800-1674172800@www.interpride.org
SUMMARY:International Day of Acceptance
DESCRIPTION:
URL:https://www.interpride.org/event/international-day-of-acceptance/
CATEGORIES:IMPORTANT DATES
END:VEVENT
BEGIN:VEVENT
DTSTART;TZID=America/Los_Angeles:20230117T000000
DTEND;TZID=America/Los_Angeles:20230117T000000
DTSTAMP:20260422T000239
CREATED:20221209T204245Z
LAST-MODIFIED:20221209T204245Z
UID:10000941-1673913600-1673913600@www.interpride.org
SUMMARY:International We Are Not Broken Day
DESCRIPTION:
URL:https://www.interpride.org/event/international-we-are-not-broken-day/
CATEGORIES:IMPORTANT DATES
END:VEVENT
BEGIN:VEVENT
DTSTART;TZID=America/Los_Angeles:20230116T000000
DTEND;TZID=America/Los_Angeles:20230116T000000
DTSTAMP:20260422T000239
CREATED:20221209T204245Z
LAST-MODIFIED:20221209T204245Z
UID:10000940-1673827200-1673827200@www.interpride.org
SUMMARY:Martin Luther King\, Jr. Day
DESCRIPTION:
URL:https://www.interpride.org/event/martin-luther-king-jr-day-2/
CATEGORIES:IMPORTANT DATES
END:VEVENT
BEGIN:VEVENT
DTSTART;TZID=America/Los_Angeles:20230111T000000
DTEND;TZID=America/Los_Angeles:20230111T000000
DTSTAMP:20260422T000239
CREATED:20221209T204244Z
LAST-MODIFIED:20221209T204244Z
UID:10000939-1673395200-1673395200@www.interpride.org
SUMMARY:International Thank-You Day
DESCRIPTION:
URL:https://www.interpride.org/event/international-thank-you-day/
CATEGORIES:IMPORTANT DATES
END:VEVENT
BEGIN:VEVENT
DTSTART;TZID=America/Los_Angeles:20230103T000000
DTEND;TZID=America/Los_Angeles:20230103T000000
DTSTAMP:20260422T000239
CREATED:20221209T204244Z
LAST-MODIFIED:20221209T204244Z
UID:10000938-1672704000-1672704000@www.interpride.org
SUMMARY:International Mind-Body Wellness Day
DESCRIPTION:
URL:https://www.interpride.org/event/international-mind-body-wellness-day/
CATEGORIES:IMPORTANT DATES
END:VEVENT
BEGIN:VEVENT
DTSTART;TZID=America/Los_Angeles:20230101T000000
DTEND;TZID=America/Los_Angeles:20230131T000000
DTSTAMP:20260422T000239
CREATED:20221209T204244Z
LAST-MODIFIED:20221209T204244Z
UID:10000937-1672531200-1675123200@www.interpride.org
SUMMARY:International Creativity Month
DESCRIPTION:
URL:https://www.interpride.org/event/international-creativity-month/
CATEGORIES:IMPORTANT DATES
END:VEVENT
BEGIN:VEVENT
DTSTART;TZID=America/Los_Angeles:20230101T000000
DTEND;TZID=America/Los_Angeles:20230101T000000
DTSTAMP:20260422T000239
CREATED:20221209T204244Z
LAST-MODIFIED:20221209T204244Z
UID:10000935-1672531200-1672531200@www.interpride.org
SUMMARY:Universal Hour of Peace
DESCRIPTION:
URL:https://www.interpride.org/event/universal-hour-of-peace/
CATEGORIES:IMPORTANT DATES
END:VEVENT
BEGIN:VEVENT
DTSTART;TZID=America/Los_Angeles:20230101T000000
DTEND;TZID=America/Los_Angeles:20230101T000000
DTSTAMP:20260422T000239
CREATED:20221209T204244Z
LAST-MODIFIED:20221209T204244Z
UID:10000936-1672531200-1672531200@www.interpride.org
SUMMARY:Global Family Day
DESCRIPTION:
URL:https://www.interpride.org/event/global-family-day/
CATEGORIES:IMPORTANT DATES
END:VEVENT
BEGIN:VEVENT
DTSTART;TZID=America/Los_Angeles:20221218T000000
DTEND;TZID=America/Los_Angeles:20221218T000000
DTSTAMP:20260422T000239
CREATED:20220915T021053Z
LAST-MODIFIED:20220915T021053Z
UID:10000931-1671321600-1671321600@www.interpride.org
SUMMARY:International Migrants Day
DESCRIPTION:
URL:https://www.interpride.org/event/international-migrants-day/
CATEGORIES:IMPORTANT DATES
END:VEVENT
BEGIN:VEVENT
DTSTART;TZID=America/Los_Angeles:20221210T000000
DTEND;TZID=America/Los_Angeles:20221210T000000
DTSTAMP:20260422T000239
CREATED:20220915T021053Z
LAST-MODIFIED:20220915T021053Z
UID:10000930-1670630400-1670630400@www.interpride.org
SUMMARY:Human Rights Day
DESCRIPTION:
URL:https://www.interpride.org/event/human-rights-day/
CATEGORIES:IMPORTANT DATES
END:VEVENT
BEGIN:VEVENT
DTSTART;TZID=America/Los_Angeles:20221208T000000
DTEND;TZID=America/Los_Angeles:20221208T000000
DTSTAMP:20260422T000239
CREATED:20220915T021052Z
LAST-MODIFIED:20220915T021052Z
UID:10000929-1670457600-1670457600@www.interpride.org
SUMMARY:Pansexual & Panromantic Pride Day
DESCRIPTION:
URL:https://www.interpride.org/event/pansexual-panromantic-pride-day/
CATEGORIES:IMPORTANT DATES
END:VEVENT
BEGIN:VEVENT
DTSTART;TZID=America/Los_Angeles:20221205T000000
DTEND;TZID=America/Los_Angeles:20221205T000000
DTSTAMP:20260422T000239
CREATED:20220915T021052Z
LAST-MODIFIED:20220915T021052Z
UID:10000928-1670198400-1670198400@www.interpride.org
SUMMARY:International Volunteers Day
DESCRIPTION:
URL:https://www.interpride.org/event/international-volunteers-day/
CATEGORIES:IMPORTANT DATES
END:VEVENT
BEGIN:VEVENT
DTSTART;TZID=America/Los_Angeles:20221203T000000
DTEND;TZID=America/Los_Angeles:20221203T000000
DTSTAMP:20260422T000239
CREATED:20220915T021052Z
LAST-MODIFIED:20220915T021052Z
UID:10000927-1670025600-1670025600@www.interpride.org
SUMMARY:International Day of Persons with Disabilities
DESCRIPTION:
URL:https://www.interpride.org/event/international-day-of-persons-with-disabilities/
CATEGORIES:IMPORTANT DATES
END:VEVENT
BEGIN:VEVENT
DTSTART;TZID=America/Los_Angeles:20221201T000000
DTEND;TZID=America/Los_Angeles:20221201T000000
DTSTAMP:20260422T000239
CREATED:20220915T021038Z
LAST-MODIFIED:20220915T021038Z
UID:10000926-1669852800-1669852800@www.interpride.org
SUMMARY:World AIDS Day
DESCRIPTION:
URL:https://www.interpride.org/event/world-aids-day/
CATEGORIES:IMPORTANT DATES
END:VEVENT
BEGIN:VEVENT
DTSTART;TZID=America/Los_Angeles:20221127T000000
DTEND;TZID=America/Los_Angeles:20221127T000000
DTSTAMP:20260422T000239
CREATED:20220915T021038Z
LAST-MODIFIED:20220915T021038Z
UID:10000925-1669507200-1669507200@www.interpride.org
SUMMARY:Assassination of Harvey Milk (1978)
DESCRIPTION:
URL:https://www.interpride.org/event/assassination-of-harvey-milk-1978/
CATEGORIES:IMPORTANT DATES
END:VEVENT
BEGIN:VEVENT
DTSTART;TZID=America/Los_Angeles:20221125T000000
DTEND;TZID=America/Los_Angeles:20221125T000000
DTSTAMP:20260422T000239
CREATED:20220915T021038Z
LAST-MODIFIED:20220915T021038Z
UID:10000924-1669334400-1669334400@www.interpride.org
SUMMARY:International Day for the Elimination of Violence Against Women
DESCRIPTION:
URL:https://www.interpride.org/event/international-day-for-the-elimination-of-violence-against-women/
CATEGORIES:IMPORTANT DATES
END:VEVENT
BEGIN:VEVENT
DTSTART;TZID=America/Los_Angeles:20221120T000000
DTEND;TZID=America/Los_Angeles:20221120T000000
DTSTAMP:20260422T000239
CREATED:20220915T021038Z
LAST-MODIFIED:20220915T021038Z
UID:10000923-1668902400-1668902400@www.interpride.org
SUMMARY:Transgender Day Of Remembrance
DESCRIPTION:
URL:https://www.interpride.org/event/transgender-day-of-remembrance/
CATEGORIES:IMPORTANT DATES
END:VEVENT
BEGIN:VEVENT
DTSTART;TZID=America/Los_Angeles:20221116T000000
DTEND;TZID=America/Los_Angeles:20221116T000000
DTSTAMP:20260422T000239
CREATED:20220915T021038Z
LAST-MODIFIED:20220915T021038Z
UID:10000922-1668556800-1668556800@www.interpride.org
SUMMARY:International Day for Tolerance
DESCRIPTION:
URL:https://www.interpride.org/event/international-day-for-tolerance/
CATEGORIES:IMPORTANT DATES
END:VEVENT
BEGIN:VEVENT
DTSTART;TZID=America/Los_Angeles:20221113T000000
DTEND;TZID=America/Los_Angeles:20221119T000000
DTSTAMP:20260422T000239
CREATED:20220915T020957Z
LAST-MODIFIED:20220915T020957Z
UID:10000921-1668297600-1668816000@www.interpride.org
SUMMARY:Transgender Awareness Week
DESCRIPTION:
URL:https://www.interpride.org/event/transgender-awareness-week/
CATEGORIES:IMPORTANT DATES
END:VEVENT
BEGIN:VEVENT
DTSTART;TZID=America/Los_Angeles:20221108T000000
DTEND;TZID=America/Los_Angeles:20221108T000000
DTSTAMP:20260422T000239
CREATED:20220915T020957Z
LAST-MODIFIED:20220915T020957Z
UID:10000920-1667865600-1667865600@www.interpride.org
SUMMARY:Intersex Day of Remembrance
DESCRIPTION:
URL:https://www.interpride.org/event/intersex-day-of-remembrance/
CATEGORIES:IMPORTANT DATES
END:VEVENT
BEGIN:VEVENT
DTSTART;TZID=America/Los_Angeles:20221106T000000
DTEND;TZID=America/Los_Angeles:20221106T000000
DTSTAMP:20260422T000239
CREATED:20220915T020957Z
LAST-MODIFIED:20220915T020957Z
UID:10000919-1667692800-1667692800@www.interpride.org
SUMMARY:Trans Parent Day
DESCRIPTION:
URL:https://www.interpride.org/event/trans-parent-day/
CATEGORIES:IMPORTANT DATES
END:VEVENT
END:VCALENDAR