BEGIN:VCALENDAR
VERSION:2.0
PRODID:-//InterPride - ECPv6.15.20//NONSGML v1.0//EN
CALSCALE:GREGORIAN
METHOD:PUBLISH
X-WR-CALNAME:InterPride
X-ORIGINAL-URL:https://www.interpride.org
X-WR-CALDESC:Events for InterPride
REFRESH-INTERVAL;VALUE=DURATION:PT1H
X-Robots-Tag:noindex
X-PUBLISHED-TTL:PT1H
BEGIN:VTIMEZONE
TZID:America/Los_Angeles
BEGIN:DAYLIGHT
TZOFFSETFROM:-0800
TZOFFSETTO:-0700
TZNAME:PDT
DTSTART:20210314T100000
END:DAYLIGHT
BEGIN:STANDARD
TZOFFSETFROM:-0700
TZOFFSETTO:-0800
TZNAME:PST
DTSTART:20211107T090000
END:STANDARD
BEGIN:DAYLIGHT
TZOFFSETFROM:-0800
TZOFFSETTO:-0700
TZNAME:PDT
DTSTART:20220313T100000
END:DAYLIGHT
BEGIN:STANDARD
TZOFFSETFROM:-0700
TZOFFSETTO:-0800
TZNAME:PST
DTSTART:20221106T090000
END:STANDARD
BEGIN:DAYLIGHT
TZOFFSETFROM:-0800
TZOFFSETTO:-0700
TZNAME:PDT
DTSTART:20230312T100000
END:DAYLIGHT
BEGIN:STANDARD
TZOFFSETFROM:-0700
TZOFFSETTO:-0800
TZNAME:PST
DTSTART:20231105T090000
END:STANDARD
END:VTIMEZONE
BEGIN:VEVENT
DTSTART;TZID=America/Los_Angeles:20220619T000000
DTEND;TZID=America/Los_Angeles:20220619T000000
DTSTAMP:20260422T000302
CREATED:20220915T015734Z
LAST-MODIFIED:20220915T015734Z
UID:10000876-1655596800-1655596800@www.interpride.org
SUMMARY:Juneteenth
DESCRIPTION:
URL:https://www.interpride.org/event/juneteenth/
CATEGORIES:IMPORTANT DATES
END:VEVENT
BEGIN:VEVENT
DTSTART;TZID=America/Los_Angeles:20220612T000000
DTEND;TZID=America/Los_Angeles:20220612T000000
DTSTAMP:20260422T000302
CREATED:20220915T015734Z
LAST-MODIFIED:20220915T015734Z
UID:10000875-1654992000-1654992000@www.interpride.org
SUMMARY:World Day Against Child Labour
DESCRIPTION:
URL:https://www.interpride.org/event/world-day-against-child-labour/
CATEGORIES:IMPORTANT DATES
END:VEVENT
BEGIN:VEVENT
DTSTART;TZID=America/Los_Angeles:20220612T000000
DTEND;TZID=America/Los_Angeles:20220612T000000
DTSTAMP:20260422T000302
CREATED:20220915T015733Z
LAST-MODIFIED:20220915T015733Z
UID:10000874-1654992000-1654992000@www.interpride.org
SUMMARY:Pulse Night of Remembrance
DESCRIPTION:
URL:https://www.interpride.org/event/pulse-night-of-remembrance/
CATEGORIES:IMPORTANT DATES
END:VEVENT
BEGIN:VEVENT
DTSTART;TZID=America/Los_Angeles:20220605T000000
DTEND;TZID=America/Los_Angeles:20220605T000000
DTSTAMP:20260422T000302
CREATED:20220915T015733Z
LAST-MODIFIED:20220915T015733Z
UID:10000873-1654387200-1654387200@www.interpride.org
SUMMARY:World Environment Day
DESCRIPTION:
URL:https://www.interpride.org/event/world-environment-day/
CATEGORIES:IMPORTANT DATES
END:VEVENT
BEGIN:VEVENT
DTSTART;TZID=America/Los_Angeles:20220601T000000
DTEND;TZID=America/Los_Angeles:20220630T000000
DTSTAMP:20260422T000302
CREATED:20220915T015534Z
LAST-MODIFIED:20220915T015534Z
UID:10000871-1654041600-1656547200@www.interpride.org
SUMMARY:Pride Month
DESCRIPTION:
URL:https://www.interpride.org/event/pride-month/
CATEGORIES:IMPORTANT DATES
END:VEVENT
BEGIN:VEVENT
DTSTART;TZID=America/Los_Angeles:20220601T000000
DTEND;TZID=America/Los_Angeles:20220601T000000
DTSTAMP:20260422T000302
CREATED:20220915T015733Z
LAST-MODIFIED:20220915T015733Z
UID:10000872-1654041600-1654041600@www.interpride.org
SUMMARY:Global Day of Parents
DESCRIPTION:
URL:https://www.interpride.org/event/global-day-of-parents/
CATEGORIES:IMPORTANT DATES
END:VEVENT
BEGIN:VEVENT
DTSTART;TZID=America/Los_Angeles:20220524T000000
DTEND;TZID=America/Los_Angeles:20220524T000000
DTSTAMP:20260422T000302
CREATED:20220915T015534Z
LAST-MODIFIED:20220915T015534Z
UID:10000870-1653350400-1653350400@www.interpride.org
SUMMARY:Pansexual + Panromantic Visibility Day
DESCRIPTION:
URL:https://www.interpride.org/event/pansexual-panromantic-visibility-day/
CATEGORIES:IMPORTANT DATES
END:VEVENT
BEGIN:VEVENT
DTSTART;TZID=America/Los_Angeles:20220522T000000
DTEND;TZID=America/Los_Angeles:20220522T000000
DTSTAMP:20260422T000302
CREATED:20220915T015534Z
LAST-MODIFIED:20220915T015534Z
UID:10000869-1653177600-1653177600@www.interpride.org
SUMMARY:Harvey Milk Day
DESCRIPTION:
URL:https://www.interpride.org/event/harvey-milk-day/
CATEGORIES:IMPORTANT DATES
END:VEVENT
BEGIN:VEVENT
DTSTART;TZID=America/Los_Angeles:20220521T000000
DTEND;TZID=America/Los_Angeles:20220521T000000
DTSTAMP:20260422T000302
CREATED:20220915T015533Z
LAST-MODIFIED:20220915T015533Z
UID:10000868-1653091200-1653091200@www.interpride.org
SUMMARY:World Day for Cultural Diversity for Dialogue and Development
DESCRIPTION:
URL:https://www.interpride.org/event/world-day-for-cultural-diversity-for-dialogue-and-development/
CATEGORIES:IMPORTANT DATES
END:VEVENT
BEGIN:VEVENT
DTSTART;TZID=America/Los_Angeles:20220519T000000
DTEND;TZID=America/Los_Angeles:20220519T000000
DTSTAMP:20260422T000302
CREATED:20220915T015533Z
LAST-MODIFIED:20220915T015533Z
UID:10000867-1652918400-1652918400@www.interpride.org
SUMMARY:Agender Pride Day
DESCRIPTION:
URL:https://www.interpride.org/event/agender-pride-day/
CATEGORIES:IMPORTANT DATES
END:VEVENT
BEGIN:VEVENT
DTSTART;TZID=America/Los_Angeles:20220518T000000
DTEND;TZID=America/Los_Angeles:20220518T000000
DTSTAMP:20260422T000302
CREATED:20220915T015334Z
LAST-MODIFIED:20220915T015334Z
UID:10000866-1652832000-1652832000@www.interpride.org
SUMMARY:World AIDS Vaccine Day
DESCRIPTION:
URL:https://www.interpride.org/event/world-aids-vaccine-day/
CATEGORIES:IMPORTANT DATES
END:VEVENT
BEGIN:VEVENT
DTSTART;TZID=America/Los_Angeles:20220517T000000
DTEND;TZID=America/Los_Angeles:20220517T000000
DTSTAMP:20260422T000302
CREATED:20220915T015334Z
LAST-MODIFIED:20220915T015334Z
UID:10000865-1652745600-1652745600@www.interpride.org
SUMMARY:International Day Against Homophobia\, Transphobia + Biphobia
DESCRIPTION:
URL:https://www.interpride.org/event/international-day-against-homophobia-transphobia-biphobia/
CATEGORIES:IMPORTANT DATES
END:VEVENT
BEGIN:VEVENT
DTSTART;TZID=America/Los_Angeles:20220516T000000
DTEND;TZID=America/Los_Angeles:20220523T000000
DTSTAMP:20260422T000302
CREATED:20220915T015334Z
LAST-MODIFIED:20220915T015334Z
UID:10000864-1652659200-1653264000@www.interpride.org
SUMMARY:European HIV & Hepatitis Testing Week
DESCRIPTION:
URL:https://www.interpride.org/event/european-hiv-hepatitis-testing-week/
CATEGORIES:IMPORTANT DATES
END:VEVENT
BEGIN:VEVENT
DTSTART;TZID=America/Los_Angeles:20220515T000000
DTEND;TZID=America/Los_Angeles:20220515T000000
DTSTAMP:20260422T000302
CREATED:20220915T015333Z
LAST-MODIFIED:20220915T015333Z
UID:10000863-1652572800-1652572800@www.interpride.org
SUMMARY:International Day of Families
DESCRIPTION:
URL:https://www.interpride.org/event/international-day-of-families/
CATEGORIES:IMPORTANT DATES
END:VEVENT
BEGIN:VEVENT
DTSTART;TZID=America/Los_Angeles:20220503T000000
DTEND;TZID=America/Los_Angeles:20220503T000000
DTSTAMP:20260422T000302
CREATED:20220915T015333Z
LAST-MODIFIED:20220915T015333Z
UID:10000862-1651536000-1651536000@www.interpride.org
SUMMARY:World Press Freedom Day
DESCRIPTION:
URL:https://www.interpride.org/event/world-press-freedom-day/
CATEGORIES:IMPORTANT DATES
END:VEVENT
BEGIN:VEVENT
DTSTART;TZID=America/Los_Angeles:20220501T000000
DTEND;TZID=America/Los_Angeles:20220531T000000
DTSTAMP:20260422T000302
CREATED:20220915T015134Z
LAST-MODIFIED:20220915T015134Z
UID:10000859-1651363200-1653955200@www.interpride.org
SUMMARY:Asian/Pacific American Heritage Month
DESCRIPTION:
URL:https://www.interpride.org/event/asian-pacific-american-heritage-month/
CATEGORIES:IMPORTANT DATES
END:VEVENT
BEGIN:VEVENT
DTSTART;TZID=America/Los_Angeles:20220501T000000
DTEND;TZID=America/Los_Angeles:20220531T000000
DTSTAMP:20260422T000302
CREATED:20220915T015134Z
LAST-MODIFIED:20220915T015134Z
UID:10000860-1651363200-1653955200@www.interpride.org
SUMMARY:Mental Health Awareness Month
DESCRIPTION:
URL:https://www.interpride.org/event/mental-health-awareness-month/
CATEGORIES:IMPORTANT DATES
END:VEVENT
BEGIN:VEVENT
DTSTART;TZID=America/Los_Angeles:20220501T000000
DTEND;TZID=America/Los_Angeles:20220501T000000
DTSTAMP:20260422T000302
CREATED:20220915T015134Z
LAST-MODIFIED:20220915T015134Z
UID:10000861-1651363200-1651363200@www.interpride.org
SUMMARY:International Family Equality Day
DESCRIPTION:
URL:https://www.interpride.org/event/international-family-equality-day/
CATEGORIES:IMPORTANT DATES
END:VEVENT
BEGIN:VEVENT
DTSTART;TZID=America/Los_Angeles:20220430T000000
DTEND;TZID=America/Los_Angeles:20220430T000000
DTSTAMP:20260422T000302
CREATED:20220915T015133Z
LAST-MODIFIED:20220915T015133Z
UID:10000858-1651276800-1651276800@www.interpride.org
SUMMARY:Anniversary of the Admiral Duncan bombing (UK) (1999)
DESCRIPTION:
URL:https://www.interpride.org/event/anniversary-of-the-admiral-duncan-bombing-uk-1999/
CATEGORIES:IMPORTANT DATES
END:VEVENT
BEGIN:VEVENT
DTSTART;TZID=America/Los_Angeles:20220426T000000
DTEND;TZID=America/Los_Angeles:20220426T000000
DTSTAMP:20260422T000302
CREATED:20220915T014934Z
LAST-MODIFIED:20220915T014934Z
UID:10000856-1650931200-1650931200@www.interpride.org
SUMMARY:Lesbian Visibility Day
DESCRIPTION:
URL:https://www.interpride.org/event/lesbian-visibility-day/
CATEGORIES:IMPORTANT DATES
END:VEVENT
BEGIN:VEVENT
DTSTART;TZID=America/Los_Angeles:20220425T000000
DTEND;TZID=America/Los_Angeles:20220501T000000
DTSTAMP:20260422T000302
CREATED:20220915T015133Z
LAST-MODIFIED:20220915T015133Z
UID:10000857-1650844800-1651363200@www.interpride.org
SUMMARY:Lesbian Visibility Week
DESCRIPTION:
URL:https://www.interpride.org/event/lesbian-visibility-week/
CATEGORIES:IMPORTANT DATES
END:VEVENT
BEGIN:VEVENT
DTSTART;TZID=America/Los_Angeles:20220422T000000
DTEND;TZID=America/Los_Angeles:20220422T000000
DTSTAMP:20260422T000302
CREATED:20220915T014934Z
LAST-MODIFIED:20220915T014934Z
UID:10000855-1650585600-1650585600@www.interpride.org
SUMMARY:Earth Day
DESCRIPTION:
URL:https://www.interpride.org/event/earth-day/
CATEGORIES:IMPORTANT DATES
END:VEVENT
BEGIN:VEVENT
DTSTART;TZID=America/Los_Angeles:20220421T000000
DTEND;TZID=America/Los_Angeles:20220421T000000
DTSTAMP:20260422T000302
CREATED:20220915T014933Z
LAST-MODIFIED:20220915T014933Z
UID:10000854-1650499200-1650499200@www.interpride.org
SUMMARY:World Creativity and Innovation Day
DESCRIPTION:
URL:https://www.interpride.org/event/world-creativity-and-innovation-day/
CATEGORIES:IMPORTANT DATES
END:VEVENT
BEGIN:VEVENT
DTSTART;TZID=America/Los_Angeles:20220418T000000
DTEND;TZID=America/Los_Angeles:20220418T000000
DTSTAMP:20260422T000302
CREATED:20220915T014933Z
LAST-MODIFIED:20220915T014933Z
UID:10000853-1650240000-1650240000@www.interpride.org
SUMMARY:National Transgender HIV Testing Day
DESCRIPTION:
URL:https://www.interpride.org/event/national-transgender-hiv-testing-day/
CATEGORIES:IMPORTANT DATES
END:VEVENT
BEGIN:VEVENT
DTSTART;TZID=America/Los_Angeles:20220407T000000
DTEND;TZID=America/Los_Angeles:20220407T000000
DTSTAMP:20260422T000302
CREATED:20220915T014933Z
LAST-MODIFIED:20220915T014933Z
UID:10000852-1649289600-1649289600@www.interpride.org
SUMMARY:World Health Day/International Day of Reflection on the 1994 Rwandan Genocide
DESCRIPTION:
URL:https://www.interpride.org/event/world-health-day-international-day-of-reflection-on-the-1994-rwandan-genocide/
CATEGORIES:IMPORTANT DATES
END:VEVENT
BEGIN:VEVENT
DTSTART;TZID=America/Los_Angeles:20220406T000000
DTEND;TZID=America/Los_Angeles:20220406T000000
DTSTAMP:20260422T000302
CREATED:20220915T014735Z
LAST-MODIFIED:20220915T014735Z
UID:10000851-1649203200-1649203200@www.interpride.org
SUMMARY:International Asexuality Day
DESCRIPTION:
URL:https://www.interpride.org/event/international-asexuality-day/
CATEGORIES:IMPORTANT DATES
END:VEVENT
BEGIN:VEVENT
DTSTART;TZID=America/Los_Angeles:20220402T000000
DTEND;TZID=America/Los_Angeles:20220402T000000
DTSTAMP:20260422T000302
CREATED:20220915T014735Z
LAST-MODIFIED:20220915T014735Z
UID:10000850-1648857600-1648857600@www.interpride.org
SUMMARY:World Autism Awareness Day
DESCRIPTION:
URL:https://www.interpride.org/event/world-autism-awareness-day/
CATEGORIES:IMPORTANT DATES
END:VEVENT
BEGIN:VEVENT
DTSTART;TZID=America/Los_Angeles:20220401T000000
DTEND;TZID=America/Los_Angeles:20220430T000000
DTSTAMP:20260422T000302
CREATED:20220915T014734Z
LAST-MODIFIED:20220915T014734Z
UID:10000849-1648771200-1651276800@www.interpride.org
SUMMARY:Arab Heritage Month
DESCRIPTION:
URL:https://www.interpride.org/event/arab-heritage-month/
CATEGORIES:IMPORTANT DATES
END:VEVENT
BEGIN:VEVENT
DTSTART;TZID=America/Los_Angeles:20220401T000000
DTEND;TZID=America/Los_Angeles:20220430T000000
DTSTAMP:20260422T000302
CREATED:20220915T014733Z
LAST-MODIFIED:20220915T014733Z
UID:10000848-1648771200-1651276800@www.interpride.org
SUMMARY:Sexual Assault Awareness Month
DESCRIPTION:
URL:https://www.interpride.org/event/sexual-assault-awareness-month/
CATEGORIES:IMPORTANT DATES
END:VEVENT
BEGIN:VEVENT
DTSTART;TZID=America/Los_Angeles:20220331T000000
DTEND;TZID=America/Los_Angeles:20220331T000000
DTSTAMP:20260422T000302
CREATED:20220915T014733Z
LAST-MODIFIED:20220915T014733Z
UID:10000847-1648684800-1648684800@www.interpride.org
SUMMARY:International Transgender Day of Visibility
DESCRIPTION:
URL:https://www.interpride.org/event/international-transgender-day-of-visibility/
CATEGORIES:IMPORTANT DATES
END:VEVENT
END:VCALENDAR