BEGIN:VCALENDAR
VERSION:2.0
PRODID:-//InterPride - ECPv6.15.20//NONSGML v1.0//EN
CALSCALE:GREGORIAN
METHOD:PUBLISH
X-ORIGINAL-URL:https://www.interpride.org
X-WR-CALDESC:Events for InterPride
REFRESH-INTERVAL;VALUE=DURATION:PT1H
X-Robots-Tag:noindex
X-PUBLISHED-TTL:PT1H
BEGIN:VTIMEZONE
TZID:America/Los_Angeles
BEGIN:DAYLIGHT
TZOFFSETFROM:-0800
TZOFFSETTO:-0700
TZNAME:PDT
DTSTART:20220313T100000
END:DAYLIGHT
BEGIN:STANDARD
TZOFFSETFROM:-0700
TZOFFSETTO:-0800
TZNAME:PST
DTSTART:20221106T090000
END:STANDARD
BEGIN:DAYLIGHT
TZOFFSETFROM:-0800
TZOFFSETTO:-0700
TZNAME:PDT
DTSTART:20230312T100000
END:DAYLIGHT
BEGIN:STANDARD
TZOFFSETFROM:-0700
TZOFFSETTO:-0800
TZNAME:PST
DTSTART:20231105T090000
END:STANDARD
BEGIN:DAYLIGHT
TZOFFSETFROM:-0800
TZOFFSETTO:-0700
TZNAME:PDT
DTSTART:20240310T100000
END:DAYLIGHT
BEGIN:STANDARD
TZOFFSETFROM:-0700
TZOFFSETTO:-0800
TZNAME:PST
DTSTART:20241103T090000
END:STANDARD
END:VTIMEZONE
BEGIN:VEVENT
DTSTART;TZID=America/Los_Angeles:20231111T000000
DTEND;TZID=America/Los_Angeles:20231111T000000
DTSTAMP:20260422T090710
CREATED:20230109T230045Z
LAST-MODIFIED:20230109T230045Z
UID:10001153-1699660800-1699660800@www.interpride.org
SUMMARY:Hong Kong Pride Parade
DESCRIPTION:Hong Kong (R19)
URL:https://www.interpride.org/event/hong-kong-pride-parade-2/
LOCATION:Bangkok
CATEGORIES:PRIDE EVENT
END:VEVENT
BEGIN:VEVENT
DTSTART;TZID=America/Los_Angeles:20231111T000000
DTEND;TZID=America/Los_Angeles:20231111T000000
DTSTAMP:20260422T090710
CREATED:20230109T223307Z
LAST-MODIFIED:20230109T223307Z
UID:10001101-1699660800-1699660800@www.interpride.org
SUMMARY:Les Corner Empowerment Association
DESCRIPTION:Hong Kong (R19)
URL:https://www.interpride.org/event/les-corner-empowerment-association-2/
LOCATION:Bangkok
CATEGORIES:PRIDE EVENT
END:VEVENT
BEGIN:VEVENT
DTSTART;TZID=America/Los_Angeles:20231025T000000
DTEND;TZID=America/Los_Angeles:20231029T000000
DTSTAMP:20260422T090710
CREATED:20220825T204201Z
LAST-MODIFIED:20220825T204201Z
UID:10000828-1698192000-1698537600@www.interpride.org
SUMMARY:InterPride Annual General Meeting & World Conference 2023
DESCRIPTION:
URL:https://www.interpride.org/event/interpride-annual-general-meeting-world-conference-2023/
LOCATION:Bangkok
CATEGORIES:PRIDE EVENT
END:VEVENT
BEGIN:VEVENT
DTSTART;TZID=America/Los_Angeles:20231021T000000
DTEND;TZID=America/Los_Angeles:20231021T000000
DTSTAMP:20260422T090710
CREATED:20230109T230512Z
LAST-MODIFIED:20230109T230512Z
UID:10001166-1697846400-1697846400@www.interpride.org
SUMMARY:Phoenix Pride
DESCRIPTION:United States
URL:https://www.interpride.org/event/phoenix-pride-2/
LOCATION:Bangkok
CATEGORIES:PRIDE EVENT
END:VEVENT
BEGIN:VEVENT
DTSTART;TZID=America/Los_Angeles:20231021T000000
DTEND;TZID=America/Los_Angeles:20231021T000000
DTSTAMP:20260422T090710
CREATED:20230109T224215Z
LAST-MODIFIED:20230109T224215Z
UID:10001139-1697846400-1697846400@www.interpride.org
SUMMARY:Central Arkansas Pride
DESCRIPTION:United States
URL:https://www.interpride.org/event/central-arkansas-pride-2/
LOCATION:Bangkok
CATEGORIES:PRIDE EVENT
END:VEVENT
BEGIN:VEVENT
DTSTART;TZID=America/Los_Angeles:20231015T000000
DTEND;TZID=America/Los_Angeles:20231015T000000
DTSTAMP:20260422T090710
CREATED:20230109T223308Z
LAST-MODIFIED:20230109T223308Z
UID:10001105-1697328000-1697328000@www.interpride.org
SUMMARY:Gandhinagar Queer Pride Foundation
DESCRIPTION:India (R19)
URL:https://www.interpride.org/event/gandhinagar-queer-pride-foundation/
LOCATION:Bangkok
CATEGORIES:PRIDE EVENT
END:VEVENT
BEGIN:VEVENT
DTSTART;TZID=America/Los_Angeles:20231007T000000
DTEND;TZID=America/Los_Angeles:20231007T000000
DTSTAMP:20260422T090710
CREATED:20230109T231007Z
LAST-MODIFIED:20230109T231007Z
UID:10001174-1696636800-1696636800@www.interpride.org
SUMMARY:Spencer Pride\, Inc.
DESCRIPTION:United States
URL:https://www.interpride.org/event/spencer-pride-inc-2/
LOCATION:Bangkok
CATEGORIES:PRIDE EVENT
END:VEVENT
BEGIN:VEVENT
DTSTART;TZID=America/Los_Angeles:20231007T000000
DTEND;TZID=America/Los_Angeles:20231007T000000
DTSTAMP:20260422T090710
CREATED:20230109T230247Z
LAST-MODIFIED:20230109T230247Z
UID:10001158-1696636800-1696636800@www.interpride.org
SUMMARY:Macomb County Pride
DESCRIPTION:United States
URL:https://www.interpride.org/event/macomb-county-pride/
LOCATION:Bangkok
CATEGORIES:PRIDE EVENT
END:VEVENT
BEGIN:VEVENT
DTSTART;TZID=America/Los_Angeles:20230930T000000
DTEND;TZID=America/Los_Angeles:20230930T000000
DTSTAMP:20260422T090710
CREATED:20230109T223251Z
LAST-MODIFIED:20230109T223251Z
UID:10001095-1696032000-1696032000@www.interpride.org
SUMMARY:Columbus IN Pride
DESCRIPTION:United States
URL:https://www.interpride.org/event/columbus-in-pride-2/
LOCATION:Bangkok
CATEGORIES:PRIDE EVENT
END:VEVENT
BEGIN:VEVENT
DTSTART;TZID=America/Los_Angeles:20230923T000000
DTEND;TZID=America/Los_Angeles:20230923T000000
DTSTAMP:20260422T090710
CREATED:20230109T231007Z
LAST-MODIFIED:20230109T231007Z
UID:10001173-1695427200-1695427200@www.interpride.org
SUMMARY:South Georgia Pride\, Inc.
DESCRIPTION:United States
URL:https://www.interpride.org/event/south-georgia-pride-inc-2/
LOCATION:Bangkok
CATEGORIES:PRIDE EVENT
END:VEVENT
BEGIN:VEVENT
DTSTART;TZID=America/Los_Angeles:20230923T000000
DTEND;TZID=America/Los_Angeles:20230923T000000
DTSTAMP:20260422T090710
CREATED:20230109T224013Z
LAST-MODIFIED:20230109T224013Z
UID:10001133-1695427200-1695427200@www.interpride.org
SUMMARY:Space Coast Pride\, Inc.
DESCRIPTION:United States
URL:https://www.interpride.org/event/space-coast-pride-inc-2/
LOCATION:Bangkok
CATEGORIES:PRIDE EVENT
END:VEVENT
BEGIN:VEVENT
DTSTART;TZID=America/Los_Angeles:20230915T170000
DTEND;TZID=America/Los_Angeles:20230915T170000
DTSTAMP:20260422T090710
CREATED:20220814T003122Z
LAST-MODIFIED:20220814T003122Z
UID:10000676-1694797200-1694797200@www.interpride.org
SUMMARY:Southwest Virginia Pride\, Inc.
DESCRIPTION:
URL:https://www.interpride.org/event/southwest-virginia-pride-inc/
LOCATION:Bangkok
CATEGORIES:PRIDE EVENT
END:VEVENT
BEGIN:VEVENT
DTSTART;TZID=America/Los_Angeles:20230910T000000
DTEND;TZID=America/Los_Angeles:20230910T000000
DTSTAMP:20260422T090710
CREATED:20230109T223408Z
LAST-MODIFIED:20230109T223408Z
UID:10001123-1694304000-1694304000@www.interpride.org
SUMMARY:Riverside LGBTQ+ Pride
DESCRIPTION:United States
URL:https://www.interpride.org/event/riverside-lgbtq-pride-2/
LOCATION:Bangkok
CATEGORIES:PRIDE EVENT
END:VEVENT
BEGIN:VEVENT
DTSTART;TZID=America/Los_Angeles:20230909T000000
DTEND;TZID=America/Los_Angeles:20230909T000000
DTSTAMP:20260422T090710
CREATED:20230109T224013Z
LAST-MODIFIED:20230109T224013Z
UID:10001131-1694217600-1694217600@www.interpride.org
SUMMARY:South Central Minnesota Pride
DESCRIPTION:United States
URL:https://www.interpride.org/event/south-central-minnesota-pride-2/
LOCATION:Bangkok
CATEGORIES:PRIDE EVENT
END:VEVENT
BEGIN:VEVENT
DTSTART;TZID=America/Los_Angeles:20230907T000000
DTEND;TZID=America/Los_Angeles:20230917T000000
DTSTAMP:20260422T090710
CREATED:20220825T204159Z
LAST-MODIFIED:20220825T204159Z
UID:10000827-1694044800-1694908800@www.interpride.org
SUMMARY:EuroPride 2023
DESCRIPTION:
URL:https://www.interpride.org/event/europride-2023/
LOCATION:Bangkok
CATEGORIES:PRIDE EVENT
END:VEVENT
BEGIN:VEVENT
DTSTART;TZID=America/Los_Angeles:20230826T000000
DTEND;TZID=America/Los_Angeles:20230826T000000
DTSTAMP:20260422T090710
CREATED:20230109T224013Z
LAST-MODIFIED:20230109T224013Z
UID:10001132-1693008000-1693008000@www.interpride.org
SUMMARY:South Bay Alliance Association Incorporated
DESCRIPTION:United States
URL:https://www.interpride.org/event/south-bay-alliance-association-incorporated/
LOCATION:Bangkok
CATEGORIES:PRIDE EVENT
END:VEVENT
BEGIN:VEVENT
DTSTART;TZID=America/Los_Angeles:20230826T000000
DTEND;TZID=America/Los_Angeles:20230826T000000
DTSTAMP:20260422T090710
CREATED:20230109T223608Z
LAST-MODIFIED:20230109T223608Z
UID:10001125-1693008000-1693008000@www.interpride.org
SUMMARY:Jersey City LGBTQ+ Pride Festival
DESCRIPTION:United States
URL:https://www.interpride.org/event/jersey-city-lgbtq-pride-festival-2/
LOCATION:Bangkok
CATEGORIES:PRIDE EVENT
END:VEVENT
BEGIN:VEVENT
DTSTART;TZID=America/Los_Angeles:20230824T000000
DTEND;TZID=America/Los_Angeles:20230824T000000
DTSTAMP:20260422T090710
CREATED:20230109T223308Z
LAST-MODIFIED:20230109T223308Z
UID:10001104-1692835200-1692835200@www.interpride.org
SUMMARY:FAIRNY
DESCRIPTION:United States
URL:https://www.interpride.org/event/fairny-2/
LOCATION:Bangkok
CATEGORIES:PRIDE EVENT
END:VEVENT
BEGIN:VEVENT
DTSTART;TZID=America/Los_Angeles:20230820T000000
DTEND;TZID=America/Los_Angeles:20230820T000000
DTSTAMP:20260422T090710
CREATED:20230109T225628Z
LAST-MODIFIED:20230109T225628Z
UID:10001142-1692489600-1692489600@www.interpride.org
SUMMARY:Bradbury-Sullivan LGBT Community Center
DESCRIPTION:United States
URL:https://www.interpride.org/event/bradbury-sullivan-lgbt-community-center-2/
LOCATION:Bangkok
CATEGORIES:PRIDE EVENT
END:VEVENT
BEGIN:VEVENT
DTSTART;TZID=America/Los_Angeles:20230819T000000
DTEND;TZID=America/Los_Angeles:20230819T000000
DTSTAMP:20260422T090710
CREATED:20230109T223408Z
LAST-MODIFIED:20230109T223408Z
UID:10001124-1692403200-1692403200@www.interpride.org
SUMMARY:Warwickshire Pride
DESCRIPTION:United Kingdom (R10)
URL:https://www.interpride.org/event/warwickshire-pride-2/
LOCATION:Bangkok
CATEGORIES:PRIDE EVENT
END:VEVENT
BEGIN:VEVENT
DTSTART;TZID=America/Los_Angeles:20230819T000000
DTEND;TZID=America/Los_Angeles:20230819T000000
DTSTAMP:20260422T090710
CREATED:20230109T223307Z
LAST-MODIFIED:20230109T223307Z
UID:10001102-1692403200-1692403200@www.interpride.org
SUMMARY:Charlotte Pride
DESCRIPTION:United States
URL:https://www.interpride.org/event/charlotte-pride-2/
LOCATION:Bangkok
CATEGORIES:PRIDE EVENT
END:VEVENT
BEGIN:VEVENT
DTSTART;TZID=America/Los_Angeles:20230819T000000
DTEND;TZID=America/Los_Angeles:20230819T000000
DTSTAMP:20260422T090710
CREATED:20230109T223307Z
LAST-MODIFIED:20230109T223307Z
UID:10001103-1692403200-1692403200@www.interpride.org
SUMMARY:CSD Magdeburg e.V.
DESCRIPTION:Germany (R12)
URL:https://www.interpride.org/event/csd-magdeburg-e-v/
LOCATION:Bangkok
CATEGORIES:PRIDE EVENT
END:VEVENT
BEGIN:VEVENT
DTSTART;TZID=America/Los_Angeles:20230812T000000
DTEND;TZID=America/Los_Angeles:20230812T000000
DTSTAMP:20260422T090710
CREATED:20230109T225844Z
LAST-MODIFIED:20230109T225844Z
UID:10001148-1691798400-1691798400@www.interpride.org
SUMMARY:CSD Rhein Neckar e.V.
DESCRIPTION:Germany (R12)
URL:https://www.interpride.org/event/csd-rhein-neckar-e-v/
LOCATION:Bangkok
CATEGORIES:PRIDE EVENT
END:VEVENT
BEGIN:VEVENT
DTSTART;TZID=America/Los_Angeles:20230812T000000
DTEND;TZID=America/Los_Angeles:20230812T000000
DTSTAMP:20260422T090710
CREATED:20230109T223352Z
LAST-MODIFIED:20230109T223352Z
UID:10001116-1691798400-1691798400@www.interpride.org
SUMMARY:Eugene Springfield Pride Festival
DESCRIPTION:United States
URL:https://www.interpride.org/event/eugene-springfield-pride-festival/
LOCATION:Bangkok
CATEGORIES:PRIDE EVENT
END:VEVENT
BEGIN:VEVENT
DTSTART;TZID=America/Los_Angeles:20230806T000000
DTEND;TZID=America/Los_Angeles:20230806T000000
DTSTAMP:20260422T090710
CREATED:20230109T231212Z
LAST-MODIFIED:20230109T231212Z
UID:10001181-1691280000-1691280000@www.interpride.org
SUMMARY:Vancouver Pride Society
DESCRIPTION:Canada (R7)
URL:https://www.interpride.org/event/vancouver-pride-society/
LOCATION:Bangkok
CATEGORIES:PRIDE EVENT
END:VEVENT
BEGIN:VEVENT
DTSTART;TZID=America/Los_Angeles:20230805T000000
DTEND;TZID=America/Los_Angeles:20230805T000000
DTSTAMP:20260422T090710
CREATED:20230109T223322Z
LAST-MODIFIED:20230109T223322Z
UID:10001106-1691193600-1691193600@www.interpride.org
SUMMARY:Pride Amsterdam
DESCRIPTION:Netherlands (R13)
URL:https://www.interpride.org/event/pride-amsterdam/
LOCATION:Bangkok
CATEGORIES:PRIDE EVENT
END:VEVENT
BEGIN:VEVENT
DTSTART;TZID=America/Los_Angeles:20230803T000000
DTEND;TZID=America/Los_Angeles:20230803T000000
DTSTAMP:20260422T090710
CREATED:20230109T223353Z
LAST-MODIFIED:20230109T223353Z
UID:10001117-1691020800-1691020800@www.interpride.org
SUMMARY:Fierté Montréal
DESCRIPTION:Canada (R7)
URL:https://www.interpride.org/event/fierte-montreal/
LOCATION:Bangkok
CATEGORIES:PRIDE EVENT
END:VEVENT
BEGIN:VEVENT
DTSTART;TZID=America/Los_Angeles:20230730T000000
DTEND;TZID=America/Los_Angeles:20230730T000000
DTSTAMP:20260422T090710
CREATED:20230109T230248Z
LAST-MODIFIED:20230109T230248Z
UID:10001162-1690675200-1690675200@www.interpride.org
SUMMARY:Muskoka Pride Community
DESCRIPTION:Canada (R7)
URL:https://www.interpride.org/event/muskoka-pride-community/
LOCATION:Bangkok
CATEGORIES:PRIDE EVENT
END:VEVENT
BEGIN:VEVENT
DTSTART;TZID=America/Los_Angeles:20230730T000000
DTEND;TZID=America/Los_Angeles:20230730T000000
DTSTAMP:20260422T090710
CREATED:20230109T223252Z
LAST-MODIFIED:20230109T223252Z
UID:10001096-1690675200-1690675200@www.interpride.org
SUMMARY:Fierté littéraire
DESCRIPTION:Canada (R7)
URL:https://www.interpride.org/event/fierte-litteraire/
LOCATION:Bangkok
CATEGORIES:PRIDE EVENT
END:VEVENT
BEGIN:VEVENT
DTSTART;TZID=America/Los_Angeles:20230728T170000
DTEND;TZID=America/Los_Angeles:20230728T170000
DTSTAMP:20260422T090710
CREATED:20220814T003333Z
LAST-MODIFIED:20220814T003333Z
UID:10000725-1690563600-1690563600@www.interpride.org
SUMMARY:Arcoiris
DESCRIPTION:
URL:https://www.interpride.org/event/arcoiris/
LOCATION:Bangkok
CATEGORIES:PRIDE EVENT
END:VEVENT
END:VCALENDAR