BEGIN:VCALENDAR
VERSION:2.0
PRODID:-//InterPride - ECPv6.15.20//NONSGML v1.0//EN
CALSCALE:GREGORIAN
METHOD:PUBLISH
X-WR-CALNAME:InterPride
X-ORIGINAL-URL:https://www.interpride.org
X-WR-CALDESC:Events for InterPride
REFRESH-INTERVAL;VALUE=DURATION:PT1H
X-Robots-Tag:noindex
X-PUBLISHED-TTL:PT1H
BEGIN:VTIMEZONE
TZID:America/Los_Angeles
BEGIN:DAYLIGHT
TZOFFSETFROM:-0800
TZOFFSETTO:-0700
TZNAME:PDT
DTSTART:20210314T100000
END:DAYLIGHT
BEGIN:STANDARD
TZOFFSETFROM:-0700
TZOFFSETTO:-0800
TZNAME:PST
DTSTART:20211107T090000
END:STANDARD
BEGIN:DAYLIGHT
TZOFFSETFROM:-0800
TZOFFSETTO:-0700
TZNAME:PDT
DTSTART:20220313T100000
END:DAYLIGHT
BEGIN:STANDARD
TZOFFSETFROM:-0700
TZOFFSETTO:-0800
TZNAME:PST
DTSTART:20221106T090000
END:STANDARD
BEGIN:DAYLIGHT
TZOFFSETFROM:-0800
TZOFFSETTO:-0700
TZNAME:PDT
DTSTART:20230312T100000
END:DAYLIGHT
BEGIN:STANDARD
TZOFFSETFROM:-0700
TZOFFSETTO:-0800
TZNAME:PST
DTSTART:20231105T090000
END:STANDARD
END:VTIMEZONE
BEGIN:VEVENT
DTSTART;TZID=America/Los_Angeles:20221007T170000
DTEND;TZID=America/Los_Angeles:20221007T170000
DTSTAMP:20260423T134551
CREATED:20220814T004544Z
LAST-MODIFIED:20220814T004544Z
UID:10000779-1665162000-1665162000@www.interpride.org
SUMMARY:Atlanta Pride Committee
DESCRIPTION:
URL:https://www.interpride.org/event/atlanta-pride-committee/
CATEGORIES:PRIDE EVENT
END:VEVENT
BEGIN:VEVENT
DTSTART;TZID=America/Los_Angeles:20221007T170000
DTEND;TZID=America/Los_Angeles:20221007T170000
DTSTAMP:20260423T134551
CREATED:20220814T003155Z
LAST-MODIFIED:20220814T003155Z
UID:10000700-1665162000-1665162000@www.interpride.org
SUMMARY:Las Vegas PRIDE
DESCRIPTION:
URL:https://www.interpride.org/event/las-vegas-pride/
CATEGORIES:PRIDE EVENT
END:VEVENT
BEGIN:VEVENT
DTSTART;TZID=America/Los_Angeles:20221007T170000
DTEND;TZID=America/Los_Angeles:20221007T170000
DTSTAMP:20260423T134551
CREATED:20220814T003154Z
LAST-MODIFIED:20220814T003154Z
UID:10000699-1665162000-1665162000@www.interpride.org
SUMMARY:Pride Myrtle Beach Inc.
DESCRIPTION:
URL:https://www.interpride.org/event/pride-myrtle-beach-inc/
CATEGORIES:PRIDE EVENT
END:VEVENT
BEGIN:VEVENT
DTSTART;TZID=America/Los_Angeles:20221007T000000
DTEND;TZID=America/Los_Angeles:20221009T000000
DTSTAMP:20260423T134551
CREATED:20220825T204146Z
LAST-MODIFIED:20220825T204146Z
UID:10000822-1665100800-1665273600@www.interpride.org
SUMMARY:European Pride Organisers Association (EPOA) Annual General Meeting
DESCRIPTION:
URL:https://www.interpride.org/event/european-pride-organisers-association-epoa-annual-general-meeting/
CATEGORIES:PRIDE EVENT
END:VEVENT
BEGIN:VEVENT
DTSTART;TZID=America/Los_Angeles:20221005T170000
DTEND;TZID=America/Los_Angeles:20221005T170000
DTSTAMP:20260423T134551
CREATED:20220814T003154Z
LAST-MODIFIED:20220814T003154Z
UID:10000698-1664989200-1664989200@www.interpride.org
SUMMARY:Newcastle Pride
DESCRIPTION:
URL:https://www.interpride.org/event/newcastle-pride/
CATEGORIES:PRIDE EVENT
END:VEVENT
BEGIN:VEVENT
DTSTART;TZID=America/Los_Angeles:20221001T170000
DTEND;TZID=America/Los_Angeles:20221001T170000
DTSTAMP:20260423T134551
CREATED:20220814T004004Z
LAST-MODIFIED:20220814T004004Z
UID:10000760-1664643600-1664643600@www.interpride.org
SUMMARY:Asexual Pride Asia
DESCRIPTION:
URL:https://www.interpride.org/event/asexual-pride-asia/
CATEGORIES:PRIDE EVENT
END:VEVENT
BEGIN:VEVENT
DTSTART;TZID=America/Los_Angeles:20220930T170000
DTEND;TZID=America/Los_Angeles:20220930T170000
DTSTAMP:20260423T134551
CREATED:20220814T003803Z
LAST-MODIFIED:20220814T003803Z
UID:10000755-1664557200-1664557200@www.interpride.org
SUMMARY:Pretoria Pride
DESCRIPTION:
URL:https://www.interpride.org/event/pretoria-pride/
CATEGORIES:PRIDE EVENT
END:VEVENT
BEGIN:VEVENT
DTSTART;TZID=America/Los_Angeles:20220930T170000
DTEND;TZID=America/Los_Angeles:20220930T170000
DTSTAMP:20260423T134551
CREATED:20220814T003139Z
LAST-MODIFIED:20220814T003139Z
UID:10000688-1664557200-1664557200@www.interpride.org
SUMMARY:River City Pride - Jacksonville
DESCRIPTION:
URL:https://www.interpride.org/event/river-city-pride-jacksonville/
CATEGORIES:PRIDE EVENT
END:VEVENT
BEGIN:VEVENT
DTSTART;TZID=America/Los_Angeles:20220929T170000
DTEND;TZID=America/Los_Angeles:20220929T170000
DTSTAMP:20260423T134551
CREATED:20220814T003034Z
LAST-MODIFIED:20220814T003034Z
UID:10000641-1664470800-1664470800@www.interpride.org
SUMMARY:Banff Pride Society
DESCRIPTION:
URL:https://www.interpride.org/event/banff-pride-society/
CATEGORIES:PRIDE EVENT
END:VEVENT
BEGIN:VEVENT
DTSTART;TZID=America/Los_Angeles:20220924T170000
DTEND;TZID=America/Los_Angeles:20220924T170000
DTSTAMP:20260423T134551
CREATED:20220814T003349Z
LAST-MODIFIED:20220814T003349Z
UID:10000730-1664038800-1664038800@www.interpride.org
SUMMARY:Diversidad Frontera
DESCRIPTION:
URL:https://www.interpride.org/event/diversidad-frontera/
CATEGORIES:PRIDE EVENT
END:VEVENT
BEGIN:VEVENT
DTSTART;TZID=America/Los_Angeles:20220923T170000
DTEND;TZID=America/Los_Angeles:20220923T170000
DTSTAMP:20260423T134551
CREATED:20220814T004738Z
LAST-MODIFIED:20220814T004738Z
UID:10000810-1663952400-1663952400@www.interpride.org
SUMMARY:Tampa Pride
DESCRIPTION:
URL:https://www.interpride.org/event/tampa-pride/
CATEGORIES:PRIDE EVENT
END:VEVENT
BEGIN:VEVENT
DTSTART;TZID=America/Los_Angeles:20220923T170000
DTEND;TZID=America/Los_Angeles:20220923T170000
DTSTAMP:20260423T134551
CREATED:20220814T004646Z
LAST-MODIFIED:20220814T004646Z
UID:10000799-1663952400-1663952400@www.interpride.org
SUMMARY:Virginia Pride
DESCRIPTION:
URL:https://www.interpride.org/event/virginia-pride/
CATEGORIES:PRIDE EVENT
END:VEVENT
BEGIN:VEVENT
DTSTART;TZID=America/Los_Angeles:20220923T170000
DTEND;TZID=America/Los_Angeles:20220923T170000
DTSTAMP:20260423T134551
CREATED:20220814T004551Z
LAST-MODIFIED:20220814T004551Z
UID:10000786-1663952400-1663952400@www.interpride.org
SUMMARY:Columbus IN Pride
DESCRIPTION:
URL:https://www.interpride.org/event/columbus-in-pride/
CATEGORIES:PRIDE EVENT
END:VEVENT
BEGIN:VEVENT
DTSTART;TZID=America/Los_Angeles:20220923T170000
DTEND;TZID=America/Los_Angeles:20220923T170000
DTSTAMP:20260423T134551
CREATED:20220814T004407Z
LAST-MODIFIED:20220814T004407Z
UID:10000773-1663952400-1663952400@www.interpride.org
SUMMARY:Space Coast Pride\, Inc.
DESCRIPTION:
URL:https://www.interpride.org/event/space-coast-pride-inc/
CATEGORIES:PRIDE EVENT
END:VEVENT
BEGIN:VEVENT
DTSTART;TZID=America/Los_Angeles:20220923T170000
DTEND;TZID=America/Los_Angeles:20220923T170000
DTSTAMP:20260423T134551
CREATED:20220814T003253Z
LAST-MODIFIED:20220814T003253Z
UID:10000710-1663952400-1663952400@www.interpride.org
SUMMARY:Colonia Diversa
DESCRIPTION:
URL:https://www.interpride.org/event/colonia-diversa/
CATEGORIES:PRIDE EVENT
END:VEVENT
BEGIN:VEVENT
DTSTART;TZID=America/Los_Angeles:20220923T170000
DTEND;TZID=America/Los_Angeles:20220923T170000
DTSTAMP:20260423T134551
CREATED:20220814T002909Z
LAST-MODIFIED:20220814T002909Z
UID:10000628-1663952400-1663952400@www.interpride.org
SUMMARY:Cumbria LGBT Pride
DESCRIPTION:
URL:https://www.interpride.org/event/cumbria-lgbt-pride/
CATEGORIES:PRIDE EVENT
END:VEVENT
BEGIN:VEVENT
DTSTART;TZID=America/Los_Angeles:20220917T170000
DTEND;TZID=America/Los_Angeles:20220917T170000
DTSTAMP:20260423T134551
CREATED:20220814T004005Z
LAST-MODIFIED:20220814T004005Z
UID:10000761-1663434000-1663434000@www.interpride.org
SUMMARY:Pride Center of Vermont / Pride Vermont
DESCRIPTION:
URL:https://www.interpride.org/event/pride-center-of-vermont-pride-vermont/
CATEGORIES:PRIDE EVENT
END:VEVENT
BEGIN:VEVENT
DTSTART;TZID=America/Los_Angeles:20220917T170000
DTEND;TZID=America/Los_Angeles:20220917T170000
DTSTAMP:20260423T134551
CREATED:20220814T003108Z
LAST-MODIFIED:20220814T003108Z
UID:10000660-1663434000-1663434000@www.interpride.org
SUMMARY:Grupo Ellos
DESCRIPTION:
URL:https://www.interpride.org/event/grupo-ellos/
CATEGORIES:PRIDE EVENT
END:VEVENT
BEGIN:VEVENT
DTSTART;TZID=America/Los_Angeles:20220916T170000
DTEND;TZID=America/Los_Angeles:20220916T170000
DTSTAMP:20260423T134551
CREATED:20220814T003332Z
LAST-MODIFIED:20220814T003332Z
UID:10000724-1663347600-1663347600@www.interpride.org
SUMMARY:Huntsville Texas Pride
DESCRIPTION:
URL:https://www.interpride.org/event/huntsville-texas-pride/
CATEGORIES:PRIDE EVENT
END:VEVENT
BEGIN:VEVENT
DTSTART;TZID=America/Los_Angeles:20220912T000000
DTEND;TZID=America/Los_Angeles:20220918T000000
DTSTAMP:20260423T134551
CREATED:20220825T204145Z
LAST-MODIFIED:20220825T204145Z
UID:10000821-1662940800-1663459200@www.interpride.org
SUMMARY:EuroPride 2022
DESCRIPTION:
URL:https://www.interpride.org/event/europride-2022/
CATEGORIES:PRIDE EVENT
END:VEVENT
BEGIN:VEVENT
DTSTART;TZID=America/Los_Angeles:20220909T170000
DTEND;TZID=America/Los_Angeles:20220909T170000
DTSTAMP:20260423T134551
CREATED:20220814T003348Z
LAST-MODIFIED:20220814T003348Z
UID:10000728-1662742800-1662742800@www.interpride.org
SUMMARY:Union County Pride\, Inc
DESCRIPTION:
URL:https://www.interpride.org/event/union-county-pride-inc/
CATEGORIES:PRIDE EVENT
END:VEVENT
BEGIN:VEVENT
DTSTART;TZID=America/Los_Angeles:20220909T170000
DTEND;TZID=America/Los_Angeles:20220909T170000
DTSTAMP:20260423T134551
CREATED:20220814T003133Z
LAST-MODIFIED:20220814T003133Z
UID:10000685-1662742800-1662742800@www.interpride.org
SUMMARY:South Central Minnesota Pride
DESCRIPTION:
URL:https://www.interpride.org/event/south-central-minnesota-pride/
CATEGORIES:PRIDE EVENT
END:VEVENT
BEGIN:VEVENT
DTSTART;TZID=America/Los_Angeles:20220909T170000
DTEND;TZID=America/Los_Angeles:20220909T170000
DTSTAMP:20260423T134551
CREATED:20220814T003045Z
LAST-MODIFIED:20220814T003045Z
UID:10000650-1662742800-1662742800@www.interpride.org
SUMMARY:Fierte Timmins Pride
DESCRIPTION:
URL:https://www.interpride.org/event/fierte-timmins-pride/
CATEGORIES:PRIDE EVENT
END:VEVENT
BEGIN:VEVENT
DTSTART;TZID=America/Los_Angeles:20220903T170000
DTEND;TZID=America/Los_Angeles:20220903T170000
DTSTAMP:20260423T134551
CREATED:20220814T004739Z
LAST-MODIFIED:20220814T004739Z
UID:10000812-1662224400-1662224400@www.interpride.org
SUMMARY:Riverside LGBTQ+ Pride
DESCRIPTION:
URL:https://www.interpride.org/event/riverside-lgbtq-pride/
CATEGORIES:PRIDE EVENT
END:VEVENT
BEGIN:VEVENT
DTSTART;TZID=America/Los_Angeles:20220902T170000
DTEND;TZID=America/Los_Angeles:20220902T170000
DTSTAMP:20260423T134551
CREATED:20220814T003453Z
LAST-MODIFIED:20220814T003453Z
UID:10000736-1662138000-1662138000@www.interpride.org
SUMMARY:Pride Zentralschweiz
DESCRIPTION:
URL:https://www.interpride.org/event/pride-zentralschweiz/
CATEGORIES:PRIDE EVENT
END:VEVENT
BEGIN:VEVENT
DTSTART;TZID=America/Los_Angeles:20220831T170000
DTEND;TZID=America/Los_Angeles:20220831T170000
DTSTAMP:20260423T134551
CREATED:20220814T003043Z
LAST-MODIFIED:20220814T003043Z
UID:10000647-1661965200-1661965200@www.interpride.org
SUMMARY:Pictou County Rainbow Community
DESCRIPTION:
URL:https://www.interpride.org/event/pictou-county-rainbow-community/
CATEGORIES:PRIDE EVENT
END:VEVENT
BEGIN:VEVENT
DTSTART;TZID=America/Los_Angeles:20220826T170000
DTEND;TZID=America/Los_Angeles:20220826T170000
DTSTAMP:20260423T134551
CREATED:20220814T004006Z
LAST-MODIFIED:20220814T004006Z
UID:10000763-1661533200-1661533200@www.interpride.org
SUMMARY:Jersey City LGBTQ+ Pride Festival
DESCRIPTION:
URL:https://www.interpride.org/event/jersey-city-lgbtq-pride-festival/
CATEGORIES:PRIDE EVENT
END:VEVENT
BEGIN:VEVENT
DTSTART;TZID=America/Los_Angeles:20220826T170000
DTEND;TZID=America/Los_Angeles:20220826T170000
DTSTAMP:20260423T134551
CREATED:20220814T003552Z
LAST-MODIFIED:20220814T003552Z
UID:10000740-1661533200-1661533200@www.interpride.org
SUMMARY:Silicon Valley Pride
DESCRIPTION:
URL:https://www.interpride.org/event/silicon-valley-pride/
CATEGORIES:PRIDE EVENT
END:VEVENT
BEGIN:VEVENT
DTSTART;TZID=America/Los_Angeles:20220826T170000
DTEND;TZID=America/Los_Angeles:20220826T170000
DTSTAMP:20260423T134551
CREATED:20220814T003011Z
LAST-MODIFIED:20220814T003011Z
UID:10000636-1661533200-1661533200@www.interpride.org
SUMMARY:Pride Cymru
DESCRIPTION:
URL:https://www.interpride.org/event/pride-cymru/
CATEGORIES:PRIDE EVENT
END:VEVENT
BEGIN:VEVENT
DTSTART;TZID=America/Los_Angeles:20220826T170000
DTEND;TZID=America/Los_Angeles:20220826T170000
DTSTAMP:20260423T134551
CREATED:20220814T002911Z
LAST-MODIFIED:20220814T002911Z
UID:10000632-1661533200-1661533200@www.interpride.org
SUMMARY:Northumberland Pride
DESCRIPTION:
URL:https://www.interpride.org/event/northumberland-pride/
CATEGORIES:PRIDE EVENT
END:VEVENT
END:VCALENDAR