BEGIN:VCALENDAR
VERSION:2.0
PRODID:-//InterPride - ECPv6.15.20//NONSGML v1.0//EN
CALSCALE:GREGORIAN
METHOD:PUBLISH
X-WR-CALNAME:InterPride
X-ORIGINAL-URL:https://www.interpride.org
X-WR-CALDESC:Events for InterPride
REFRESH-INTERVAL;VALUE=DURATION:PT1H
X-Robots-Tag:noindex
X-PUBLISHED-TTL:PT1H
BEGIN:VTIMEZONE
TZID:America/Los_Angeles
BEGIN:DAYLIGHT
TZOFFSETFROM:-0800
TZOFFSETTO:-0700
TZNAME:PDT
DTSTART:20210314T100000
END:DAYLIGHT
BEGIN:STANDARD
TZOFFSETFROM:-0700
TZOFFSETTO:-0800
TZNAME:PST
DTSTART:20211107T090000
END:STANDARD
BEGIN:DAYLIGHT
TZOFFSETFROM:-0800
TZOFFSETTO:-0700
TZNAME:PDT
DTSTART:20220313T100000
END:DAYLIGHT
BEGIN:STANDARD
TZOFFSETFROM:-0700
TZOFFSETTO:-0800
TZNAME:PST
DTSTART:20221106T090000
END:STANDARD
BEGIN:DAYLIGHT
TZOFFSETFROM:-0800
TZOFFSETTO:-0700
TZNAME:PDT
DTSTART:20230312T100000
END:DAYLIGHT
BEGIN:STANDARD
TZOFFSETFROM:-0700
TZOFFSETTO:-0800
TZNAME:PST
DTSTART:20231105T090000
END:STANDARD
END:VTIMEZONE
BEGIN:VEVENT
DTSTART;TZID=America/Los_Angeles:20220819T170000
DTEND;TZID=America/Los_Angeles:20220819T170000
DTSTAMP:20260423T181616
CREATED:20220814T002906Z
LAST-MODIFIED:20220814T002906Z
UID:10000625-1660928400-1660928400@www.interpride.org
SUMMARY:Warwickshire Pride
DESCRIPTION:
URL:https://www.interpride.org/event/warwickshire-pride/
CATEGORIES:PRIDE EVENT
END:VEVENT
BEGIN:VEVENT
DTSTART;TZID=America/Los_Angeles:20220817T170000
DTEND;TZID=America/Los_Angeles:20220817T170000
DTSTAMP:20260423T181616
CREATED:20220814T003352Z
LAST-MODIFIED:20220814T003352Z
UID:10000731-1660755600-1660755600@www.interpride.org
SUMMARY:Pacific Northwest Black Pride
DESCRIPTION:
URL:https://www.interpride.org/event/pacific-northwest-black-pride/
CATEGORIES:PRIDE EVENT
END:VEVENT
BEGIN:VEVENT
DTSTART;TZID=America/Los_Angeles:20220812T170000
DTEND;TZID=America/Los_Angeles:20220812T170000
DTSTAMP:20260423T181616
CREATED:20220814T003153Z
LAST-MODIFIED:20220814T003153Z
UID:10000697-1660323600-1660323600@www.interpride.org
SUMMARY:Eugene Springfield Pride Festival
DESCRIPTION:
URL:https://www.interpride.org/event/eugene-springfield-pride-festival-2/
CATEGORIES:PRIDE EVENT
END:VEVENT
BEGIN:VEVENT
DTSTART;TZID=America/Los_Angeles:20220812T170000
DTEND;TZID=America/Los_Angeles:20220812T170000
DTSTAMP:20260423T181616
CREATED:20220814T003044Z
LAST-MODIFIED:20220814T003044Z
UID:10000649-1660323600-1660323600@www.interpride.org
SUMMARY:Fierté Fredericton Pride
DESCRIPTION:
URL:https://www.interpride.org/event/fierte-fredericton-pride/
CATEGORIES:PRIDE EVENT
END:VEVENT
BEGIN:VEVENT
DTSTART;TZID=America/Los_Angeles:20220808T170000
DTEND;TZID=America/Los_Angeles:20220808T170000
DTSTAMP:20260423T181616
CREATED:20220814T003651Z
LAST-MODIFIED:20220814T003651Z
UID:10000745-1659978000-1659978000@www.interpride.org
SUMMARY:VR Transgender Network
DESCRIPTION:
URL:https://www.interpride.org/event/vr-transgender-network/
CATEGORIES:PRIDE EVENT
END:VEVENT
BEGIN:VEVENT
DTSTART;TZID=America/Los_Angeles:20220728T170000
DTEND;TZID=America/Los_Angeles:20220728T170000
DTSTAMP:20260423T181616
CREATED:20220814T003138Z
LAST-MODIFIED:20220814T003138Z
UID:10000687-1659027600-1659027600@www.interpride.org
SUMMARY:Key Popualtions Uganda
DESCRIPTION:
URL:https://www.interpride.org/event/key-popualtions-uganda/
CATEGORIES:PRIDE EVENT
END:VEVENT
BEGIN:VEVENT
DTSTART;TZID=America/Los_Angeles:20220724T170000
DTEND;TZID=America/Los_Angeles:20220724T170000
DTSTAMP:20260423T181616
CREATED:20220814T003039Z
LAST-MODIFIED:20220814T003039Z
UID:10000645-1658682000-1658682000@www.interpride.org
SUMMARY:Fierté Simcoe Pride
DESCRIPTION:
URL:https://www.interpride.org/event/fierte-simcoe-pride/
CATEGORIES:PRIDE EVENT
END:VEVENT
BEGIN:VEVENT
DTSTART;TZID=America/Los_Angeles:20220722T170000
DTEND;TZID=America/Los_Angeles:20220722T170000
DTSTAMP:20260423T181616
CREATED:20220814T004745Z
LAST-MODIFIED:20220814T004745Z
UID:10000818-1658509200-1658509200@www.interpride.org
SUMMARY:Kitsap Pride
DESCRIPTION:
URL:https://www.interpride.org/event/kitsap-pride/
CATEGORIES:PRIDE EVENT
END:VEVENT
BEGIN:VEVENT
DTSTART;TZID=America/Los_Angeles:20220722T170000
DTEND;TZID=America/Los_Angeles:20220722T170000
DTSTAMP:20260423T181616
CREATED:20220814T004628Z
LAST-MODIFIED:20220814T004628Z
UID:10000793-1658509200-1658509200@www.interpride.org
SUMMARY:Northern Nevada Pride
DESCRIPTION:
URL:https://www.interpride.org/event/northern-nevada-pride/
CATEGORIES:PRIDE EVENT
END:VEVENT
BEGIN:VEVENT
DTSTART;TZID=America/Los_Angeles:20220722T170000
DTEND;TZID=America/Los_Angeles:20220722T170000
DTSTAMP:20260423T181616
CREATED:20220814T003121Z
LAST-MODIFIED:20220814T003121Z
UID:10000673-1658509200-1658509200@www.interpride.org
SUMMARY:Fort Wayne Pride
DESCRIPTION:
URL:https://www.interpride.org/event/fort-wayne-pride/
CATEGORIES:PRIDE EVENT
END:VEVENT
BEGIN:VEVENT
DTSTART;TZID=America/Los_Angeles:20220716T170000
DTEND;TZID=America/Los_Angeles:20220716T170000
DTSTAMP:20260423T181616
CREATED:20220814T004547Z
LAST-MODIFIED:20220814T004547Z
UID:10000783-1657990800-1657990800@www.interpride.org
SUMMARY:Charlotte Black Pride
DESCRIPTION:
URL:https://www.interpride.org/event/charlotte-black-pride/
CATEGORIES:PRIDE EVENT
END:VEVENT
BEGIN:VEVENT
DTSTART;TZID=America/Los_Angeles:20220716T170000
DTEND;TZID=America/Los_Angeles:20220716T170000
DTSTAMP:20260423T181616
CREATED:20220814T003107Z
LAST-MODIFIED:20220814T003107Z
UID:10000659-1657990800-1657990800@www.interpride.org
SUMMARY:Reading Pride Celebration
DESCRIPTION:
URL:https://www.interpride.org/event/reading-pride-celebration/
CATEGORIES:PRIDE EVENT
END:VEVENT
BEGIN:VEVENT
DTSTART;TZID=America/Los_Angeles:20220715T170000
DTEND;TZID=America/Los_Angeles:20220715T170000
DTSTAMP:20260423T181616
CREATED:20220814T003805Z
LAST-MODIFIED:20220814T003805Z
UID:10000759-1657904400-1657904400@www.interpride.org
SUMMARY:Seoul Queer Culture Festival Organizing Committee
DESCRIPTION:
URL:https://www.interpride.org/event/seoul-queer-culture-festival-organizing-committee/
CATEGORIES:PRIDE EVENT
END:VEVENT
BEGIN:VEVENT
DTSTART;TZID=America/Los_Angeles:20220715T170000
DTEND;TZID=America/Los_Angeles:20220715T170000
DTSTAMP:20260423T181616
CREATED:20220814T003107Z
LAST-MODIFIED:20220814T003107Z
UID:10000658-1657904400-1657904400@www.interpride.org
SUMMARY:NoWoCo Pride Inc
DESCRIPTION:
URL:https://www.interpride.org/event/nowoco-pride-inc/
CATEGORIES:PRIDE EVENT
END:VEVENT
BEGIN:VEVENT
DTSTART;TZID=America/Los_Angeles:20220714T170000
DTEND;TZID=America/Los_Angeles:20220714T170000
DTSTAMP:20260423T181616
CREATED:20220814T004644Z
LAST-MODIFIED:20220814T004644Z
UID:10000795-1657818000-1657818000@www.interpride.org
SUMMARY:San Diego Pride
DESCRIPTION:
URL:https://www.interpride.org/event/san-diego-pride/
CATEGORIES:PRIDE EVENT
END:VEVENT
BEGIN:VEVENT
DTSTART;TZID=America/Los_Angeles:20220709T170000
DTEND;TZID=America/Los_Angeles:20220709T170000
DTSTAMP:20260423T181616
CREATED:20220814T004720Z
LAST-MODIFIED:20220814T004720Z
UID:10000806-1657386000-1657386000@www.interpride.org
SUMMARY:Kenosha Pride\, Inc.
DESCRIPTION:
URL:https://www.interpride.org/event/kenosha-pride-inc/
CATEGORIES:PRIDE EVENT
END:VEVENT
BEGIN:VEVENT
DTSTART;TZID=America/Los_Angeles:20220708T170000
DTEND;TZID=America/Los_Angeles:20220708T170000
DTSTAMP:20260423T181616
CREATED:20220814T003452Z
LAST-MODIFIED:20220814T003452Z
UID:10000735-1657299600-1657299600@www.interpride.org
SUMMARY:Long Beach Pride
DESCRIPTION:
URL:https://www.interpride.org/event/long-beach-pride/
CATEGORIES:PRIDE EVENT
END:VEVENT
BEGIN:VEVENT
DTSTART;TZID=America/Los_Angeles:20220706T170000
DTEND;TZID=America/Los_Angeles:20220706T170000
DTSTAMP:20260423T181616
CREATED:20220814T003803Z
LAST-MODIFIED:20220814T003803Z
UID:10000756-1657126800-1657126800@www.interpride.org
SUMMARY:First Nations Rainbow Aboriginal And Torres Straight Islander Corporation
DESCRIPTION:
URL:https://www.interpride.org/event/first-nations-rainbow-aboriginal-and-torres-straight-islander-corporation/
CATEGORIES:PRIDE EVENT
END:VEVENT
BEGIN:VEVENT
DTSTART;TZID=America/Los_Angeles:20220706T170000
DTEND;TZID=America/Los_Angeles:20220706T170000
DTSTAMP:20260423T181616
CREATED:20220814T003256Z
LAST-MODIFIED:20220814T003256Z
UID:10000715-1657126800-1657126800@www.interpride.org
SUMMARY:Tomboy Travels
DESCRIPTION:
URL:https://www.interpride.org/event/tomboy-travels/
CATEGORIES:PRIDE EVENT
END:VEVENT
BEGIN:VEVENT
DTSTART;TZID=America/Los_Angeles:20220706T170000
DTEND;TZID=America/Los_Angeles:20220706T170000
DTSTAMP:20260423T181616
CREATED:20220814T003145Z
LAST-MODIFIED:20220814T003145Z
UID:10000693-1657126800-1657126800@www.interpride.org
SUMMARY:Montanita Pride at the Beach
DESCRIPTION:
URL:https://www.interpride.org/event/montanita-pride-at-the-beach/
CATEGORIES:PRIDE EVENT
END:VEVENT
BEGIN:VEVENT
DTSTART;TZID=America/Los_Angeles:20220704T170000
DTEND;TZID=America/Los_Angeles:20220704T170000
DTSTAMP:20260423T181616
CREATED:20220814T003249Z
LAST-MODIFIED:20220814T003249Z
UID:10000705-1656954000-1656954000@www.interpride.org
SUMMARY:Uganda Pride
DESCRIPTION:
URL:https://www.interpride.org/event/uganda-pride/
CATEGORIES:PRIDE EVENT
END:VEVENT
BEGIN:VEVENT
DTSTART;TZID=America/Los_Angeles:20220702T170000
DTEND;TZID=America/Los_Angeles:20220702T170000
DTSTAMP:20260423T181616
CREATED:20220814T003052Z
LAST-MODIFIED:20220814T003052Z
UID:10000656-1656781200-1656781200@www.interpride.org
SUMMARY:Corporación Stonewall
DESCRIPTION:
URL:https://www.interpride.org/event/corporacion-stonewall/
CATEGORIES:PRIDE EVENT
END:VEVENT
BEGIN:VEVENT
DTSTART;TZID=America/Los_Angeles:20220701T170000
DTEND;TZID=America/Los_Angeles:20220701T170000
DTSTAMP:20260423T181616
CREATED:20220814T003348Z
LAST-MODIFIED:20220814T003348Z
UID:10000729-1656694800-1656694800@www.interpride.org
SUMMARY:Asociación Silueta X
DESCRIPTION:
URL:https://www.interpride.org/event/asociacion-silueta-x/
CATEGORIES:PRIDE EVENT
END:VEVENT
BEGIN:VEVENT
DTSTART;TZID=America/Los_Angeles:20220628T170000
DTEND;TZID=America/Los_Angeles:20220628T170000
DTSTAMP:20260423T181616
CREATED:20220814T003703Z
LAST-MODIFIED:20220814T003703Z
UID:10000753-1656435600-1656435600@www.interpride.org
SUMMARY:Ambassadors & Bridge Builders  International
DESCRIPTION:
URL:https://www.interpride.org/event/ambassadors-bridge-builders-international/
CATEGORIES:PRIDE EVENT
END:VEVENT
BEGIN:VEVENT
DTSTART;TZID=America/Los_Angeles:20220628T170000
DTEND;TZID=America/Los_Angeles:20220628T170000
DTSTAMP:20260423T181616
CREATED:20220814T003353Z
LAST-MODIFIED:20220814T003353Z
UID:10000733-1656435600-1656435600@www.interpride.org
SUMMARY:The Rainbow Advocacy Project
DESCRIPTION:
URL:https://www.interpride.org/event/the-rainbow-advocacy-project/
CATEGORIES:PRIDE EVENT
END:VEVENT
BEGIN:VEVENT
DTSTART;TZID=America/Los_Angeles:20220627T170000
DTEND;TZID=America/Los_Angeles:20220627T170000
DTSTAMP:20260423T181616
CREATED:20220814T003652Z
LAST-MODIFIED:20220814T003652Z
UID:10000748-1656349200-1656349200@www.interpride.org
SUMMARY:Brasília Orgulho
DESCRIPTION:
URL:https://www.interpride.org/event/brasilia-orgulho/
CATEGORIES:PRIDE EVENT
END:VEVENT
BEGIN:VEVENT
DTSTART;TZID=America/Los_Angeles:20220625T170000
DTEND;TZID=America/Los_Angeles:20220625T170000
DTSTAMP:20260423T181616
CREATED:20220814T004738Z
LAST-MODIFIED:20220814T004738Z
UID:10000811-1656176400-1656176400@www.interpride.org
SUMMARY:Heritage of Pride
DESCRIPTION:
URL:https://www.interpride.org/event/heritage-of-pride/
CATEGORIES:PRIDE EVENT
END:VEVENT
BEGIN:VEVENT
DTSTART;TZID=America/Los_Angeles:20220625T170000
DTEND;TZID=America/Los_Angeles:20220625T170000
DTSTAMP:20260423T181616
CREATED:20220814T004546Z
LAST-MODIFIED:20220814T004546Z
UID:10000782-1656176400-1656176400@www.interpride.org
SUMMARY:PRIDEChicago
DESCRIPTION:
URL:https://www.interpride.org/event/pridechicago/
CATEGORIES:PRIDE EVENT
END:VEVENT
BEGIN:VEVENT
DTSTART;TZID=America/Los_Angeles:20220625T170000
DTEND;TZID=America/Los_Angeles:20220625T170000
DTSTAMP:20260423T181616
CREATED:20220814T003255Z
LAST-MODIFIED:20220814T003255Z
UID:10000714-1656176400-1656176400@www.interpride.org
SUMMARY:Gay & Sober
DESCRIPTION:
URL:https://www.interpride.org/event/gay-sober/
CATEGORIES:PRIDE EVENT
END:VEVENT
BEGIN:VEVENT
DTSTART;TZID=America/Los_Angeles:20220625T170000
DTEND;TZID=America/Los_Angeles:20220625T170000
DTSTAMP:20260423T181616
CREATED:20220814T003144Z
LAST-MODIFIED:20220814T003144Z
UID:10000692-1656176400-1656176400@www.interpride.org
SUMMARY:Capitol Hill Pride
DESCRIPTION:
URL:https://www.interpride.org/event/capitol-hill-pride/
CATEGORIES:PRIDE EVENT
END:VEVENT
END:VCALENDAR