BEGIN:VCALENDAR
VERSION:2.0
PRODID:-//InterPride - ECPv6.15.20//NONSGML v1.0//EN
CALSCALE:GREGORIAN
METHOD:PUBLISH
X-ORIGINAL-URL:https://www.interpride.org
X-WR-CALDESC:Events for InterPride
REFRESH-INTERVAL;VALUE=DURATION:PT1H
X-Robots-Tag:noindex
X-PUBLISHED-TTL:PT1H
BEGIN:VTIMEZONE
TZID:America/Los_Angeles
BEGIN:DAYLIGHT
TZOFFSETFROM:-0800
TZOFFSETTO:-0700
TZNAME:PDT
DTSTART:20210314T100000
END:DAYLIGHT
BEGIN:STANDARD
TZOFFSETFROM:-0700
TZOFFSETTO:-0800
TZNAME:PST
DTSTART:20211107T090000
END:STANDARD
BEGIN:DAYLIGHT
TZOFFSETFROM:-0800
TZOFFSETTO:-0700
TZNAME:PDT
DTSTART:20220313T100000
END:DAYLIGHT
BEGIN:STANDARD
TZOFFSETFROM:-0700
TZOFFSETTO:-0800
TZNAME:PST
DTSTART:20221106T090000
END:STANDARD
BEGIN:DAYLIGHT
TZOFFSETFROM:-0800
TZOFFSETTO:-0700
TZNAME:PDT
DTSTART:20230312T100000
END:DAYLIGHT
BEGIN:STANDARD
TZOFFSETFROM:-0700
TZOFFSETTO:-0800
TZNAME:PST
DTSTART:20231105T090000
END:STANDARD
END:VTIMEZONE
BEGIN:VEVENT
DTSTART;TZID=America/Los_Angeles:20220624T170000
DTEND;TZID=America/Los_Angeles:20220624T170000
DTSTAMP:20260424T003011
CREATED:20220814T003125Z
LAST-MODIFIED:20220814T003125Z
UID:10000680-1656090000-1656090000@www.interpride.org
SUMMARY:Tijuana LGBTI Pride México
DESCRIPTION:
URL:https://www.interpride.org/event/tijuana-lgbti-pride-mexico/
CATEGORIES:PRIDE EVENT
END:VEVENT
BEGIN:VEVENT
DTSTART;TZID=America/Los_Angeles:20220624T170000
DTEND;TZID=America/Los_Angeles:20220624T170000
DTSTAMP:20260424T003011
CREATED:20220814T003122Z
LAST-MODIFIED:20220814T003122Z
UID:10000675-1656090000-1656090000@www.interpride.org
SUMMARY:QWELL Community Foundation
DESCRIPTION:
URL:https://www.interpride.org/event/qwell-community-foundation/
CATEGORIES:PRIDE EVENT
END:VEVENT
BEGIN:VEVENT
DTSTART;TZID=America/Los_Angeles:20220624T170000
DTEND;TZID=America/Los_Angeles:20220624T170000
DTSTAMP:20260424T003011
CREATED:20220814T002910Z
LAST-MODIFIED:20220814T002910Z
UID:10000631-1656090000-1656090000@www.interpride.org
SUMMARY:BiH pride march
DESCRIPTION:
URL:https://www.interpride.org/event/bih-pride-march/
CATEGORIES:PRIDE EVENT
END:VEVENT
BEGIN:VEVENT
DTSTART;TZID=America/Los_Angeles:20220623T170000
DTEND;TZID=America/Los_Angeles:20220623T170000
DTSTAMP:20260424T003011
CREATED:20220814T003255Z
LAST-MODIFIED:20220814T003255Z
UID:10000713-1656003600-1656003600@www.interpride.org
SUMMARY:Diversités Arts et Cultures - DAC
DESCRIPTION:
URL:https://www.interpride.org/event/diversites-arts-et-cultures-dac/
CATEGORIES:PRIDE EVENT
END:VEVENT
BEGIN:VEVENT
DTSTART;TZID=America/Los_Angeles:20220623T170000
DTEND;TZID=America/Los_Angeles:20220623T170000
DTSTAMP:20260424T003011
CREATED:20220814T003011Z
LAST-MODIFIED:20220814T003011Z
UID:10000635-1656003600-1656003600@www.interpride.org
SUMMARY:First Mardi Gras Incorporated
DESCRIPTION:
URL:https://www.interpride.org/event/first-mardi-gras-incorporated/
CATEGORIES:PRIDE EVENT
END:VEVENT
BEGIN:VEVENT
DTSTART;TZID=America/Los_Angeles:20220622T170000
DTEND;TZID=America/Los_Angeles:20220622T170000
DTSTAMP:20260424T003011
CREATED:20220814T003352Z
LAST-MODIFIED:20220814T003352Z
UID:10000732-1655917200-1655917200@www.interpride.org
SUMMARY:Top End Pride
DESCRIPTION:
URL:https://www.interpride.org/event/top-end-pride/
CATEGORIES:PRIDE EVENT
END:VEVENT
BEGIN:VEVENT
DTSTART;TZID=America/Los_Angeles:20220621T170000
DTEND;TZID=America/Los_Angeles:20220621T170000
DTSTAMP:20260424T003011
CREATED:20220814T003247Z
LAST-MODIFIED:20220814T003247Z
UID:10000701-1655830800-1655830800@www.interpride.org
SUMMARY:Out to Protect Inc.
DESCRIPTION:
URL:https://www.interpride.org/event/out-to-protect-inc/
CATEGORIES:PRIDE EVENT
END:VEVENT
BEGIN:VEVENT
DTSTART;TZID=America/Los_Angeles:20220619T170000
DTEND;TZID=America/Los_Angeles:20220619T170000
DTSTAMP:20260424T003011
CREATED:20220814T003347Z
LAST-MODIFIED:20220814T003347Z
UID:10000726-1655658000-1655658000@www.interpride.org
SUMMARY:Pride For Youth Initiative
DESCRIPTION:
URL:https://www.interpride.org/event/pride-for-youth-initiative/
CATEGORIES:PRIDE EVENT
END:VEVENT
BEGIN:VEVENT
DTSTART;TZID=America/Los_Angeles:20220618T170000
DTEND;TZID=America/Los_Angeles:20220618T170000
DTSTAMP:20260424T003011
CREATED:20220814T003703Z
LAST-MODIFIED:20220814T003703Z
UID:10000754-1655571600-1655571600@www.interpride.org
SUMMARY:Associação da Parada do Orgulho LGBT+ de São Paulo
DESCRIPTION:
URL:https://www.interpride.org/event/associacao-da-parada-do-orgulho-lgbt-de-sao-paulo/
CATEGORIES:PRIDE EVENT
END:VEVENT
BEGIN:VEVENT
DTSTART;TZID=America/Los_Angeles:20220617T170000
DTEND;TZID=America/Los_Angeles:20220617T170000
DTSTAMP:20260424T003011
CREATED:20220814T004545Z
LAST-MODIFIED:20220814T004545Z
UID:10000780-1655485200-1655485200@www.interpride.org
SUMMARY:Pride St. Charles
DESCRIPTION:
URL:https://www.interpride.org/event/pride-st-charles/
CATEGORIES:PRIDE EVENT
END:VEVENT
BEGIN:VEVENT
DTSTART;TZID=America/Los_Angeles:20220617T170000
DTEND;TZID=America/Los_Angeles:20220617T170000
DTSTAMP:20260424T003011
CREATED:20220814T003304Z
LAST-MODIFIED:20220814T003304Z
UID:10000716-1655485200-1655485200@www.interpride.org
SUMMARY:ShanghaiPRIDE
DESCRIPTION:
URL:https://www.interpride.org/event/shanghaipride/
CATEGORIES:PRIDE EVENT
END:VEVENT
BEGIN:VEVENT
DTSTART;TZID=America/Los_Angeles:20220617T170000
DTEND;TZID=America/Los_Angeles:20220617T170000
DTSTAMP:20260424T003011
CREATED:20220814T003251Z
LAST-MODIFIED:20220814T003251Z
UID:10000707-1655485200-1655485200@www.interpride.org
SUMMARY:Wenatchee Pride
DESCRIPTION:
URL:https://www.interpride.org/event/wenatchee-pride/
CATEGORIES:PRIDE EVENT
END:VEVENT
BEGIN:VEVENT
DTSTART;TZID=America/Los_Angeles:20220617T170000
DTEND;TZID=America/Los_Angeles:20220617T170000
DTSTAMP:20260424T003011
CREATED:20220814T003248Z
LAST-MODIFIED:20220814T003248Z
UID:10000703-1655485200-1655485200@www.interpride.org
SUMMARY:Northalsted Business Alliance
DESCRIPTION:
URL:https://www.interpride.org/event/northalsted-business-alliance/
CATEGORIES:PRIDE EVENT
END:VEVENT
BEGIN:VEVENT
DTSTART;TZID=America/Los_Angeles:20220617T170000
DTEND;TZID=America/Los_Angeles:20220617T170000
DTSTAMP:20260424T003011
CREATED:20220814T003247Z
LAST-MODIFIED:20220814T003247Z
UID:10000702-1655485200-1655485200@www.interpride.org
SUMMARY:Pride Winston-Salem
DESCRIPTION:
URL:https://www.interpride.org/event/pride-winston-salem/
CATEGORIES:PRIDE EVENT
END:VEVENT
BEGIN:VEVENT
DTSTART;TZID=America/Los_Angeles:20220617T170000
DTEND;TZID=America/Los_Angeles:20220617T170000
DTSTAMP:20260424T003011
CREATED:20220814T003032Z
LAST-MODIFIED:20220814T003032Z
UID:10000638-1655485200-1655485200@www.interpride.org
SUMMARY:Zurich Pride Festival
DESCRIPTION:
URL:https://www.interpride.org/event/zurich-pride-festival/
CATEGORIES:PRIDE EVENT
END:VEVENT
BEGIN:VEVENT
DTSTART;TZID=America/Los_Angeles:20220616T170000
DTEND;TZID=America/Los_Angeles:20220616T170000
DTSTAMP:20260424T003011
CREATED:20220814T003306Z
LAST-MODIFIED:20220814T003306Z
UID:10000720-1655398800-1655398800@www.interpride.org
SUMMARY:Stonewall Columbus Inc.
DESCRIPTION:
URL:https://www.interpride.org/event/stonewall-columbus-inc/
CATEGORIES:PRIDE EVENT
END:VEVENT
BEGIN:VEVENT
DTSTART;TZID=America/Los_Angeles:20220614T170000
DTEND;TZID=America/Los_Angeles:20220614T170000
DTSTAMP:20260424T003011
CREATED:20220814T004645Z
LAST-MODIFIED:20220814T004645Z
UID:10000797-1655226000-1655226000@www.interpride.org
SUMMARY:Be Visible AC
DESCRIPTION:
URL:https://www.interpride.org/event/be-visible-ac/
CATEGORIES:PRIDE EVENT
END:VEVENT
BEGIN:VEVENT
DTSTART;TZID=America/Los_Angeles:20220613T170000
DTEND;TZID=America/Los_Angeles:20220613T170000
DTSTAMP:20260424T003011
CREATED:20220814T003347Z
LAST-MODIFIED:20220814T003347Z
UID:10000727-1655139600-1655139600@www.interpride.org
SUMMARY:Happy family youth Uganda limited
DESCRIPTION:
URL:https://www.interpride.org/event/happy-family-youth-uganda-limited/
CATEGORIES:PRIDE EVENT
END:VEVENT
BEGIN:VEVENT
DTSTART;TZID=America/Los_Angeles:20220611T170000
DTEND;TZID=America/Los_Angeles:20220611T170000
DTSTAMP:20260424T003011
CREATED:20220814T004703Z
LAST-MODIFIED:20220814T004703Z
UID:10000800-1654966800-1654966800@www.interpride.org
SUMMARY:LA Pride
DESCRIPTION:
URL:https://www.interpride.org/event/la-pride/
CATEGORIES:PRIDE EVENT
END:VEVENT
BEGIN:VEVENT
DTSTART;TZID=America/Los_Angeles:20220610T170000
DTEND;TZID=America/Los_Angeles:20220610T170000
DTSTAMP:20260424T003011
CREATED:20220814T004745Z
LAST-MODIFIED:20220814T004745Z
UID:10000819-1654880400-1654880400@www.interpride.org
SUMMARY:Motor City Pride
DESCRIPTION:
URL:https://www.interpride.org/event/motor-city-pride/
CATEGORIES:PRIDE EVENT
END:VEVENT
BEGIN:VEVENT
DTSTART;TZID=America/Los_Angeles:20220610T170000
DTEND;TZID=America/Los_Angeles:20220610T170000
DTSTAMP:20260424T003011
CREATED:20220814T004740Z
LAST-MODIFIED:20220814T004740Z
UID:10000814-1654880400-1654880400@www.interpride.org
SUMMARY:Boston Pride
DESCRIPTION:
URL:https://www.interpride.org/event/boston-pride/
CATEGORIES:PRIDE EVENT
END:VEVENT
BEGIN:VEVENT
DTSTART;TZID=America/Los_Angeles:20220610T170000
DTEND;TZID=America/Los_Angeles:20220610T170000
DTSTAMP:20260424T003011
CREATED:20220814T004552Z
LAST-MODIFIED:20220814T004552Z
UID:10000788-1654880400-1654880400@www.interpride.org
SUMMARY:Indy Pride
DESCRIPTION:
URL:https://www.interpride.org/event/indy-pride/
CATEGORIES:PRIDE EVENT
END:VEVENT
BEGIN:VEVENT
DTSTART;TZID=America/Los_Angeles:20220610T170000
DTEND;TZID=America/Los_Angeles:20220610T170000
DTSTAMP:20260424T003011
CREATED:20220814T004550Z
LAST-MODIFIED:20220814T004550Z
UID:10000785-1654880400-1654880400@www.interpride.org
SUMMARY:Brooklyn Pride
DESCRIPTION:
URL:https://www.interpride.org/event/brooklyn-pride/
CATEGORIES:PRIDE EVENT
END:VEVENT
BEGIN:VEVENT
DTSTART;TZID=America/Los_Angeles:20220610T170000
DTEND;TZID=America/Los_Angeles:20220610T170000
DTSTAMP:20260424T003011
CREATED:20220814T004542Z
LAST-MODIFIED:20220814T004542Z
UID:10000775-1654880400-1654880400@www.interpride.org
SUMMARY:Henderson Pride Fest
DESCRIPTION:
URL:https://www.interpride.org/event/henderson-pride-fest/
CATEGORIES:PRIDE EVENT
END:VEVENT
BEGIN:VEVENT
DTSTART;TZID=America/Los_Angeles:20220610T170000
DTEND;TZID=America/Los_Angeles:20220610T170000
DTSTAMP:20260424T003011
CREATED:20220814T004207Z
LAST-MODIFIED:20220814T004207Z
UID:10000768-1654880400-1654880400@www.interpride.org
SUMMARY:Capital Pride Alliance
DESCRIPTION:
URL:https://www.interpride.org/event/capital-pride-alliance/
CATEGORIES:PRIDE EVENT
END:VEVENT
BEGIN:VEVENT
DTSTART;TZID=America/Los_Angeles:20220610T170000
DTEND;TZID=America/Los_Angeles:20220610T170000
DTSTAMP:20260424T003011
CREATED:20220814T003305Z
LAST-MODIFIED:20220814T003305Z
UID:10000718-1654880400-1654880400@www.interpride.org
SUMMARY:Washington County Gay Straight Alliance\, Inc - Washington PA PRIDE
DESCRIPTION:
URL:https://www.interpride.org/event/washington-county-gay-straight-alliance-inc-washington-pa-pride/
CATEGORIES:PRIDE EVENT
END:VEVENT
BEGIN:VEVENT
DTSTART;TZID=America/Los_Angeles:20220610T170000
DTEND;TZID=America/Los_Angeles:20220610T170000
DTSTAMP:20260424T003011
CREATED:20220814T003146Z
LAST-MODIFIED:20220814T003146Z
UID:10000694-1654880400-1654880400@www.interpride.org
SUMMARY:Albuquerque Pride Inc.
DESCRIPTION:
URL:https://www.interpride.org/event/albuquerque-pride-inc/
CATEGORIES:PRIDE EVENT
END:VEVENT
BEGIN:VEVENT
DTSTART;TZID=America/Los_Angeles:20220610T170000
DTEND;TZID=America/Los_Angeles:20220610T170000
DTSTAMP:20260424T003011
CREATED:20220814T003140Z
LAST-MODIFIED:20220814T003140Z
UID:10000690-1654880400-1654880400@www.interpride.org
SUMMARY:In Our Own Voices\, Inc
DESCRIPTION:
URL:https://www.interpride.org/event/in-our-own-voices-inc/
CATEGORIES:PRIDE EVENT
END:VEVENT
BEGIN:VEVENT
DTSTART;TZID=America/Los_Angeles:20220610T170000
DTEND;TZID=America/Los_Angeles:20220610T170000
DTSTAMP:20260424T003011
CREATED:20220814T003044Z
LAST-MODIFIED:20220814T003044Z
UID:10000648-1654880400-1654880400@www.interpride.org
SUMMARY:Quesnel Pride Society
DESCRIPTION:
URL:https://www.interpride.org/event/quesnel-pride-society/
CATEGORIES:PRIDE EVENT
END:VEVENT
BEGIN:VEVENT
DTSTART;TZID=America/Los_Angeles:20220609T170000
DTEND;TZID=America/Los_Angeles:20220609T170000
DTSTAMP:20260424T003011
CREATED:20220814T004646Z
LAST-MODIFIED:20220814T004646Z
UID:10000798-1654794000-1654794000@www.interpride.org
SUMMARY:Kansas City Pride Community Alliance
DESCRIPTION:
URL:https://www.interpride.org/event/kansas-city-pride-community-alliance/
CATEGORIES:PRIDE EVENT
END:VEVENT
END:VCALENDAR