BEGIN:VCALENDAR
VERSION:2.0
PRODID:-//InterPride - ECPv6.15.20//NONSGML v1.0//EN
CALSCALE:GREGORIAN
METHOD:PUBLISH
X-ORIGINAL-URL:https://www.interpride.org
X-WR-CALDESC:Events for InterPride
REFRESH-INTERVAL;VALUE=DURATION:PT1H
X-Robots-Tag:noindex
X-PUBLISHED-TTL:PT1H
BEGIN:VTIMEZONE
TZID:America/Los_Angeles
BEGIN:DAYLIGHT
TZOFFSETFROM:-0800
TZOFFSETTO:-0700
TZNAME:PDT
DTSTART:20220313T100000
END:DAYLIGHT
BEGIN:STANDARD
TZOFFSETFROM:-0700
TZOFFSETTO:-0800
TZNAME:PST
DTSTART:20221106T090000
END:STANDARD
BEGIN:DAYLIGHT
TZOFFSETFROM:-0800
TZOFFSETTO:-0700
TZNAME:PDT
DTSTART:20230312T100000
END:DAYLIGHT
BEGIN:STANDARD
TZOFFSETFROM:-0700
TZOFFSETTO:-0800
TZNAME:PST
DTSTART:20231105T090000
END:STANDARD
BEGIN:DAYLIGHT
TZOFFSETFROM:-0800
TZOFFSETTO:-0700
TZNAME:PDT
DTSTART:20240310T100000
END:DAYLIGHT
BEGIN:STANDARD
TZOFFSETFROM:-0700
TZOFFSETTO:-0800
TZNAME:PST
DTSTART:20241103T090000
END:STANDARD
END:VTIMEZONE
BEGIN:VEVENT
DTSTART;TZID=America/Los_Angeles:20230806T000000
DTEND;TZID=America/Los_Angeles:20230806T000000
DTSTAMP:20260422T132543
CREATED:20230109T231212Z
LAST-MODIFIED:20230109T231212Z
UID:10001181-1691280000-1691280000@www.interpride.org
SUMMARY:Vancouver Pride Society
DESCRIPTION:Canada (R7)
URL:https://www.interpride.org/event/vancouver-pride-society/
CATEGORIES:PRIDE EVENT
END:VEVENT
BEGIN:VEVENT
DTSTART;TZID=America/Los_Angeles:20230805T000000
DTEND;TZID=America/Los_Angeles:20230805T000000
DTSTAMP:20260422T132543
CREATED:20230109T223322Z
LAST-MODIFIED:20230109T223322Z
UID:10001106-1691193600-1691193600@www.interpride.org
SUMMARY:Pride Amsterdam
DESCRIPTION:Netherlands (R13)
URL:https://www.interpride.org/event/pride-amsterdam/
CATEGORIES:PRIDE EVENT
END:VEVENT
BEGIN:VEVENT
DTSTART;TZID=America/Los_Angeles:20230803T000000
DTEND;TZID=America/Los_Angeles:20230803T000000
DTSTAMP:20260422T132543
CREATED:20230109T223353Z
LAST-MODIFIED:20230109T223353Z
UID:10001117-1691020800-1691020800@www.interpride.org
SUMMARY:Fierté Montréal
DESCRIPTION:Canada (R7)
URL:https://www.interpride.org/event/fierte-montreal/
CATEGORIES:PRIDE EVENT
END:VEVENT
BEGIN:VEVENT
DTSTART;TZID=America/Los_Angeles:20230730T000000
DTEND;TZID=America/Los_Angeles:20230730T000000
DTSTAMP:20260422T132543
CREATED:20230109T230248Z
LAST-MODIFIED:20230109T230248Z
UID:10001162-1690675200-1690675200@www.interpride.org
SUMMARY:Muskoka Pride Community
DESCRIPTION:Canada (R7)
URL:https://www.interpride.org/event/muskoka-pride-community/
CATEGORIES:PRIDE EVENT
END:VEVENT
BEGIN:VEVENT
DTSTART;TZID=America/Los_Angeles:20230730T000000
DTEND;TZID=America/Los_Angeles:20230730T000000
DTSTAMP:20260422T132543
CREATED:20230109T223252Z
LAST-MODIFIED:20230109T223252Z
UID:10001096-1690675200-1690675200@www.interpride.org
SUMMARY:Fierté littéraire
DESCRIPTION:Canada (R7)
URL:https://www.interpride.org/event/fierte-litteraire/
CATEGORIES:PRIDE EVENT
END:VEVENT
BEGIN:VEVENT
DTSTART;TZID=America/Los_Angeles:20230728T170000
DTEND;TZID=America/Los_Angeles:20230728T170000
DTSTAMP:20260422T132543
CREATED:20220814T003333Z
LAST-MODIFIED:20220814T003333Z
UID:10000725-1690563600-1690563600@www.interpride.org
SUMMARY:Arcoiris
DESCRIPTION:
URL:https://www.interpride.org/event/arcoiris/
CATEGORIES:PRIDE EVENT
END:VEVENT
BEGIN:VEVENT
DTSTART;TZID=America/Los_Angeles:20230722T000000
DTEND;TZID=America/Los_Angeles:20230722T000000
DTSTAMP:20260422T132543
CREATED:20230109T225643Z
LAST-MODIFIED:20230109T225643Z
UID:10001146-1689984000-1689984000@www.interpride.org
SUMMARY:Berlin Pride | CSD Berlin
DESCRIPTION:Germany (R12)
URL:https://www.interpride.org/event/berlin-pride-csd-berlin/
CATEGORIES:PRIDE EVENT
END:VEVENT
BEGIN:VEVENT
DTSTART;TZID=America/Los_Angeles:20230722T000000
DTEND;TZID=America/Los_Angeles:20230722T000000
DTSTAMP:20260422T132543
CREATED:20230109T223352Z
LAST-MODIFIED:20230109T223352Z
UID:10001115-1689984000-1689984000@www.interpride.org
SUMMARY:Burnaby Pride
DESCRIPTION:Canada (R7)
URL:https://www.interpride.org/event/burnaby-pride/
CATEGORIES:PRIDE EVENT
END:VEVENT
BEGIN:VEVENT
DTSTART;TZID=America/Los_Angeles:20230716T000000
DTEND;TZID=America/Los_Angeles:20230716T000000
DTSTAMP:20260422T132543
CREATED:20230109T230952Z
LAST-MODIFIED:20230109T230952Z
UID:10001169-1689465600-1689465600@www.interpride.org
SUMMARY:Reading Pride Celebration
DESCRIPTION:United States
URL:https://www.interpride.org/event/reading-pride-celebration-2/
CATEGORIES:PRIDE EVENT
END:VEVENT
BEGIN:VEVENT
DTSTART;TZID=America/Los_Angeles:20230715T000000
DTEND;TZID=America/Los_Angeles:20230715T000000
DTSTAMP:20260422T132543
CREATED:20230109T230247Z
LAST-MODIFIED:20230109T230247Z
UID:10001159-1689379200-1689379200@www.interpride.org
SUMMARY:Glasgow's Pride Mardi Gla
DESCRIPTION:United Kingdom (R10)
URL:https://www.interpride.org/event/glasgows-pride-mardi-gla/
CATEGORIES:PRIDE EVENT
END:VEVENT
BEGIN:VEVENT
DTSTART;TZID=America/Los_Angeles:20230709T000000
DTEND;TZID=America/Los_Angeles:20230709T000000
DTSTAMP:20260422T132543
CREATED:20230109T230045Z
LAST-MODIFIED:20230109T230045Z
UID:10001156-1688860800-1688860800@www.interpride.org
SUMMARY:Kenosha Pride\, Inc.
DESCRIPTION:United States
URL:https://www.interpride.org/event/kenosha-pride-inc-2/
CATEGORIES:PRIDE EVENT
END:VEVENT
BEGIN:VEVENT
DTSTART;TZID=America/Los_Angeles:20230709T000000
DTEND;TZID=America/Los_Angeles:20230709T000000
DTSTAMP:20260422T132543
CREATED:20230109T224214Z
LAST-MODIFIED:20230109T224214Z
UID:10001135-1688860800-1688860800@www.interpride.org
SUMMARY:Fierté Sudbury Pride
DESCRIPTION:Canada (R7)
URL:https://www.interpride.org/event/fierte-sudbury-pride/
CATEGORIES:PRIDE EVENT
END:VEVENT
BEGIN:VEVENT
DTSTART;TZID=America/Los_Angeles:20230708T000000
DTEND;TZID=America/Los_Angeles:20230708T000000
DTSTAMP:20260422T132543
CREATED:20230109T225643Z
LAST-MODIFIED:20230109T225643Z
UID:10001147-1688774400-1688774400@www.interpride.org
SUMMARY:CSD Konstanz e. V.
DESCRIPTION:Germany (R12)
URL:https://www.interpride.org/event/csd-konstanz-e-v/
CATEGORIES:PRIDE EVENT
END:VEVENT
BEGIN:VEVENT
DTSTART;TZID=America/Los_Angeles:20230708T000000
DTEND;TZID=America/Los_Angeles:20230708T000000
DTSTAMP:20260422T132543
CREATED:20230109T223337Z
LAST-MODIFIED:20230109T223337Z
UID:10001114-1688774400-1688774400@www.interpride.org
SUMMARY:WSP Pride
DESCRIPTION:United States
URL:https://www.interpride.org/event/wsp-pride/
CATEGORIES:PRIDE EVENT
END:VEVENT
BEGIN:VEVENT
DTSTART;TZID=America/Los_Angeles:20230708T000000
DTEND;TZID=America/Los_Angeles:20230708T000000
DTSTAMP:20260422T132543
CREATED:20230109T223323Z
LAST-MODIFIED:20230109T223323Z
UID:10001110-1688774400-1688774400@www.interpride.org
SUMMARY:San Diego Pride
DESCRIPTION:United States
URL:https://www.interpride.org/event/san-diego-pride-2/
CATEGORIES:PRIDE EVENT
END:VEVENT
BEGIN:VEVENT
DTSTART;TZID=America/Los_Angeles:20230707T170000
DTEND;TZID=America/Los_Angeles:20230707T170000
DTSTAMP:20260422T132543
CREATED:20220814T003010Z
LAST-MODIFIED:20220814T003010Z
UID:10000634-1688749200-1688749200@www.interpride.org
SUMMARY:CSD Kreuzlingen
DESCRIPTION:
URL:https://www.interpride.org/event/csd-kreuzlingen/
CATEGORIES:PRIDE EVENT
END:VEVENT
BEGIN:VEVENT
DTSTART;TZID=America/Los_Angeles:20230702T000000
DTEND;TZID=America/Los_Angeles:20230702T000000
DTSTAMP:20260422T132543
CREATED:20230109T223252Z
LAST-MODIFIED:20230109T223252Z
UID:10001098-1688256000-1688256000@www.interpride.org
SUMMARY:Corporación Stonewall
DESCRIPTION:Colombia (R17)
URL:https://www.interpride.org/event/corporacion-stonewall-2/
CATEGORIES:PRIDE EVENT
END:VEVENT
BEGIN:VEVENT
DTSTART;TZID=America/Los_Angeles:20230701T000000
DTEND;TZID=America/Los_Angeles:20230702T000000
DTSTAMP:20260422T132543
CREATED:20220825T204158Z
LAST-MODIFIED:20220825T204158Z
UID:10000826-1688169600-1688256000@www.interpride.org
SUMMARY:UK Pride 2023
DESCRIPTION:
URL:https://www.interpride.org/event/uk-pride-2023/
CATEGORIES:PRIDE EVENT
END:VEVENT
BEGIN:VEVENT
DTSTART;TZID=America/Los_Angeles:20230701T000000
DTEND;TZID=America/Los_Angeles:20230701T000000
DTSTAMP:20260422T132543
CREATED:20230109T230952Z
LAST-MODIFIED:20230109T230952Z
UID:10001170-1688169600-1688169600@www.interpride.org
SUMMARY:Salento Pride
DESCRIPTION:Italy (R14)
URL:https://www.interpride.org/event/salento-pride/
CATEGORIES:PRIDE EVENT
END:VEVENT
BEGIN:VEVENT
DTSTART;TZID=America/Los_Angeles:20230630T170000
DTEND;TZID=America/Los_Angeles:20230630T170000
DTSTAMP:20260422T132543
CREATED:20220814T003010Z
LAST-MODIFIED:20220814T003010Z
UID:10000633-1688144400-1688144400@www.interpride.org
SUMMARY:Pride in London
DESCRIPTION:
URL:https://www.interpride.org/event/pride-in-london/
CATEGORIES:PRIDE EVENT
END:VEVENT
BEGIN:VEVENT
DTSTART;TZID=America/Los_Angeles:20230625T000000
DTEND;TZID=America/Los_Angeles:20230625T000000
DTSTAMP:20260422T132543
CREATED:20230109T223337Z
LAST-MODIFIED:20230109T223337Z
UID:10001113-1687651200-1687651200@www.interpride.org
SUMMARY:North Bay Pride\, Victoria Pride
DESCRIPTION:Canada (R7)
URL:https://www.interpride.org/event/north-bay-pride-victoria-pride/
CATEGORIES:PRIDE EVENT
END:VEVENT
BEGIN:VEVENT
DTSTART;TZID=America/Los_Angeles:20230625T000000
DTEND;TZID=America/Los_Angeles:20230625T000000
DTSTAMP:20260422T132543
CREATED:20230109T223250Z
LAST-MODIFIED:20230109T223250Z
UID:10001094-1687651200-1687651200@www.interpride.org
SUMMARY:PRIDEChicago
DESCRIPTION:United States
URL:https://www.interpride.org/event/pridechicago-2/
CATEGORIES:PRIDE EVENT
END:VEVENT
BEGIN:VEVENT
DTSTART;TZID=America/Los_Angeles:20230624T000000
DTEND;TZID=America/Los_Angeles:20230624T000000
DTSTAMP:20260422T132543
CREATED:20230109T231007Z
LAST-MODIFIED:20230109T231007Z
UID:10001171-1687564800-1687564800@www.interpride.org
SUMMARY:San Francisco Pride
DESCRIPTION:United States
URL:https://www.interpride.org/event/san-francisco-pride-2/
CATEGORIES:PRIDE EVENT
END:VEVENT
BEGIN:VEVENT
DTSTART;TZID=America/Los_Angeles:20230624T000000
DTEND;TZID=America/Los_Angeles:20230624T000000
DTSTAMP:20260422T132543
CREATED:20230109T230952Z
LAST-MODIFIED:20230109T230952Z
UID:10001167-1687564800-1687564800@www.interpride.org
SUMMARY:Orange County LGBT Pride
DESCRIPTION:United States
URL:https://www.interpride.org/event/orange-county-lgbt-pride-2/
CATEGORIES:PRIDE EVENT
END:VEVENT
BEGIN:VEVENT
DTSTART;TZID=America/Los_Angeles:20230624T000000
DTEND;TZID=America/Los_Angeles:20230624T000000
DTSTAMP:20260422T132543
CREATED:20230109T230045Z
LAST-MODIFIED:20230109T230045Z
UID:10001154-1687564800-1687564800@www.interpride.org
SUMMARY:Human Rights Alliance
DESCRIPTION:United States
URL:https://www.interpride.org/event/human-rights-alliance-2/
CATEGORIES:PRIDE EVENT
END:VEVENT
BEGIN:VEVENT
DTSTART;TZID=America/Los_Angeles:20230624T000000
DTEND;TZID=America/Los_Angeles:20230624T000000
DTSTAMP:20260422T132543
CREATED:20230109T225844Z
LAST-MODIFIED:20230109T225844Z
UID:10001151-1687564800-1687564800@www.interpride.org
SUMMARY:Great Lakes Bay Pride
DESCRIPTION:United States
URL:https://www.interpride.org/event/great-lakes-bay-pride-2/
CATEGORIES:PRIDE EVENT
END:VEVENT
BEGIN:VEVENT
DTSTART;TZID=America/Los_Angeles:20230624T000000
DTEND;TZID=America/Los_Angeles:20230624T000000
DTSTAMP:20260422T132543
CREATED:20230109T225844Z
LAST-MODIFIED:20230109T225844Z
UID:10001149-1687564800-1687564800@www.interpride.org
SUMMARY:Pride SV - ELSALVADORG
DESCRIPTION:El Salvador (R9)
URL:https://www.interpride.org/event/pride-sv-elsalvadorg-2/
CATEGORIES:PRIDE EVENT
END:VEVENT
BEGIN:VEVENT
DTSTART;TZID=America/Los_Angeles:20230624T000000
DTEND;TZID=America/Los_Angeles:20230624T000000
DTSTAMP:20260422T132543
CREATED:20230109T223809Z
LAST-MODIFIED:20230109T223809Z
UID:10001128-1687564800-1687564800@www.interpride.org
SUMMARY:Augusta Pride
DESCRIPTION:United States
URL:https://www.interpride.org/event/augusta-pride-2/
CATEGORIES:PRIDE EVENT
END:VEVENT
BEGIN:VEVENT
DTSTART;TZID=America/Los_Angeles:20230624T000000
DTEND;TZID=America/Los_Angeles:20230624T000000
DTSTAMP:20260422T132543
CREATED:20230109T223407Z
LAST-MODIFIED:20230109T223407Z
UID:10001120-1687564800-1687564800@www.interpride.org
SUMMARY:NW PA Pride Alliance
DESCRIPTION:United States
URL:https://www.interpride.org/event/nw-pa-pride-alliance-2/
CATEGORIES:PRIDE EVENT
END:VEVENT
BEGIN:VEVENT
DTSTART;TZID=America/Los_Angeles:20230623T170000
DTEND;TZID=America/Los_Angeles:20230623T170000
DTSTAMP:20260422T132543
CREATED:20220814T003124Z
LAST-MODIFIED:20220814T003124Z
UID:10000678-1687539600-1687539600@www.interpride.org
SUMMARY:Pomona Pride Center\, Inc
DESCRIPTION:
URL:https://www.interpride.org/event/pomona-pride-center-inc/
CATEGORIES:PRIDE EVENT
END:VEVENT
END:VCALENDAR