BEGIN:VCALENDAR
VERSION:2.0
PRODID:-//InterPride - ECPv6.15.20//NONSGML v1.0//EN
CALSCALE:GREGORIAN
METHOD:PUBLISH
X-WR-CALNAME:InterPride
X-ORIGINAL-URL:https://www.interpride.org
X-WR-CALDESC:Events for InterPride
REFRESH-INTERVAL;VALUE=DURATION:PT1H
X-Robots-Tag:noindex
X-PUBLISHED-TTL:PT1H
BEGIN:VTIMEZONE
TZID:America/Los_Angeles
BEGIN:DAYLIGHT
TZOFFSETFROM:-0800
TZOFFSETTO:-0700
TZNAME:PDT
DTSTART:20220313T100000
END:DAYLIGHT
BEGIN:STANDARD
TZOFFSETFROM:-0700
TZOFFSETTO:-0800
TZNAME:PST
DTSTART:20221106T090000
END:STANDARD
BEGIN:DAYLIGHT
TZOFFSETFROM:-0800
TZOFFSETTO:-0700
TZNAME:PDT
DTSTART:20230312T100000
END:DAYLIGHT
BEGIN:STANDARD
TZOFFSETFROM:-0700
TZOFFSETTO:-0800
TZNAME:PST
DTSTART:20231105T090000
END:STANDARD
BEGIN:DAYLIGHT
TZOFFSETFROM:-0800
TZOFFSETTO:-0700
TZNAME:PDT
DTSTART:20240310T100000
END:DAYLIGHT
BEGIN:STANDARD
TZOFFSETFROM:-0700
TZOFFSETTO:-0800
TZNAME:PST
DTSTART:20241103T090000
END:STANDARD
END:VTIMEZONE
BEGIN:VEVENT
DTSTART;VALUE=DATE:20230603
DTEND;VALUE=DATE:20230605
DTSTAMP:20260422T232813
CREATED:20230517T214244Z
LAST-MODIFIED:20230517T214321Z
UID:10001198-1685786400-1685872799@www.interpride.org
SUMMARY:Bangkok Pride 2023 | Bangkok Art and Culture Center (BACC) | LGBTQ+ in Bangkok
DESCRIPTION:Bangkok’s streets will again be filled with color and revelry on the first Sunday of June\, the day of the city’s most lavish parade. \n  \nThis year’s pride parade\, hosted by the non-profit organization Naruemit Pride and the Bangkok Metropolitan Administration\, will offer new attractions under the theme “Beyond Gender.” \n  \nBeginning from BACC on the Pathumwan intersection at 15:00\, the parade will travel along Rama 1 Road until centralwOrld\, where celebrations will wind down. The parade is seen from either side of the street.
URL:https://www.interpride.org/event/bangkok-pride-2023-bangkok-art-and-culture-center-bacc-lgbtq-in-bangkok/
LOCATION:Bangkok Art & Culture Centre\, 939 Rama I Rd\, Wang Mai\, Pathum Wan\, Bangkok\, Thailand
CATEGORIES:PRIDE EVENT
ATTACH;FMTTYPE=image/jpeg:https://www.interpride.org/wp-content/uploads/2023/05/BangkokPrideEvent2023.jpg
ORGANIZER;CN="Bangkok Pride":MAILTO:Naruemitpride@gmail.com
END:VEVENT
BEGIN:VEVENT
DTSTART;TZID=America/Los_Angeles:20230603T000000
DTEND;TZID=America/Los_Angeles:20230603T000000
DTSTAMP:20260422T232813
CREATED:20230109T231212Z
LAST-MODIFIED:20230109T231212Z
UID:10001182-1685750400-1685750400@www.interpride.org
SUMMARY:JJLA | OUTLOUD
DESCRIPTION:United States
URL:https://www.interpride.org/event/jjla-outloud/
CATEGORIES:PRIDE EVENT
END:VEVENT
BEGIN:VEVENT
DTSTART;TZID=America/Los_Angeles:20230603T000000
DTEND;TZID=America/Los_Angeles:20230603T000000
DTSTAMP:20260422T232813
CREATED:20230109T230511Z
LAST-MODIFIED:20230109T230511Z
UID:10001163-1685750400-1685750400@www.interpride.org
SUMMARY:Bangkok (Naruemit) Pride
DESCRIPTION:Thailand (R19)
URL:https://www.interpride.org/event/bangkok-naruemit-pride/
CATEGORIES:PRIDE EVENT
END:VEVENT
BEGIN:VEVENT
DTSTART;TZID=America/Los_Angeles:20230603T000000
DTEND;TZID=America/Los_Angeles:20230603T000000
DTSTAMP:20260422T232813
CREATED:20230109T230045Z
LAST-MODIFIED:20230109T230045Z
UID:10001157-1685750400-1685750400@www.interpride.org
SUMMARY:Lisbon Bear Pride
DESCRIPTION:Portugal (R14)
URL:https://www.interpride.org/event/lisbon-bear-pride/
CATEGORIES:PRIDE EVENT
END:VEVENT
BEGIN:VEVENT
DTSTART;TZID=America/Los_Angeles:20230603T000000
DTEND;TZID=America/Los_Angeles:20230603T000000
DTSTAMP:20260422T232813
CREATED:20230109T225628Z
LAST-MODIFIED:20230109T225628Z
UID:10001143-1685750400-1685750400@www.interpride.org
SUMMARY:CapeCodPRIDE.org
DESCRIPTION:United States
URL:https://www.interpride.org/event/capecodpride-org/
CATEGORIES:PRIDE EVENT
END:VEVENT
BEGIN:VEVENT
DTSTART;TZID=America/Los_Angeles:20230603T000000
DTEND;TZID=America/Los_Angeles:20230603T000000
DTSTAMP:20260422T232813
CREATED:20230109T223353Z
LAST-MODIFIED:20230109T223353Z
UID:10001119-1685750400-1685750400@www.interpride.org
SUMMARY:North Idaho Pride Alliance
DESCRIPTION:United States
URL:https://www.interpride.org/event/north-idaho-pride-alliance/
CATEGORIES:PRIDE EVENT
END:VEVENT
BEGIN:VEVENT
DTSTART;TZID=America/Los_Angeles:20230603T000000
DTEND;TZID=America/Los_Angeles:20230603T000000
DTSTAMP:20260422T232813
CREATED:20230109T223337Z
LAST-MODIFIED:20230109T223337Z
UID:10001112-1685750400-1685750400@www.interpride.org
SUMMARY:Venice Pride
DESCRIPTION:United States
URL:https://www.interpride.org/event/venice-pride-2/
CATEGORIES:PRIDE EVENT
END:VEVENT
BEGIN:VEVENT
DTSTART;TZID=America/Los_Angeles:20230602T170000
DTEND;TZID=America/Los_Angeles:20230602T170000
DTSTAMP:20260422T232813
CREATED:20220814T003804Z
LAST-MODIFIED:20220814T003804Z
UID:10000758-1685725200-1685725200@www.interpride.org
SUMMARY:South Georgia Pride\, Inc.
DESCRIPTION:
URL:https://www.interpride.org/event/south-georgia-pride-inc/
CATEGORIES:PRIDE EVENT
END:VEVENT
BEGIN:VEVENT
DTSTART;TZID=America/Los_Angeles:20230602T170000
DTEND;TZID=America/Los_Angeles:20230602T170000
DTSTAMP:20260422T232813
CREATED:20220814T003116Z
LAST-MODIFIED:20220814T003116Z
UID:10000668-1685725200-1685725200@www.interpride.org
SUMMARY:GIRLxGIRL
DESCRIPTION:
URL:https://www.interpride.org/event/girlxgirl/
CATEGORIES:PRIDE EVENT
END:VEVENT
BEGIN:VEVENT
DTSTART;TZID=America/Los_Angeles:20230602T000000
DTEND;TZID=America/Los_Angeles:20230602T000000
DTSTAMP:20260422T232813
CREATED:20230109T230045Z
LAST-MODIFIED:20230109T230045Z
UID:10001155-1685664000-1685664000@www.interpride.org
SUMMARY:Dhaka Pride
DESCRIPTION:Bangladesh (R19)
URL:https://www.interpride.org/event/dhaka-pride/
CATEGORIES:PRIDE EVENT
END:VEVENT
BEGIN:VEVENT
DTSTART;TZID=America/Los_Angeles:20230601T170000
DTEND;TZID=America/Los_Angeles:20230601T170000
DTSTAMP:20260422T232813
CREATED:20220814T003040Z
LAST-MODIFIED:20220814T003040Z
UID:10000646-1685638800-1685638800@www.interpride.org
SUMMARY:Fierté Val-d’Or
DESCRIPTION:
URL:https://www.interpride.org/event/fierte-val-dor/
CATEGORIES:PRIDE EVENT
END:VEVENT
BEGIN:VEVENT
DTSTART;TZID=America/Los_Angeles:20230601T000000
DTEND;TZID=America/Los_Angeles:20230601T000000
DTSTAMP:20260422T232813
CREATED:20230109T231007Z
LAST-MODIFIED:20230109T231007Z
UID:10001172-1685577600-1685577600@www.interpride.org
SUMMARY:Siouxland Pride Alliance
DESCRIPTION:United States
URL:https://www.interpride.org/event/siouxland-pride-alliance-2/
CATEGORIES:PRIDE EVENT
END:VEVENT
BEGIN:VEVENT
DTSTART;TZID=America/Los_Angeles:20230531T170000
DTEND;TZID=America/Los_Angeles:20230531T170000
DTSTAMP:20260422T232813
CREATED:20220814T004704Z
LAST-MODIFIED:20220814T004704Z
UID:10000801-1685552400-1685552400@www.interpride.org
SUMMARY:Milwaukee Pride\, Inc.
DESCRIPTION:
URL:https://www.interpride.org/event/milwaukee-pride-inc/
CATEGORIES:PRIDE EVENT
END:VEVENT
BEGIN:VEVENT
DTSTART;TZID=America/Los_Angeles:20230531T170000
DTEND;TZID=America/Los_Angeles:20230531T170000
DTSTAMP:20260422T232813
CREATED:20220814T003353Z
LAST-MODIFIED:20220814T003353Z
UID:10000734-1685552400-1685552400@www.interpride.org
SUMMARY:SASOD Guyana
DESCRIPTION:
URL:https://www.interpride.org/event/sasod-guyana/
CATEGORIES:PRIDE EVENT
END:VEVENT
BEGIN:VEVENT
DTSTART;TZID=America/Los_Angeles:20230531T170000
DTEND;TZID=America/Los_Angeles:20230531T170000
DTSTAMP:20260422T232813
CREATED:20220814T003124Z
LAST-MODIFIED:20220814T003124Z
UID:10000679-1685552400-1685552400@www.interpride.org
SUMMARY:Sydney Pride Festival
DESCRIPTION:
URL:https://www.interpride.org/event/sydney-pride-festival/
CATEGORIES:PRIDE EVENT
END:VEVENT
BEGIN:VEVENT
DTSTART;TZID=America/Los_Angeles:20230527T000000
DTEND;TZID=America/Los_Angeles:20230527T000000
DTSTAMP:20260422T232813
CREATED:20230109T225844Z
LAST-MODIFIED:20230109T225844Z
UID:10001152-1685145600-1685145600@www.interpride.org
SUMMARY:CSD Hannover/Andersraum e.V.
DESCRIPTION:Germany (R12)
URL:https://www.interpride.org/event/csd-hannover-andersraum-e-v/
CATEGORIES:PRIDE EVENT
END:VEVENT
BEGIN:VEVENT
DTSTART;TZID=America/Los_Angeles:20230525T000000
DTEND;TZID=America/Los_Angeles:20230525T000000
DTSTAMP:20260422T232813
CREATED:20230109T225629Z
LAST-MODIFIED:20230109T225629Z
UID:10001144-1684972800-1684972800@www.interpride.org
SUMMARY:Center for Black Equity  ( DC Black Pride)
DESCRIPTION:United States
URL:https://www.interpride.org/event/center-for-black-equity-dc-black-pride/
CATEGORIES:PRIDE EVENT
END:VEVENT
BEGIN:VEVENT
DTSTART;TZID=America/Los_Angeles:20230522T000000
DTEND;TZID=America/Los_Angeles:20230522T000000
DTSTAMP:20260422T232813
CREATED:20230109T231048Z
LAST-MODIFIED:20230109T231048Z
UID:10001180-1684713600-1684713600@www.interpride.org
SUMMARY:VALLARTA PRIDE
DESCRIPTION:Mexico (R1)
URL:https://www.interpride.org/event/vallarta-pride/
CATEGORIES:PRIDE EVENT
END:VEVENT
BEGIN:VEVENT
DTSTART;TZID=America/Los_Angeles:20230521T000000
DTEND;TZID=America/Los_Angeles:20230521T000000
DTSTAMP:20260422T232813
CREATED:20230109T223809Z
LAST-MODIFIED:20230109T223809Z
UID:10001129-1684627200-1684627200@www.interpride.org
SUMMARY:Pride Center of Staten Island/Staten Island PrideFest
DESCRIPTION:United States
URL:https://www.interpride.org/event/pride-center-of-staten-island-staten-island-pridefest-2/
CATEGORIES:PRIDE EVENT
END:VEVENT
BEGIN:VEVENT
DTSTART;TZID=America/Los_Angeles:20230520T000000
DTEND;TZID=America/Los_Angeles:20230520T000000
DTSTAMP:20260422T232813
CREATED:20230109T230512Z
LAST-MODIFIED:20230109T230512Z
UID:10001165-1684540800-1684540800@www.interpride.org
SUMMARY:Ozark Pride Inc
DESCRIPTION:United States
URL:https://www.interpride.org/event/ozark-pride-inc/
CATEGORIES:PRIDE EVENT
END:VEVENT
BEGIN:VEVENT
DTSTART;TZID=America/Los_Angeles:20230520T000000
DTEND;TZID=America/Los_Angeles:20230520T000000
DTSTAMP:20260422T232813
CREATED:20230109T230511Z
LAST-MODIFIED:20230109T230511Z
UID:10001164-1684540800-1684540800@www.interpride.org
SUMMARY:New Hope Celebrates
DESCRIPTION:United States
URL:https://www.interpride.org/event/new-hope-celebrates-2/
CATEGORIES:PRIDE EVENT
END:VEVENT
BEGIN:VEVENT
DTSTART;TZID=America/Los_Angeles:20230519T000000
DTEND;TZID=America/Los_Angeles:20230519T000000
DTSTAMP:20260422T232813
CREATED:20230109T223407Z
LAST-MODIFIED:20230109T223407Z
UID:10001122-1684454400-1684454400@www.interpride.org
SUMMARY:Stowarzyszenie Queerowy Maj
DESCRIPTION:Poland (R8)
URL:https://www.interpride.org/event/stowarzyszenie-queerowy-maj/
CATEGORIES:PRIDE EVENT
END:VEVENT
BEGIN:VEVENT
DTSTART;TZID=America/Los_Angeles:20230519T000000
DTEND;TZID=America/Los_Angeles:20230519T000000
DTSTAMP:20260422T232813
CREATED:20230109T223322Z
LAST-MODIFIED:20230109T223322Z
UID:10001109-1684454400-1684454400@www.interpride.org
SUMMARY:Fundacja Rownosc.org.pl
DESCRIPTION:Poland (R8)
URL:https://www.interpride.org/event/fundacja-rownosc-org-pl/
CATEGORIES:PRIDE EVENT
END:VEVENT
BEGIN:VEVENT
DTSTART;TZID=America/Los_Angeles:20230429T160000
DTEND;TZID=America/Los_Angeles:20230429T220000
DTSTAMP:20260422T232813
CREATED:20221005T182829Z
LAST-MODIFIED:20230224T021050Z
UID:10000932-1682784000-1682805600@www.interpride.org
SUMMARY:InterPride 40th Anniversary Gala
DESCRIPTION:SAVE THE DATE! \n  \nLet’s celebrate 40 years of InterPride together!  \n  \nCheers to 40 years of “Advancing The Global Pride Movement” and InterPride! We plan to celebrate this fall with our first-ever InterPride Global Gala on Saturday\, April 29\, 2023. The event will take place at AVALON Hollywood\, in star-studded Hollywood\, California (USA)\, from 4:00 pm (PT) until 10:00 pm (PT). \n  \n  \nBUY TICKETS \n  \n  \n  \n  \n 
URL:https://www.interpride.org/event/gala/
LOCATION:AVALON Hollywood\, 1735 Vine Street\, Hollywood\, CA\, 90028\, United States
CATEGORIES:IMPORTANT DATES,PRIDE EVENT
ATTACH;FMTTYPE=image/png:https://www.interpride.org/wp-content/uploads/2022/10/Gala-Social-Media-02.png
GEO:34.10272;-118.32717
X-APPLE-STRUCTURED-LOCATION;VALUE=URI;X-ADDRESS=AVALON Hollywood 1735 Vine Street Hollywood CA 90028 United States;X-APPLE-RADIUS=500;X-TITLE=1735 Vine Street:geo:-118.32717,34.10272
END:VEVENT
BEGIN:VEVENT
DTSTART;TZID=America/Los_Angeles:20230325T000000
DTEND;TZID=America/Los_Angeles:20230325T000000
DTSTAMP:20260422T232813
CREATED:20230109T224215Z
LAST-MODIFIED:20230109T224215Z
UID:10001136-1679702400-1679702400@www.interpride.org
SUMMARY:TAMPA PRIDE\, INC
DESCRIPTION:United States
URL:https://www.interpride.org/event/tampa-pride-inc/
CATEGORIES:PRIDE EVENT
END:VEVENT
BEGIN:VEVENT
DTSTART;TZID=America/Los_Angeles:20230324T170000
DTEND;TZID=America/Los_Angeles:20230324T170000
DTSTAMP:20260422T232813
CREATED:20220814T004705Z
LAST-MODIFIED:20220814T004705Z
UID:10000803-1679677200-1679677200@www.interpride.org
SUMMARY:Compass Community Center
DESCRIPTION:
URL:https://www.interpride.org/event/compass-community-center/
CATEGORIES:PRIDE EVENT
END:VEVENT
BEGIN:VEVENT
DTSTART;TZID=America/Los_Angeles:20230311T160000
DTEND;TZID=America/Los_Angeles:20230311T160000
DTSTAMP:20260422T232813
CREATED:20220814T003117Z
LAST-MODIFIED:20220814T003117Z
UID:10000670-1678550400-1678550400@www.interpride.org
SUMMARY:Chillout Daylesford Inc
DESCRIPTION:
URL:https://www.interpride.org/event/chillout-daylesford-inc/
CATEGORIES:PRIDE EVENT
END:VEVENT
BEGIN:VEVENT
DTSTART;VALUE=DATE:20230228
DTEND;VALUE=DATE:20230304
DTSTAMP:20260422T232813
CREATED:20230203T001036Z
LAST-MODIFIED:20230203T001036Z
UID:10001187-1677560400-1677819599@www.interpride.org
SUMMARY:Virtual Participation in Sydney WorldPride 2023 Human Rights Conference
DESCRIPTION:Sydney WorldPride Human Rights Conference is FREE virtually!\n\nThe Sydney WorldPride Human Rights Conference (1–3 March 2023) will be free to view globally through two virtual channels: \n  \n\nLIVE STREAM: Open-source live stream of the plenary and mainstage sessions.\nVIRTUAL PLATFORM: Register-to-view live stream of all plenary and break-out sessions\, including moderated group chat\, real-time Q&A\, and on-demand access for one year post-event\n\n  \nRegistration for the free virtual platform is now available here: https://interpride.net/hrcregister \n  \nIf you require a VPN to participate virtually from a hostile country\, please email conference@sydneyworldpride.com. \n 
URL:https://www.interpride.org/event/virtual-participation-in-sydney-worldpride-2023-human-rights-conference/
CATEGORIES:PRIDE EVENT,WEBINAR
ATTACH;FMTTYPE=image/jpeg:https://www.interpride.org/wp-content/uploads/2023/02/Sydney-Human-Rights-Conference-TW.jpg
ORGANIZER;CN="Sydney WorldPride":MAILTO:conference@sydneyworldpride.com
END:VEVENT
BEGIN:VEVENT
DTSTART;TZID=America/Los_Angeles:20230225T000000
DTEND;TZID=America/Los_Angeles:20230225T000000
DTSTAMP:20260422T232813
CREATED:20230109T231048Z
LAST-MODIFIED:20230109T231048Z
UID:10001178-1677283200-1677283200@www.interpride.org
SUMMARY:Trikone Australia Inc
DESCRIPTION:Australia (R20)
URL:https://www.interpride.org/event/trikone-australia-inc-2/
CATEGORIES:PRIDE EVENT
END:VEVENT
BEGIN:VEVENT
DTSTART;TZID=America/Los_Angeles:20230225T000000
DTEND;TZID=America/Los_Angeles:20230225T000000
DTSTAMP:20260422T232813
CREATED:20230109T223353Z
LAST-MODIFIED:20230109T223353Z
UID:10001118-1677283200-1677283200@www.interpride.org
SUMMARY:Sydney Gay and Lesbian Mardi Gras
DESCRIPTION:Australia (R20)
URL:https://www.interpride.org/event/sydney-gay-and-lesbian-mardi-gras/
CATEGORIES:PRIDE EVENT
END:VEVENT
END:VCALENDAR