BEGIN:VCALENDAR
VERSION:2.0
PRODID:-//InterPride - ECPv6.15.20//NONSGML v1.0//EN
CALSCALE:GREGORIAN
METHOD:PUBLISH
X-WR-CALNAME:InterPride
X-ORIGINAL-URL:https://www.interpride.org
X-WR-CALDESC:Events for InterPride
REFRESH-INTERVAL;VALUE=DURATION:PT1H
X-Robots-Tag:noindex
X-PUBLISHED-TTL:PT1H
BEGIN:VTIMEZONE
TZID:America/Los_Angeles
BEGIN:DAYLIGHT
TZOFFSETFROM:-0800
TZOFFSETTO:-0700
TZNAME:PDT
DTSTART:20220313T100000
END:DAYLIGHT
BEGIN:STANDARD
TZOFFSETFROM:-0700
TZOFFSETTO:-0800
TZNAME:PST
DTSTART:20221106T090000
END:STANDARD
BEGIN:DAYLIGHT
TZOFFSETFROM:-0800
TZOFFSETTO:-0700
TZNAME:PDT
DTSTART:20230312T100000
END:DAYLIGHT
BEGIN:STANDARD
TZOFFSETFROM:-0700
TZOFFSETTO:-0800
TZNAME:PST
DTSTART:20231105T090000
END:STANDARD
BEGIN:DAYLIGHT
TZOFFSETFROM:-0800
TZOFFSETTO:-0700
TZNAME:PDT
DTSTART:20240310T100000
END:DAYLIGHT
BEGIN:STANDARD
TZOFFSETFROM:-0700
TZOFFSETTO:-0800
TZNAME:PST
DTSTART:20241103T090000
END:STANDARD
END:VTIMEZONE
BEGIN:VEVENT
DTSTART;TZID=America/Los_Angeles:20230707T000000
DTEND;TZID=America/Los_Angeles:20230707T000000
DTSTAMP:20260424T025618
CREATED:20221209T204954Z
LAST-MODIFIED:20221209T204954Z
UID:10001027-1688688000-1688688000@www.interpride.org
SUMMARY:International Peace & Love Day
DESCRIPTION:
URL:https://www.interpride.org/event/international-peace-love-day/
CATEGORIES:IMPORTANT DATES
END:VEVENT
BEGIN:VEVENT
DTSTART;TZID=America/Los_Angeles:20230702T000000
DTEND;TZID=America/Los_Angeles:20230702T000000
DTSTAMP:20260424T025618
CREATED:20230109T223252Z
LAST-MODIFIED:20230109T223252Z
UID:10001098-1688256000-1688256000@www.interpride.org
SUMMARY:Corporación Stonewall
DESCRIPTION:Colombia (R17)
URL:https://www.interpride.org/event/corporacion-stonewall-2/
CATEGORIES:PRIDE EVENT
END:VEVENT
BEGIN:VEVENT
DTSTART;TZID=America/Los_Angeles:20230701T000000
DTEND;TZID=America/Los_Angeles:20230702T000000
DTSTAMP:20260424T025618
CREATED:20220825T204158Z
LAST-MODIFIED:20220825T204158Z
UID:10000826-1688169600-1688256000@www.interpride.org
SUMMARY:UK Pride 2023
DESCRIPTION:
URL:https://www.interpride.org/event/uk-pride-2023/
CATEGORIES:PRIDE EVENT
END:VEVENT
BEGIN:VEVENT
DTSTART;TZID=America/Los_Angeles:20230701T000000
DTEND;TZID=America/Los_Angeles:20230701T000000
DTSTAMP:20260424T025618
CREATED:20230109T230952Z
LAST-MODIFIED:20230109T230952Z
UID:10001170-1688169600-1688169600@www.interpride.org
SUMMARY:Salento Pride
DESCRIPTION:Italy (R14)
URL:https://www.interpride.org/event/salento-pride/
CATEGORIES:PRIDE EVENT
END:VEVENT
BEGIN:VEVENT
DTSTART;TZID=America/Los_Angeles:20230630T170000
DTEND;TZID=America/Los_Angeles:20230630T170000
DTSTAMP:20260424T025618
CREATED:20220814T003010Z
LAST-MODIFIED:20220814T003010Z
UID:10000633-1688144400-1688144400@www.interpride.org
SUMMARY:Pride in London
DESCRIPTION:
URL:https://www.interpride.org/event/pride-in-london/
CATEGORIES:PRIDE EVENT
END:VEVENT
BEGIN:VEVENT
DTSTART;TZID=America/Los_Angeles:20230630T000000
DTEND;TZID=America/Los_Angeles:20230630T000000
DTSTAMP:20260424T025618
CREATED:20221209T204953Z
LAST-MODIFIED:20221209T204953Z
UID:10001026-1688083200-1688083200@www.interpride.org
SUMMARY:LGBTQ Giving Day
DESCRIPTION:
URL:https://www.interpride.org/event/lgbtq-giving-day-2/
CATEGORIES:IMPORTANT DATES
END:VEVENT
BEGIN:VEVENT
DTSTART;TZID=America/Los_Angeles:20230628T000000
DTEND;TZID=America/Los_Angeles:20230628T000000
DTSTAMP:20260424T025618
CREATED:20221209T204953Z
LAST-MODIFIED:20221209T204953Z
UID:10001025-1687910400-1687910400@www.interpride.org
SUMMARY:Stonewall Uprising Anniversary
DESCRIPTION:
URL:https://www.interpride.org/event/stonewall-uprising-anniversary-2/
CATEGORIES:IMPORTANT DATES
END:VEVENT
BEGIN:VEVENT
DTSTART;TZID=America/Los_Angeles:20230627T000000
DTEND;TZID=America/Los_Angeles:20230627T000000
DTSTAMP:20260424T025618
CREATED:20221209T204938Z
LAST-MODIFIED:20221209T204938Z
UID:10001024-1687824000-1687824000@www.interpride.org
SUMMARY:Anniversary of the first EuroPride (London\, UK) (1992)
DESCRIPTION:
URL:https://www.interpride.org/event/anniversary-of-the-first-europride-london-uk-1992-2/
CATEGORIES:IMPORTANT DATES
END:VEVENT
BEGIN:VEVENT
DTSTART;TZID=America/Los_Angeles:20230626T000000
DTEND;TZID=America/Los_Angeles:20230626T000000
DTSTAMP:20260424T025618
CREATED:20221209T204938Z
LAST-MODIFIED:20221209T204938Z
UID:10001021-1687737600-1687737600@www.interpride.org
SUMMARY:LGBT Equality Day
DESCRIPTION:
URL:https://www.interpride.org/event/lgbt-equality-day/
CATEGORIES:IMPORTANT DATES
END:VEVENT
BEGIN:VEVENT
DTSTART;TZID=America/Los_Angeles:20230626T000000
DTEND;TZID=America/Los_Angeles:20230626T000000
DTSTAMP:20260424T025618
CREATED:20221209T204938Z
LAST-MODIFIED:20221209T204938Z
UID:10001022-1687737600-1687737600@www.interpride.org
SUMMARY:International Day against Drug Abuse and Illicit Trafficking
DESCRIPTION:
URL:https://www.interpride.org/event/international-day-against-drug-abuse-and-illicit-trafficking-2/
CATEGORIES:IMPORTANT DATES
END:VEVENT
BEGIN:VEVENT
DTSTART;TZID=America/Los_Angeles:20230626T000000
DTEND;TZID=America/Los_Angeles:20230626T000000
DTSTAMP:20260424T025618
CREATED:20221209T204938Z
LAST-MODIFIED:20221209T204938Z
UID:10001023-1687737600-1687737600@www.interpride.org
SUMMARY:United Nations International Day in Support of Victims of Torture
DESCRIPTION:
URL:https://www.interpride.org/event/united-nations-international-day-in-support-of-victims-of-torture-2/
CATEGORIES:IMPORTANT DATES
END:VEVENT
BEGIN:VEVENT
DTSTART;TZID=America/Los_Angeles:20230626T000000
DTEND;TZID=America/Los_Angeles:20230626T000000
DTSTAMP:20260424T025618
CREATED:20221209T204937Z
LAST-MODIFIED:20221209T204937Z
UID:10001020-1687737600-1687737600@www.interpride.org
SUMMARY:Anniversary of the Legalization of Same-Sex Marriage in the US
DESCRIPTION:
URL:https://www.interpride.org/event/anniversary-of-the-legalization-of-same-sex-marriage-in-the-us/
CATEGORIES:IMPORTANT DATES
END:VEVENT
BEGIN:VEVENT
DTSTART;TZID=America/Los_Angeles:20230625T000000
DTEND;TZID=America/Los_Angeles:20230625T000000
DTSTAMP:20260424T025618
CREATED:20230109T223337Z
LAST-MODIFIED:20230109T223337Z
UID:10001113-1687651200-1687651200@www.interpride.org
SUMMARY:North Bay Pride\, Victoria Pride
DESCRIPTION:Canada (R7)
URL:https://www.interpride.org/event/north-bay-pride-victoria-pride/
CATEGORIES:PRIDE EVENT
END:VEVENT
BEGIN:VEVENT
DTSTART;TZID=America/Los_Angeles:20230625T000000
DTEND;TZID=America/Los_Angeles:20230625T000000
DTSTAMP:20260424T025618
CREATED:20230109T223250Z
LAST-MODIFIED:20230109T223250Z
UID:10001094-1687651200-1687651200@www.interpride.org
SUMMARY:PRIDEChicago
DESCRIPTION:United States
URL:https://www.interpride.org/event/pridechicago-2/
CATEGORIES:PRIDE EVENT
END:VEVENT
BEGIN:VEVENT
DTSTART;TZID=America/Los_Angeles:20230624T000000
DTEND;TZID=America/Los_Angeles:20230624T000000
DTSTAMP:20260424T025618
CREATED:20230109T231007Z
LAST-MODIFIED:20230109T231007Z
UID:10001171-1687564800-1687564800@www.interpride.org
SUMMARY:San Francisco Pride
DESCRIPTION:United States
URL:https://www.interpride.org/event/san-francisco-pride-2/
CATEGORIES:PRIDE EVENT
END:VEVENT
BEGIN:VEVENT
DTSTART;TZID=America/Los_Angeles:20230624T000000
DTEND;TZID=America/Los_Angeles:20230624T000000
DTSTAMP:20260424T025618
CREATED:20230109T230952Z
LAST-MODIFIED:20230109T230952Z
UID:10001167-1687564800-1687564800@www.interpride.org
SUMMARY:Orange County LGBT Pride
DESCRIPTION:United States
URL:https://www.interpride.org/event/orange-county-lgbt-pride-2/
CATEGORIES:PRIDE EVENT
END:VEVENT
BEGIN:VEVENT
DTSTART;TZID=America/Los_Angeles:20230624T000000
DTEND;TZID=America/Los_Angeles:20230624T000000
DTSTAMP:20260424T025618
CREATED:20230109T230045Z
LAST-MODIFIED:20230109T230045Z
UID:10001154-1687564800-1687564800@www.interpride.org
SUMMARY:Human Rights Alliance
DESCRIPTION:United States
URL:https://www.interpride.org/event/human-rights-alliance-2/
CATEGORIES:PRIDE EVENT
END:VEVENT
BEGIN:VEVENT
DTSTART;TZID=America/Los_Angeles:20230624T000000
DTEND;TZID=America/Los_Angeles:20230624T000000
DTSTAMP:20260424T025618
CREATED:20230109T225844Z
LAST-MODIFIED:20230109T225844Z
UID:10001149-1687564800-1687564800@www.interpride.org
SUMMARY:Pride SV - ELSALVADORG
DESCRIPTION:El Salvador (R9)
URL:https://www.interpride.org/event/pride-sv-elsalvadorg-2/
CATEGORIES:PRIDE EVENT
END:VEVENT
BEGIN:VEVENT
DTSTART;TZID=America/Los_Angeles:20230624T000000
DTEND;TZID=America/Los_Angeles:20230624T000000
DTSTAMP:20260424T025618
CREATED:20230109T225844Z
LAST-MODIFIED:20230109T225844Z
UID:10001151-1687564800-1687564800@www.interpride.org
SUMMARY:Great Lakes Bay Pride
DESCRIPTION:United States
URL:https://www.interpride.org/event/great-lakes-bay-pride-2/
CATEGORIES:PRIDE EVENT
END:VEVENT
BEGIN:VEVENT
DTSTART;TZID=America/Los_Angeles:20230624T000000
DTEND;TZID=America/Los_Angeles:20230624T000000
DTSTAMP:20260424T025618
CREATED:20230109T223809Z
LAST-MODIFIED:20230109T223809Z
UID:10001128-1687564800-1687564800@www.interpride.org
SUMMARY:Augusta Pride
DESCRIPTION:United States
URL:https://www.interpride.org/event/augusta-pride-2/
CATEGORIES:PRIDE EVENT
END:VEVENT
BEGIN:VEVENT
DTSTART;TZID=America/Los_Angeles:20230624T000000
DTEND;TZID=America/Los_Angeles:20230624T000000
DTSTAMP:20260424T025618
CREATED:20230109T223407Z
LAST-MODIFIED:20230109T223407Z
UID:10001120-1687564800-1687564800@www.interpride.org
SUMMARY:NW PA Pride Alliance
DESCRIPTION:United States
URL:https://www.interpride.org/event/nw-pa-pride-alliance-2/
CATEGORIES:PRIDE EVENT
END:VEVENT
BEGIN:VEVENT
DTSTART;TZID=America/Los_Angeles:20230623T170000
DTEND;TZID=America/Los_Angeles:20230623T170000
DTSTAMP:20260424T025618
CREATED:20220814T003124Z
LAST-MODIFIED:20220814T003124Z
UID:10000678-1687539600-1687539600@www.interpride.org
SUMMARY:Pomona Pride Center\, Inc
DESCRIPTION:
URL:https://www.interpride.org/event/pomona-pride-center-inc/
CATEGORIES:PRIDE EVENT
END:VEVENT
BEGIN:VEVENT
DTSTART;TZID=America/Los_Angeles:20230623T170000
DTEND;TZID=America/Los_Angeles:20230623T170000
DTSTAMP:20260424T025618
CREATED:20220814T003051Z
LAST-MODIFIED:20220814T003051Z
UID:10000655-1687539600-1687539600@www.interpride.org
SUMMARY:Colectivo Marcha del Orgullo
DESCRIPTION:
URL:https://www.interpride.org/event/colectivo-marcha-del-orgullo/
CATEGORIES:PRIDE EVENT
END:VEVENT
BEGIN:VEVENT
DTSTART;TZID=America/Los_Angeles:20230623T170000
DTEND;TZID=America/Los_Angeles:20230623T170000
DTSTAMP:20260424T025618
CREATED:20220814T002907Z
LAST-MODIFIED:20220814T002907Z
UID:10000627-1687539600-1687539600@www.interpride.org
SUMMARY:Umbria Pride / Omphalos LGBTI
DESCRIPTION:
URL:https://www.interpride.org/event/umbria-pride-omphalos-lgbti/
CATEGORIES:PRIDE EVENT
END:VEVENT
BEGIN:VEVENT
DTSTART;TZID=America/Los_Angeles:20230623T170000
DTEND;TZID=America/Los_Angeles:20230623T170000
DTSTAMP:20260424T025618
CREATED:20220814T002906Z
LAST-MODIFIED:20220814T002906Z
UID:10000626-1687539600-1687539600@www.interpride.org
SUMMARY:Umbria Pride - Omphalos APS
DESCRIPTION:
URL:https://www.interpride.org/event/umbria-pride-omphalos-aps/
CATEGORIES:PRIDE EVENT
END:VEVENT
BEGIN:VEVENT
DTSTART;TZID=America/Los_Angeles:20230621T170000
DTEND;TZID=America/Los_Angeles:20230621T170000
DTSTAMP:20260424T025618
CREATED:20220814T003252Z
LAST-MODIFIED:20220814T003252Z
UID:10000708-1687366800-1687366800@www.interpride.org
SUMMARY:Rida National plastic
DESCRIPTION:
URL:https://www.interpride.org/event/rida-national-plastic/
CATEGORIES:PRIDE EVENT
END:VEVENT
BEGIN:VEVENT
DTSTART;TZID=America/Los_Angeles:20230620T000000
DTEND;TZID=America/Los_Angeles:20230620T000000
DTSTAMP:20260424T025618
CREATED:20221209T204923Z
LAST-MODIFIED:20221209T204923Z
UID:10001019-1687219200-1687219200@www.interpride.org
SUMMARY:World Refugee Day
DESCRIPTION:
URL:https://www.interpride.org/event/world-refugee-day-2/
CATEGORIES:IMPORTANT DATES
END:VEVENT
BEGIN:VEVENT
DTSTART;TZID=America/Los_Angeles:20230619T000000
DTEND;TZID=America/Los_Angeles:20230619T000000
DTSTAMP:20260424T025618
CREATED:20221209T204923Z
LAST-MODIFIED:20221209T204923Z
UID:10001018-1687132800-1687132800@www.interpride.org
SUMMARY:Juneteenth
DESCRIPTION:
URL:https://www.interpride.org/event/juneteenth-2/
CATEGORIES:IMPORTANT DATES
END:VEVENT
BEGIN:VEVENT
DTSTART;TZID=America/Los_Angeles:20230618T000000
DTEND;TZID=America/Los_Angeles:20230618T000000
DTSTAMP:20260424T025618
CREATED:20221209T204923Z
LAST-MODIFIED:20221209T204923Z
UID:10001017-1687046400-1687046400@www.interpride.org
SUMMARY:International Day for Countering Hate Speech
DESCRIPTION:
URL:https://www.interpride.org/event/international-day-for-countering-hate-speech/
CATEGORIES:IMPORTANT DATES
END:VEVENT
BEGIN:VEVENT
DTSTART;TZID=America/Los_Angeles:20230617T000000
DTEND;TZID=America/Los_Angeles:20230617T000000
DTSTAMP:20260424T025618
CREATED:20230109T231032Z
LAST-MODIFIED:20230109T231032Z
UID:10001175-1686960000-1686960000@www.interpride.org
SUMMARY:Stonewall Columbus Inc.
DESCRIPTION:United States
URL:https://www.interpride.org/event/stonewall-columbus-inc-2/
CATEGORIES:PRIDE EVENT
END:VEVENT
END:VCALENDAR