BEGIN:VCALENDAR
VERSION:2.0
PRODID:-//InterPride - ECPv6.15.20//NONSGML v1.0//EN
CALSCALE:GREGORIAN
METHOD:PUBLISH
X-ORIGINAL-URL:https://www.interpride.org
X-WR-CALDESC:Events for InterPride
REFRESH-INTERVAL;VALUE=DURATION:PT1H
X-Robots-Tag:noindex
X-PUBLISHED-TTL:PT1H
BEGIN:VTIMEZONE
TZID:America/Los_Angeles
BEGIN:DAYLIGHT
TZOFFSETFROM:-0800
TZOFFSETTO:-0700
TZNAME:PDT
DTSTART:20220313T100000
END:DAYLIGHT
BEGIN:STANDARD
TZOFFSETFROM:-0700
TZOFFSETTO:-0800
TZNAME:PST
DTSTART:20221106T090000
END:STANDARD
BEGIN:DAYLIGHT
TZOFFSETFROM:-0800
TZOFFSETTO:-0700
TZNAME:PDT
DTSTART:20230312T100000
END:DAYLIGHT
BEGIN:STANDARD
TZOFFSETFROM:-0700
TZOFFSETTO:-0800
TZNAME:PST
DTSTART:20231105T090000
END:STANDARD
BEGIN:DAYLIGHT
TZOFFSETFROM:-0800
TZOFFSETTO:-0700
TZNAME:PDT
DTSTART:20240310T100000
END:DAYLIGHT
BEGIN:STANDARD
TZOFFSETFROM:-0700
TZOFFSETTO:-0800
TZNAME:PST
DTSTART:20241103T090000
END:STANDARD
END:VTIMEZONE
BEGIN:VEVENT
DTSTART;TZID=America/Los_Angeles:20230512T080000
DTEND;TZID=America/Los_Angeles:20230512T090000
DTSTAMP:20260424T152335
CREATED:20230508T214651Z
LAST-MODIFIED:20230508T214651Z
UID:10001197-1683878400-1683882000@www.interpride.org
SUMMARY:Mpox & Pride: Know Before You Go!
DESCRIPTION:Join us for a live stream featuring public health experts from the U.S. Department of Health and Human Services (HHS) and the White House National Mpox Response Team. \n  \nYou will hear from Admiral Rachel Levine and Dr. Demetre C. Daskalakis on precautions\, prevention\, vaccination\, and the importance of destigmatizing mpox this Pride season. \n  \nHosted Live On InterPride’s Social Media Channels On Friday\, May 12\, 2023\, At 8:00 AM PDT | 11:00 AM EDT | 3:00 PM GMT
URL:https://www.interpride.org/event/mpox-pride-know-before-you-go/
ATTACH;FMTTYPE=image/png:https://www.interpride.org/wp-content/uploads/2023/05/MPox-Webinar-May-12-2023_Twitter.png
END:VEVENT
BEGIN:VEVENT
DTSTART;TZID=America/Los_Angeles:20230509T100000
DTEND;TZID=America/Los_Angeles:20230509T110000
DTSTAMP:20260424T152335
CREATED:20230508T200137Z
LAST-MODIFIED:20230508T200137Z
UID:10001196-1683626400-1683630000@www.interpride.org
SUMMARY:Propaganda & Extremism Today
DESCRIPTION:The Counterterrorism Education Learning Lab (CELL) and InterPride are proud to present this VIRTUAL 365 National Security Event Series program. Learn how violent extremists use propaganda and help prevent acts of identity-based violence in our communities and at Pride & LGBTQIA+ events. 10AM PDT | 11AM MDT | 1PM EDT | 5PM GMT \n  \nRegister at https://tinyurl.com/CELLInterPride23
URL:https://www.interpride.org/event/propaganda-extremism-today/
ATTACH;FMTTYPE=image/jpeg:https://www.interpride.org/wp-content/uploads/2023/05/Mizel-TW.jpg
END:VEVENT
BEGIN:VEVENT
DTSTART;TZID=America/Los_Angeles:20230503T000000
DTEND;TZID=America/Los_Angeles:20230503T000000
DTSTAMP:20260424T152335
CREATED:20221209T204823Z
LAST-MODIFIED:20221209T204823Z
UID:10001000-1683072000-1683072000@www.interpride.org
SUMMARY:World Press Freedom Day
DESCRIPTION:
URL:https://www.interpride.org/event/world-press-freedom-day-2/
CATEGORIES:IMPORTANT DATES
END:VEVENT
BEGIN:VEVENT
DTSTART;TZID=America/Los_Angeles:20230502T000000
DTEND;TZID=America/Los_Angeles:20230502T000000
DTSTAMP:20260424T152335
CREATED:20221209T204823Z
LAST-MODIFIED:20221209T204823Z
UID:10000999-1682985600-1682985600@www.interpride.org
SUMMARY:International Family Equality Day
DESCRIPTION:
URL:https://www.interpride.org/event/international-family-equality-day-2/
CATEGORIES:IMPORTANT DATES
END:VEVENT
BEGIN:VEVENT
DTSTART;TZID=America/Los_Angeles:20230501T000000
DTEND;TZID=America/Los_Angeles:20230531T000000
DTSTAMP:20260424T152335
CREATED:20221209T204823Z
LAST-MODIFIED:20221209T204823Z
UID:10000998-1682899200-1685491200@www.interpride.org
SUMMARY:Mental Health Awareness Month
DESCRIPTION:
URL:https://www.interpride.org/event/mental-health-awareness-month-2/
CATEGORIES:IMPORTANT DATES
END:VEVENT
BEGIN:VEVENT
DTSTART;TZID=America/Los_Angeles:20230429T160000
DTEND;TZID=America/Los_Angeles:20230429T220000
DTSTAMP:20260424T152335
CREATED:20221005T182829Z
LAST-MODIFIED:20230224T021050Z
UID:10000932-1682784000-1682805600@www.interpride.org
SUMMARY:InterPride 40th Anniversary Gala
DESCRIPTION:SAVE THE DATE! \n  \nLet’s celebrate 40 years of InterPride together!  \n  \nCheers to 40 years of “Advancing The Global Pride Movement” and InterPride! We plan to celebrate this fall with our first-ever InterPride Global Gala on Saturday\, April 29\, 2023. The event will take place at AVALON Hollywood\, in star-studded Hollywood\, California (USA)\, from 4:00 pm (PT) until 10:00 pm (PT). \n  \n  \nBUY TICKETS \n  \n  \n  \n  \n 
URL:https://www.interpride.org/event/gala/
LOCATION:AVALON Hollywood\, 1735 Vine Street\, Hollywood\, CA\, 90028\, United States
CATEGORIES:IMPORTANT DATES,PRIDE EVENT
ATTACH;FMTTYPE=image/png:https://www.interpride.org/wp-content/uploads/2022/10/Gala-Social-Media-02.png
GEO:34.10272;-118.32717
X-APPLE-STRUCTURED-LOCATION;VALUE=URI;X-ADDRESS=AVALON Hollywood 1735 Vine Street Hollywood CA 90028 United States;X-APPLE-RADIUS=500;X-TITLE=1735 Vine Street:geo:-118.32717,34.10272
END:VEVENT
BEGIN:VEVENT
DTSTART;TZID=America/Los_Angeles:20230429T110000
DTEND;TZID=America/Los_Angeles:20230429T120000
DTSTAMP:20260424T152335
CREATED:20230428T172352Z
LAST-MODIFIED:20230428T172352Z
UID:10001194-1682766000-1682769600@www.interpride.org
SUMMARY:Panel Discussion On Painting Rainbows
DESCRIPTION:Join InterPride & Pride 365 for a panel discussion\, Painting Rainbows! \n  \nDuring this discussion\, we will touch on topics such as: \n  \n\nUnderstanding Pink / rainbow washing\, the misappropriation of the Rainbow flag.\nHow brands can become better allies.\nHolding brands accountable.\n\n  \nOpen to the public! Join us at the W Hollywood in Great Room 3!
URL:https://www.interpride.org/event/panel-discussion-on-painting-rainbows/
LOCATION:W Hollywood\, 6250 Hollywood Blvd\, Hollywood\, CA\, 90028\, United States
ATTACH;FMTTYPE=image/png:https://www.interpride.org/wp-content/uploads/2023/04/Painting-The-Rainbow-Panel.png
END:VEVENT
BEGIN:VEVENT
DTSTART;TZID=America/Los_Angeles:20230426T000000
DTEND;TZID=America/Los_Angeles:20230426T000000
DTSTAMP:20260424T152335
CREATED:20221209T204823Z
LAST-MODIFIED:20221209T204823Z
UID:10000997-1682467200-1682467200@www.interpride.org
SUMMARY:Lesbian Visibility Day
DESCRIPTION:
URL:https://www.interpride.org/event/lesbian-visibility-day-2/
CATEGORIES:IMPORTANT DATES
END:VEVENT
BEGIN:VEVENT
DTSTART;TZID=America/Los_Angeles:20230424T000000
DTEND;TZID=America/Los_Angeles:20230430T000000
DTSTAMP:20260424T152335
CREATED:20221209T204809Z
LAST-MODIFIED:20221209T204809Z
UID:10000996-1682294400-1682812800@www.interpride.org
SUMMARY:Lesbian Visibility Week
DESCRIPTION:
URL:https://www.interpride.org/event/lesbian-visibility-week-2/
CATEGORIES:IMPORTANT DATES
END:VEVENT
BEGIN:VEVENT
DTSTART;TZID=America/Los_Angeles:20230423T090000
DTEND;TZID=America/Los_Angeles:20230423T100000
DTSTAMP:20260424T152335
CREATED:20230404T002614Z
LAST-MODIFIED:20230404T002614Z
UID:10001192-1682240400-1682244000@www.interpride.org
SUMMARY:Live Stream: Defining Social Justice | Africa & Asia Edition
DESCRIPTION:InterPride and the American Futures Institute (AFI)\, a student-led group from Duke University\, are proud to present Defining Social Justice: Africa and Asia Edition. \n  \nThe students from Duke will provide an overview of this research and showcase the importance of understanding Social Justice in different parts of the world. Join us for a very important discussion on 23 April 2023.
URL:https://www.interpride.org/event/live-stream-defining-social-justice-africa-asia-edition/
CATEGORIES:WEBINAR
ATTACH;FMTTYPE=image/jpeg:https://www.interpride.org/wp-content/uploads/2023/04/Defining-Social-Justice-TW.jpg
END:VEVENT
BEGIN:VEVENT
DTSTART;TZID=America/Los_Angeles:20230422T000000
DTEND;TZID=America/Los_Angeles:20230422T000000
DTSTAMP:20260424T152335
CREATED:20221209T204809Z
LAST-MODIFIED:20221209T204809Z
UID:10000995-1682121600-1682121600@www.interpride.org
SUMMARY:Earth Day
DESCRIPTION:
URL:https://www.interpride.org/event/earth-day-2/
CATEGORIES:IMPORTANT DATES
END:VEVENT
BEGIN:VEVENT
DTSTART;TZID=America/Los_Angeles:20230421T000000
DTEND;TZID=America/Los_Angeles:20230421T000000
DTSTAMP:20260424T152335
CREATED:20221209T204809Z
LAST-MODIFIED:20221209T204809Z
UID:10000994-1682035200-1682035200@www.interpride.org
SUMMARY:World Creativity and Innovation Day
DESCRIPTION:
URL:https://www.interpride.org/event/world-creativity-and-innovation-day-2/
CATEGORIES:IMPORTANT DATES
END:VEVENT
BEGIN:VEVENT
DTSTART;TZID=America/Los_Angeles:20230418T000000
DTEND;TZID=America/Los_Angeles:20230418T000000
DTSTAMP:20260424T152335
CREATED:20221209T204809Z
LAST-MODIFIED:20221209T204809Z
UID:10000993-1681776000-1681776000@www.interpride.org
SUMMARY:National Transgender HIV Testing Day
DESCRIPTION:
URL:https://www.interpride.org/event/national-transgender-hiv-testing-day-2/
CATEGORIES:IMPORTANT DATES
END:VEVENT
BEGIN:VEVENT
DTSTART;TZID=America/Los_Angeles:20230412T100000
DTEND;TZID=America/Los_Angeles:20230412T110000
DTSTAMP:20260424T152335
CREATED:20230317T201033Z
LAST-MODIFIED:20230331T191149Z
UID:10001189-1681293600-1681297200@www.interpride.org
SUMMARY:Webinar: Eyewitness to History: A Holocaust Survivor Speaks
DESCRIPTION:The Mizel Museum and InterPride invite you to attend a VIRTUAL program at NO COST: \n  \nEyewitness to History: A Holocaust Survivor Speaks \n  \nFeaturing: RUDI FLORIAN \n  \nPROPAGANDA & PERSONAL RESPONSIBILITY \n  \nUnderstand the dangerous impact of Nazi propaganda\nIdentify propaganda in today’s world\nLearn how to discern factual information from disinformation \n  \nCLICK THE LINK BELOW TO REGISTER: https://tinyurl.com/MMInterPrideETH0423 \n  \nFor questions\, contact: Richard Brethour-Bell at richard.brethour-bell@gmail.com
URL:https://www.interpride.org/event/webinar-eyewitness-to-history-a-holocaust-survivor-speaks/
CATEGORIES:WEBINAR
ATTACH;FMTTYPE=image/jpeg:https://www.interpride.org/wp-content/uploads/2023/03/MM-VETH-InterPride-RF-Social-Media-1600x900-03.30.23-FINAL.jpg
END:VEVENT
BEGIN:VEVENT
DTSTART;TZID=America/Los_Angeles:20230412T000000
DTEND;TZID=America/Los_Angeles:20230412T000000
DTSTAMP:20260424T152335
CREATED:20221209T204809Z
LAST-MODIFIED:20221209T204809Z
UID:10000992-1681257600-1681257600@www.interpride.org
SUMMARY:International Day of Pink
DESCRIPTION:
URL:https://www.interpride.org/event/international-day-of-pink/
CATEGORIES:IMPORTANT DATES
END:VEVENT
BEGIN:VEVENT
DTSTART;TZID=America/Los_Angeles:20230411T090000
DTEND;TZID=America/Los_Angeles:20230411T100000
DTSTAMP:20260424T152335
CREATED:20230403T175106Z
LAST-MODIFIED:20230403T175657Z
UID:10001191-1681203600-1681207200@www.interpride.org
SUMMARY:Live Stream: Giving Voice to LGBTQI+ Advocacy: Legislative v. Lived Reality
DESCRIPTION:Join the F&M Global Barometers (FMGB) and InterPride online on April 11 at 9am PT / 12pm ET / 4pm GMT to learn about the state of global LGBTQI+ rights and activism.\n\n\nThe FMGB tracks the state of LGBTQI+ rights in 204 countries\, including indicators such as the right to register\, the ability to hold Pride events\, and the right to peacefully and safely assemble. Most recently\, the FMGB launched the F&M Global Barometers Perception Index (GBPI)\, a first-of-its-kind survey that measures LGBTQI+ individuals’ lived realities. Together\, the FMGB and GBPI are unique tools that allow for longitudinal\, comprehensive\, and comparative analysis. Over the course of the live stream\, the FMGB will discuss the survey results\, highlight areas of progress and backsliding\, and discuss the correlation between activism\, lived reality\, democracy\, and corruption.\n\n\nVisit www.lgbtqiperceptionindex.org and www.fandmglobalbarometers.org to learn more.
URL:https://www.interpride.org/event/live-stream-giving-voice-to-lgbtqi-advocacy-legislative-v-lived-reality/
ATTACH;FMTTYPE=image/jpeg:https://www.interpride.org/wp-content/uploads/2023/04/FM-Twitter-scaled.jpg
END:VEVENT
BEGIN:VEVENT
DTSTART;TZID=America/Los_Angeles:20230407T000000
DTEND;TZID=America/Los_Angeles:20230407T000000
DTSTAMP:20260424T152335
CREATED:20221209T204754Z
LAST-MODIFIED:20221209T204754Z
UID:10000990-1680825600-1680825600@www.interpride.org
SUMMARY:International Day of Reflection on the 1994 Rwandan Genocide
DESCRIPTION:
URL:https://www.interpride.org/event/international-day-of-reflection-on-the-1994-rwandan-genocide/
CATEGORIES:IMPORTANT DATES
END:VEVENT
BEGIN:VEVENT
DTSTART;TZID=America/Los_Angeles:20230407T000000
DTEND;TZID=America/Los_Angeles:20230407T000000
DTSTAMP:20260424T152335
CREATED:20221209T204754Z
LAST-MODIFIED:20221209T204754Z
UID:10000991-1680825600-1680825600@www.interpride.org
SUMMARY:World Health Day
DESCRIPTION:
URL:https://www.interpride.org/event/world-health-day/
CATEGORIES:IMPORTANT DATES
END:VEVENT
BEGIN:VEVENT
DTSTART;TZID=America/Los_Angeles:20230406T000000
DTEND;TZID=America/Los_Angeles:20230406T000000
DTSTAMP:20260424T152335
CREATED:20221209T204753Z
LAST-MODIFIED:20221209T204753Z
UID:10000989-1680739200-1680739200@www.interpride.org
SUMMARY:International Asexuality Day
DESCRIPTION:
URL:https://www.interpride.org/event/international-asexuality-day-2/
CATEGORIES:IMPORTANT DATES
END:VEVENT
BEGIN:VEVENT
DTSTART;TZID=America/Los_Angeles:20230402T000000
DTEND;TZID=America/Los_Angeles:20230402T000000
DTSTAMP:20260424T152335
CREATED:20221209T204753Z
LAST-MODIFIED:20221209T204753Z
UID:10000988-1680393600-1680393600@www.interpride.org
SUMMARY:World Autism Awareness Day
DESCRIPTION:
URL:https://www.interpride.org/event/world-autism-awareness-day-2/
CATEGORIES:IMPORTANT DATES
END:VEVENT
BEGIN:VEVENT
DTSTART;TZID=America/Los_Angeles:20230401T000000
DTEND;TZID=America/Los_Angeles:20230430T000000
DTSTAMP:20260424T152335
CREATED:20221209T204752Z
LAST-MODIFIED:20221209T204752Z
UID:10000987-1680307200-1682812800@www.interpride.org
SUMMARY:Autism Acceptance Month
DESCRIPTION:
URL:https://www.interpride.org/event/autism-acceptance-month/
CATEGORIES:IMPORTANT DATES
END:VEVENT
BEGIN:VEVENT
DTSTART;TZID=America/Los_Angeles:20230401T000000
DTEND;TZID=America/Los_Angeles:20230430T000000
DTSTAMP:20260424T152335
CREATED:20221209T204740Z
LAST-MODIFIED:20221209T204740Z
UID:10000984-1680307200-1682812800@www.interpride.org
SUMMARY:Earth Month
DESCRIPTION:
URL:https://www.interpride.org/event/earth-month/
CATEGORIES:IMPORTANT DATES
END:VEVENT
BEGIN:VEVENT
DTSTART;TZID=America/Los_Angeles:20230401T000000
DTEND;TZID=America/Los_Angeles:20230430T000000
DTSTAMP:20260424T152335
CREATED:20221209T204740Z
LAST-MODIFIED:20221209T204740Z
UID:10000985-1680307200-1682812800@www.interpride.org
SUMMARY:Counseling Awareness Month
DESCRIPTION:
URL:https://www.interpride.org/event/counseling-awareness-month/
CATEGORIES:IMPORTANT DATES
END:VEVENT
BEGIN:VEVENT
DTSTART;TZID=America/Los_Angeles:20230401T000000
DTEND;TZID=America/Los_Angeles:20230430T000000
DTSTAMP:20260424T152335
CREATED:20221209T204740Z
LAST-MODIFIED:20221209T204740Z
UID:10000986-1680307200-1682812800@www.interpride.org
SUMMARY:Celebrate Diversity Month
DESCRIPTION:
URL:https://www.interpride.org/event/celebrate-diversity-month/
CATEGORIES:IMPORTANT DATES
END:VEVENT
BEGIN:VEVENT
DTSTART;TZID=America/Los_Angeles:20230401T000000
DTEND;TZID=America/Los_Angeles:20230430T000000
DTSTAMP:20260424T152335
CREATED:20221209T204738Z
LAST-MODIFIED:20221209T204738Z
UID:10000982-1680307200-1682812800@www.interpride.org
SUMMARY:Alcohol Awareness Month
DESCRIPTION:
URL:https://www.interpride.org/event/alcohol-awareness-month/
CATEGORIES:IMPORTANT DATES
END:VEVENT
BEGIN:VEVENT
DTSTART;TZID=America/Los_Angeles:20230401T000000
DTEND;TZID=America/Los_Angeles:20230430T000000
DTSTAMP:20260424T152335
CREATED:20221209T204738Z
LAST-MODIFIED:20221209T204738Z
UID:10000983-1680307200-1682812800@www.interpride.org
SUMMARY:Genocide Awareness Month
DESCRIPTION:
URL:https://www.interpride.org/event/genocide-awareness-month/
CATEGORIES:IMPORTANT DATES
END:VEVENT
BEGIN:VEVENT
DTSTART;TZID=America/Los_Angeles:20230401T000000
DTEND;TZID=America/Los_Angeles:20230430T000000
DTSTAMP:20260424T152335
CREATED:20221209T204546Z
LAST-MODIFIED:20221209T204546Z
UID:10000981-1680307200-1682812800@www.interpride.org
SUMMARY:Sexual Assault Awareness Month
DESCRIPTION:
URL:https://www.interpride.org/event/sexual-assault-awareness-month-2/
CATEGORIES:IMPORTANT DATES
END:VEVENT
BEGIN:VEVENT
DTSTART;TZID=America/Los_Angeles:20230331T000000
DTEND;TZID=America/Los_Angeles:20230331T000000
DTSTAMP:20260424T152335
CREATED:20221209T204546Z
LAST-MODIFIED:20221209T204546Z
UID:10000979-1680220800-1680220800@www.interpride.org
SUMMARY:International Transgender Day of Visibility
DESCRIPTION:
URL:https://www.interpride.org/event/international-transgender-day-of-visibility-2/
CATEGORIES:IMPORTANT DATES
END:VEVENT
BEGIN:VEVENT
DTSTART;TZID=America/Los_Angeles:20230327T000000
DTEND;TZID=America/Los_Angeles:20230402T000000
DTSTAMP:20260424T152335
CREATED:20221209T204546Z
LAST-MODIFIED:20221209T204546Z
UID:10000980-1679875200-1680393600@www.interpride.org
SUMMARY:World Autism Acceptance Week
DESCRIPTION:
URL:https://www.interpride.org/event/world-autism-acceptance-week/
CATEGORIES:IMPORTANT DATES
END:VEVENT
BEGIN:VEVENT
DTSTART;TZID=America/Los_Angeles:20230325T000000
DTEND;TZID=America/Los_Angeles:20230325T000000
DTSTAMP:20260424T152335
CREATED:20230109T224215Z
LAST-MODIFIED:20230109T224215Z
UID:10001136-1679702400-1679702400@www.interpride.org
SUMMARY:TAMPA PRIDE\, INC
DESCRIPTION:United States
URL:https://www.interpride.org/event/tampa-pride-inc/
CATEGORIES:PRIDE EVENT
END:VEVENT
END:VCALENDAR