BEGIN:VCALENDAR
VERSION:2.0
PRODID:-//InterPride - ECPv6.15.20//NONSGML v1.0//EN
CALSCALE:GREGORIAN
METHOD:PUBLISH
X-ORIGINAL-URL:https://www.interpride.org
X-WR-CALDESC:Events for InterPride
REFRESH-INTERVAL;VALUE=DURATION:PT1H
X-Robots-Tag:noindex
X-PUBLISHED-TTL:PT1H
BEGIN:VTIMEZONE
TZID:America/Los_Angeles
BEGIN:DAYLIGHT
TZOFFSETFROM:-0800
TZOFFSETTO:-0700
TZNAME:PDT
DTSTART:20220313T100000
END:DAYLIGHT
BEGIN:STANDARD
TZOFFSETFROM:-0700
TZOFFSETTO:-0800
TZNAME:PST
DTSTART:20221106T090000
END:STANDARD
BEGIN:DAYLIGHT
TZOFFSETFROM:-0800
TZOFFSETTO:-0700
TZNAME:PDT
DTSTART:20230312T100000
END:DAYLIGHT
BEGIN:STANDARD
TZOFFSETFROM:-0700
TZOFFSETTO:-0800
TZNAME:PST
DTSTART:20231105T090000
END:STANDARD
BEGIN:DAYLIGHT
TZOFFSETFROM:-0800
TZOFFSETTO:-0700
TZNAME:PDT
DTSTART:20240310T100000
END:DAYLIGHT
BEGIN:STANDARD
TZOFFSETFROM:-0700
TZOFFSETTO:-0800
TZNAME:PST
DTSTART:20241103T090000
END:STANDARD
END:VTIMEZONE
BEGIN:VEVENT
DTSTART;TZID=America/Los_Angeles:20231116T000000
DTEND;TZID=America/Los_Angeles:20231116T000000
DTSTAMP:20260421T084500
CREATED:20221209T205558Z
LAST-MODIFIED:20221209T205558Z
UID:10001081-1700092800-1700092800@www.interpride.org
SUMMARY:International Day for Tolerance
DESCRIPTION:
URL:https://www.interpride.org/event/international-day-for-tolerance-2/
CATEGORIES:IMPORTANT DATES
END:VEVENT
BEGIN:VEVENT
DTSTART;TZID=America/Los_Angeles:20231114T000000
DTEND;TZID=America/Los_Angeles:20231114T000000
DTSTAMP:20260421T084500
CREATED:20221209T205558Z
LAST-MODIFIED:20221209T205558Z
UID:10001080-1699920000-1699920000@www.interpride.org
SUMMARY:International Girls Day
DESCRIPTION:
URL:https://www.interpride.org/event/international-girls-day/
CATEGORIES:IMPORTANT DATES
END:VEVENT
BEGIN:VEVENT
DTSTART;TZID=America/Los_Angeles:20231113T000000
DTEND;TZID=America/Los_Angeles:20231119T000000
DTSTAMP:20260421T084500
CREATED:20221209T205543Z
LAST-MODIFIED:20221209T205543Z
UID:10001078-1699833600-1700352000@www.interpride.org
SUMMARY:Transgender Awareness Week
DESCRIPTION:
URL:https://www.interpride.org/event/transgender-awareness-week-2/
CATEGORIES:IMPORTANT DATES
END:VEVENT
BEGIN:VEVENT
DTSTART;TZID=America/Los_Angeles:20231113T000000
DTEND;TZID=America/Los_Angeles:20231119T000000
DTSTAMP:20260421T084500
CREATED:20221209T205543Z
LAST-MODIFIED:20221209T205543Z
UID:10001079-1699833600-1700352000@www.interpride.org
SUMMARY:World Kindness Week
DESCRIPTION:
URL:https://www.interpride.org/event/world-kindness-week/
CATEGORIES:IMPORTANT DATES
END:VEVENT
BEGIN:VEVENT
DTSTART;TZID=America/Los_Angeles:20231111T000000
DTEND;TZID=America/Los_Angeles:20231111T000000
DTSTAMP:20260421T084500
CREATED:20230109T230045Z
LAST-MODIFIED:20230109T230045Z
UID:10001153-1699660800-1699660800@www.interpride.org
SUMMARY:Hong Kong Pride Parade
DESCRIPTION:Hong Kong (R19)
URL:https://www.interpride.org/event/hong-kong-pride-parade-2/
CATEGORIES:PRIDE EVENT
END:VEVENT
BEGIN:VEVENT
DTSTART;TZID=America/Los_Angeles:20231111T000000
DTEND;TZID=America/Los_Angeles:20231111T000000
DTSTAMP:20260421T084500
CREATED:20230109T223307Z
LAST-MODIFIED:20230109T223307Z
UID:10001101-1699660800-1699660800@www.interpride.org
SUMMARY:Les Corner Empowerment Association
DESCRIPTION:Hong Kong (R19)
URL:https://www.interpride.org/event/les-corner-empowerment-association-2/
CATEGORIES:PRIDE EVENT
END:VEVENT
BEGIN:VEVENT
DTSTART;TZID=America/Los_Angeles:20231109T000000
DTEND;TZID=America/Los_Angeles:20231109T000000
DTSTAMP:20260421T084500
CREATED:20221209T205543Z
LAST-MODIFIED:20221209T205543Z
UID:10001077-1699488000-1699488000@www.interpride.org
SUMMARY:World Freedom Day
DESCRIPTION:
URL:https://www.interpride.org/event/world-freedom-day/
CATEGORIES:IMPORTANT DATES
END:VEVENT
BEGIN:VEVENT
DTSTART;TZID=America/Los_Angeles:20231108T000000
DTEND;TZID=America/Los_Angeles:20231108T000000
DTSTAMP:20260421T084500
CREATED:20221209T205543Z
LAST-MODIFIED:20221209T205543Z
UID:10001076-1699401600-1699401600@www.interpride.org
SUMMARY:Intersex Day of Remembrance
DESCRIPTION:
URL:https://www.interpride.org/event/intersex-day-of-remembrance-2/
CATEGORIES:IMPORTANT DATES
END:VEVENT
BEGIN:VEVENT
DTSTART;TZID=America/Los_Angeles:20231105T000000
DTEND;TZID=America/Los_Angeles:20231105T000000
DTSTAMP:20260421T084500
CREATED:20221209T205543Z
LAST-MODIFIED:20221209T205543Z
UID:10001075-1699142400-1699142400@www.interpride.org
SUMMARY:Trans Parent Day
DESCRIPTION:
URL:https://www.interpride.org/event/trans-parent-day-2/
CATEGORIES:IMPORTANT DATES
END:VEVENT
BEGIN:VEVENT
DTSTART;TZID=America/Los_Angeles:20231101T000000
DTEND;TZID=America/Los_Angeles:20231130T000000
DTSTAMP:20260421T084500
CREATED:20221209T205528Z
LAST-MODIFIED:20221209T205528Z
UID:10001074-1698796800-1701302400@www.interpride.org
SUMMARY:Trans Awareness Month
DESCRIPTION:
URL:https://www.interpride.org/event/trans-awareness-month-2/
CATEGORIES:IMPORTANT DATES
END:VEVENT
BEGIN:VEVENT
DTSTART;TZID=America/Los_Angeles:20231026T000000
DTEND;TZID=America/Los_Angeles:20231026T000000
DTSTAMP:20260421T084500
CREATED:20221209T205528Z
LAST-MODIFIED:20221209T205528Z
UID:10001073-1698278400-1698278400@www.interpride.org
SUMMARY:Intersex Awareness Day
DESCRIPTION:
URL:https://www.interpride.org/event/intersex-awareness-day-2/
CATEGORIES:IMPORTANT DATES
END:VEVENT
BEGIN:VEVENT
DTSTART;TZID=America/Los_Angeles:20231025T000000
DTEND;TZID=America/Los_Angeles:20231029T000000
DTSTAMP:20260421T084500
CREATED:20220825T204201Z
LAST-MODIFIED:20220825T204201Z
UID:10000828-1698192000-1698537600@www.interpride.org
SUMMARY:InterPride Annual General Meeting & World Conference 2023
DESCRIPTION:
URL:https://www.interpride.org/event/interpride-annual-general-meeting-world-conference-2023/
CATEGORIES:PRIDE EVENT
END:VEVENT
BEGIN:VEVENT
DTSTART;TZID=America/Los_Angeles:20231025T000000
DTEND;TZID=America/Los_Angeles:20231025T000000
DTSTAMP:20260421T084500
CREATED:20221209T205528Z
LAST-MODIFIED:20221209T205528Z
UID:10001072-1698192000-1698192000@www.interpride.org
SUMMARY:International Artist Day
DESCRIPTION:
URL:https://www.interpride.org/event/international-artist-day/
CATEGORIES:IMPORTANT DATES
END:VEVENT
BEGIN:VEVENT
DTSTART;TZID=America/Los_Angeles:20231023T000000
DTEND;TZID=America/Los_Angeles:20231029T000000
DTSTAMP:20260421T084500
CREATED:20221209T205528Z
LAST-MODIFIED:20221209T205528Z
UID:10001071-1698019200-1698537600@www.interpride.org
SUMMARY:Asexual Awareness Week
DESCRIPTION:
URL:https://www.interpride.org/event/asexual-awareness-week-2/
CATEGORIES:IMPORTANT DATES
END:VEVENT
BEGIN:VEVENT
DTSTART;TZID=America/Los_Angeles:20231021T000000
DTEND;TZID=America/Los_Angeles:20231021T000000
DTSTAMP:20260421T084500
CREATED:20230109T230512Z
LAST-MODIFIED:20230109T230512Z
UID:10001166-1697846400-1697846400@www.interpride.org
SUMMARY:Phoenix Pride
DESCRIPTION:United States
URL:https://www.interpride.org/event/phoenix-pride-2/
CATEGORIES:PRIDE EVENT
END:VEVENT
BEGIN:VEVENT
DTSTART;TZID=America/Los_Angeles:20231021T000000
DTEND;TZID=America/Los_Angeles:20231021T000000
DTSTAMP:20260421T084500
CREATED:20230109T224215Z
LAST-MODIFIED:20230109T224215Z
UID:10001139-1697846400-1697846400@www.interpride.org
SUMMARY:Central Arkansas Pride
DESCRIPTION:United States
URL:https://www.interpride.org/event/central-arkansas-pride-2/
CATEGORIES:PRIDE EVENT
END:VEVENT
BEGIN:VEVENT
DTSTART;TZID=America/Los_Angeles:20231019T000000
DTEND;TZID=America/Los_Angeles:20231019T000000
DTSTAMP:20260421T084500
CREATED:20221209T205513Z
LAST-MODIFIED:20221209T205513Z
UID:10001069-1697673600-1697673600@www.interpride.org
SUMMARY:International Pronouns Day
DESCRIPTION:
URL:https://www.interpride.org/event/international-pronouns-day-2/
CATEGORIES:IMPORTANT DATES
END:VEVENT
BEGIN:VEVENT
DTSTART;TZID=America/Los_Angeles:20231019T000000
DTEND;TZID=America/Los_Angeles:20231019T000000
DTSTAMP:20260421T084500
CREATED:20221209T205513Z
LAST-MODIFIED:20221209T205513Z
UID:10001070-1697673600-1697673600@www.interpride.org
SUMMARY:World Humanitarian Action Day
DESCRIPTION:
URL:https://www.interpride.org/event/world-humanitarian-action-day/
CATEGORIES:IMPORTANT DATES
END:VEVENT
BEGIN:VEVENT
DTSTART;TZID=America/Los_Angeles:20231017T000000
DTEND;TZID=America/Los_Angeles:20231017T000000
DTSTAMP:20260421T084500
CREATED:20221209T205513Z
LAST-MODIFIED:20221209T205513Z
UID:10001067-1697500800-1697500800@www.interpride.org
SUMMARY:Spirit Day
DESCRIPTION:
URL:https://www.interpride.org/event/spirit-day-2/
CATEGORIES:IMPORTANT DATES
END:VEVENT
BEGIN:VEVENT
DTSTART;TZID=America/Los_Angeles:20231017T000000
DTEND;TZID=America/Los_Angeles:20231017T000000
DTSTAMP:20260421T084500
CREATED:20221209T205513Z
LAST-MODIFIED:20221209T205513Z
UID:10001068-1697500800-1697500800@www.interpride.org
SUMMARY:International Day for the Eradication of Poverty
DESCRIPTION:
URL:https://www.interpride.org/event/international-day-for-the-eradication-of-poverty/
CATEGORIES:IMPORTANT DATES
END:VEVENT
BEGIN:VEVENT
DTSTART;TZID=America/Los_Angeles:20231015T000000
DTEND;TZID=America/Los_Angeles:20231015T000000
DTSTAMP:20260421T084500
CREATED:20230109T223308Z
LAST-MODIFIED:20230109T223308Z
UID:10001105-1697328000-1697328000@www.interpride.org
SUMMARY:Gandhinagar Queer Pride Foundation
DESCRIPTION:India (R19)
URL:https://www.interpride.org/event/gandhinagar-queer-pride-foundation/
CATEGORIES:PRIDE EVENT
END:VEVENT
BEGIN:VEVENT
DTSTART;TZID=America/Los_Angeles:20231011T000000
DTEND;TZID=America/Los_Angeles:20231011T000000
DTSTAMP:20260421T084500
CREATED:20221209T205513Z
LAST-MODIFIED:20221209T205513Z
UID:10001066-1696982400-1696982400@www.interpride.org
SUMMARY:National Coming Out Day (US)
DESCRIPTION:
URL:https://www.interpride.org/event/national-coming-out-day-us-2/
CATEGORIES:IMPORTANT DATES
END:VEVENT
BEGIN:VEVENT
DTSTART;TZID=America/Los_Angeles:20231010T000000
DTEND;TZID=America/Los_Angeles:20231010T000000
DTSTAMP:20260421T084500
CREATED:20221209T205458Z
LAST-MODIFIED:20221209T205458Z
UID:10001063-1696896000-1696896000@www.interpride.org
SUMMARY:World Mental Health Day
DESCRIPTION:
URL:https://www.interpride.org/event/world-mental-health-day/
CATEGORIES:IMPORTANT DATES
END:VEVENT
BEGIN:VEVENT
DTSTART;TZID=America/Los_Angeles:20231010T000000
DTEND;TZID=America/Los_Angeles:20231010T000000
DTSTAMP:20260421T084500
CREATED:20221209T205458Z
LAST-MODIFIED:20221209T205458Z
UID:10001064-1696896000-1696896000@www.interpride.org
SUMMARY:World Inclusion Day
DESCRIPTION:
URL:https://www.interpride.org/event/world-inclusion-day/
CATEGORIES:IMPORTANT DATES
END:VEVENT
BEGIN:VEVENT
DTSTART;TZID=America/Los_Angeles:20231009T000000
DTEND;TZID=America/Los_Angeles:20231009T000000
DTSTAMP:20260421T084500
CREATED:20221209T205458Z
LAST-MODIFIED:20221209T205458Z
UID:10001065-1696809600-1696809600@www.interpride.org
SUMMARY:Indigenous People's Day (US)
DESCRIPTION:
URL:https://www.interpride.org/event/indigenous-peoples-day-us-2/
CATEGORIES:IMPORTANT DATES
END:VEVENT
BEGIN:VEVENT
DTSTART;TZID=America/Los_Angeles:20231008T000000
DTEND;TZID=America/Los_Angeles:20231008T000000
DTSTAMP:20260421T084500
CREATED:20221209T205458Z
LAST-MODIFIED:20221209T205458Z
UID:10001062-1696723200-1696723200@www.interpride.org
SUMMARY:International Lesbian Day
DESCRIPTION:
URL:https://www.interpride.org/event/international-lesbian-day-2/
CATEGORIES:IMPORTANT DATES
END:VEVENT
BEGIN:VEVENT
DTSTART;TZID=America/Los_Angeles:20231007T000000
DTEND;TZID=America/Los_Angeles:20231007T000000
DTSTAMP:20260421T084500
CREATED:20230109T231007Z
LAST-MODIFIED:20230109T231007Z
UID:10001174-1696636800-1696636800@www.interpride.org
SUMMARY:Spencer Pride\, Inc.
DESCRIPTION:United States
URL:https://www.interpride.org/event/spencer-pride-inc-2/
CATEGORIES:PRIDE EVENT
END:VEVENT
BEGIN:VEVENT
DTSTART;TZID=America/Los_Angeles:20231007T000000
DTEND;TZID=America/Los_Angeles:20231007T000000
DTSTAMP:20260421T084500
CREATED:20230109T230247Z
LAST-MODIFIED:20230109T230247Z
UID:10001158-1696636800-1696636800@www.interpride.org
SUMMARY:Macomb County Pride
DESCRIPTION:United States
URL:https://www.interpride.org/event/macomb-county-pride/
CATEGORIES:PRIDE EVENT
END:VEVENT
BEGIN:VEVENT
DTSTART;VALUE=DATE:20231004
DTEND;VALUE=DATE:20231008
DTSTAMP:20260421T084500
CREATED:20230410T221542Z
LAST-MODIFIED:20230410T221604Z
UID:10001193-1696377600-1696723199@www.interpride.org
SUMMARY:IGLTA 40th Anniversary Global Convention
DESCRIPTION:IGLTA is the leader in advancing LGBTQ+ travel and they are hosting their upcoming 40th Anniversary Global Convention from 4–7 October 2023 in San Juan\, Puerto Rico. \n  \nThe IGLTA Global Convention is the world’s premier educational and networking event for LGBTQ+ tourism professionals. The 40th-anniversary edition of the conference will connect tourism suppliers and buyers through its hosted buyer and scheduled appointment program\, numerous educational workshops and networking receptions. \n  \nThis is IGLTA’s second convention in Puerto Rico with the island hosting back in 1985. After last year’s successful gathering in Milan with over 550 delegates\, they’re excited to reunite with global tourism professionals in the Caribbean.
URL:https://www.interpride.org/event/iglta-40th-anniversary-global-convention/
CATEGORIES:IMPORTANT DATES
ATTACH;FMTTYPE=image/jpeg:https://www.interpride.org/wp-content/uploads/2023/04/IGLTA_PR_PROMO_2023-Twitter-Post.jpg
END:VEVENT
BEGIN:VEVENT
DTSTART;TZID=America/Los_Angeles:20231002T000000
DTEND;TZID=America/Los_Angeles:20231002T000000
DTSTAMP:20260421T084500
CREATED:20221209T205458Z
LAST-MODIFIED:20221209T205458Z
UID:10001061-1696204800-1696204800@www.interpride.org
SUMMARY:International Day of Non-Violence
DESCRIPTION:
URL:https://www.interpride.org/event/international-day-of-non-violence/
CATEGORIES:IMPORTANT DATES
END:VEVENT
END:VCALENDAR