BEGIN:VCALENDAR
VERSION:2.0
PRODID:-//InterPride - ECPv6.15.20//NONSGML v1.0//EN
CALSCALE:GREGORIAN
METHOD:PUBLISH
X-ORIGINAL-URL:https://www.interpride.org
X-WR-CALDESC:Events for InterPride
REFRESH-INTERVAL;VALUE=DURATION:PT1H
X-Robots-Tag:noindex
X-PUBLISHED-TTL:PT1H
BEGIN:VTIMEZONE
TZID:America/Los_Angeles
BEGIN:DAYLIGHT
TZOFFSETFROM:-0800
TZOFFSETTO:-0700
TZNAME:PDT
DTSTART:20220313T100000
END:DAYLIGHT
BEGIN:STANDARD
TZOFFSETFROM:-0700
TZOFFSETTO:-0800
TZNAME:PST
DTSTART:20221106T090000
END:STANDARD
BEGIN:DAYLIGHT
TZOFFSETFROM:-0800
TZOFFSETTO:-0700
TZNAME:PDT
DTSTART:20230312T100000
END:DAYLIGHT
BEGIN:STANDARD
TZOFFSETFROM:-0700
TZOFFSETTO:-0800
TZNAME:PST
DTSTART:20231105T090000
END:STANDARD
BEGIN:DAYLIGHT
TZOFFSETFROM:-0800
TZOFFSETTO:-0700
TZNAME:PDT
DTSTART:20240310T100000
END:DAYLIGHT
BEGIN:STANDARD
TZOFFSETFROM:-0700
TZOFFSETTO:-0800
TZNAME:PST
DTSTART:20241103T090000
END:STANDARD
END:VTIMEZONE
BEGIN:VEVENT
DTSTART;TZID=America/Los_Angeles:20230321T000000
DTEND;TZID=America/Los_Angeles:20230321T000000
DTSTAMP:20260423T130431
CREATED:20221209T204530Z
LAST-MODIFIED:20221209T204530Z
UID:10000975-1679356800-1679356800@www.interpride.org
SUMMARY:International Race Relations Day
DESCRIPTION:
URL:https://www.interpride.org/event/international-race-relations-day/
CATEGORIES:IMPORTANT DATES
END:VEVENT
BEGIN:VEVENT
DTSTART;TZID=America/Los_Angeles:20230320T000000
DTEND;TZID=America/Los_Angeles:20230320T000000
DTSTAMP:20260423T130431
CREATED:20221209T204530Z
LAST-MODIFIED:20221209T204530Z
UID:10000973-1679270400-1679270400@www.interpride.org
SUMMARY:International Day of Happiness
DESCRIPTION:
URL:https://www.interpride.org/event/international-day-of-happiness-2/
CATEGORIES:IMPORTANT DATES
END:VEVENT
BEGIN:VEVENT
DTSTART;TZID=America/Los_Angeles:20230318T000000
DTEND;TZID=America/Los_Angeles:20230318T000000
DTSTAMP:20260423T130431
CREATED:20221209T204501Z
LAST-MODIFIED:20221209T204501Z
UID:10000972-1679097600-1679097600@www.interpride.org
SUMMARY:Global Recycling Day
DESCRIPTION:
URL:https://www.interpride.org/event/global-recycling-day/
CATEGORIES:IMPORTANT DATES
END:VEVENT
BEGIN:VEVENT
DTSTART;TZID=America/Los_Angeles:20230316T000000
DTEND;TZID=America/Los_Angeles:20230316T000000
DTSTAMP:20260423T130431
CREATED:20221209T204501Z
LAST-MODIFIED:20221209T204501Z
UID:10000971-1678924800-1678924800@www.interpride.org
SUMMARY:Disabled Access Day
DESCRIPTION:
URL:https://www.interpride.org/event/disabled-access-day-2/
CATEGORIES:IMPORTANT DATES
END:VEVENT
BEGIN:VEVENT
DTSTART;TZID=America/Los_Angeles:20230315T000000
DTEND;TZID=America/Los_Angeles:20230315T000000
DTSTAMP:20260423T130431
CREATED:20221209T204501Z
LAST-MODIFIED:20221209T204501Z
UID:10000970-1678838400-1678838400@www.interpride.org
SUMMARY:International Day Against Police Brutality (I.D.A.P.B.)
DESCRIPTION:
URL:https://www.interpride.org/event/international-day-against-police-brutality-i-d-a-p-b/
CATEGORIES:IMPORTANT DATES
END:VEVENT
BEGIN:VEVENT
DTSTART;TZID=America/Los_Angeles:20230315T000000
DTEND;TZID=America/Los_Angeles:20230315T000000
DTSTAMP:20260423T130431
CREATED:20221209T204500Z
LAST-MODIFIED:20221209T204500Z
UID:10000969-1678838400-1678838400@www.interpride.org
SUMMARY:International Day to Combat Islamophobia
DESCRIPTION:
URL:https://www.interpride.org/event/international-day-to-combat-islamophobia/
CATEGORIES:IMPORTANT DATES
END:VEVENT
BEGIN:VEVENT
DTSTART;TZID=America/Los_Angeles:20230313T000000
DTEND;TZID=America/Los_Angeles:20230313T000000
DTSTAMP:20260423T130431
CREATED:20221209T204500Z
LAST-MODIFIED:20221209T204500Z
UID:10000968-1678665600-1678665600@www.interpride.org
SUMMARY:International Every Girl Wins Day
DESCRIPTION:
URL:https://www.interpride.org/event/international-every-girl-wins-day/
CATEGORIES:IMPORTANT DATES
END:VEVENT
BEGIN:VEVENT
DTSTART;TZID=America/Los_Angeles:20230311T160000
DTEND;TZID=America/Los_Angeles:20230311T160000
DTSTAMP:20260423T130431
CREATED:20220814T003117Z
LAST-MODIFIED:20220814T003117Z
UID:10000670-1678550400-1678550400@www.interpride.org
SUMMARY:Chillout Daylesford Inc
DESCRIPTION:
URL:https://www.interpride.org/event/chillout-daylesford-inc/
CATEGORIES:PRIDE EVENT
END:VEVENT
BEGIN:VEVENT
DTSTART;TZID=America/Los_Angeles:20230310T000000
DTEND;TZID=America/Los_Angeles:20230310T000000
DTSTAMP:20260423T130431
CREATED:20221209T204445Z
LAST-MODIFIED:20221209T204445Z
UID:10000967-1678406400-1678406400@www.interpride.org
SUMMARY:International Wig Day
DESCRIPTION:
URL:https://www.interpride.org/event/international-wig-day/
CATEGORIES:IMPORTANT DATES
END:VEVENT
BEGIN:VEVENT
DTSTART;TZID=America/Los_Angeles:20230308T000000
DTEND;TZID=America/Los_Angeles:20230308T000000
DTSTAMP:20260423T130431
CREATED:20221209T204445Z
LAST-MODIFIED:20221209T204445Z
UID:10000966-1678233600-1678233600@www.interpride.org
SUMMARY:United Nations Day for Women’s Rights and International Peace
DESCRIPTION:
URL:https://www.interpride.org/event/united-nations-day-for-womens-rights-and-international-peace/
CATEGORIES:IMPORTANT DATES
END:VEVENT
BEGIN:VEVENT
DTSTART;TZID=America/Los_Angeles:20230308T000000
DTEND;TZID=America/Los_Angeles:20230308T000000
DTSTAMP:20260423T130431
CREATED:20221209T204445Z
LAST-MODIFIED:20221209T204445Z
UID:10000965-1678233600-1678233600@www.interpride.org
SUMMARY:International Women's Day
DESCRIPTION:
URL:https://www.interpride.org/event/international-womens-day-2/
CATEGORIES:IMPORTANT DATES
END:VEVENT
BEGIN:VEVENT
DTSTART;TZID=America/Los_Angeles:20230304T000000
DTEND;TZID=America/Los_Angeles:20230307T000000
DTSTAMP:20260423T130431
CREATED:20221209T204445Z
LAST-MODIFIED:20221209T204445Z
UID:10000964-1677888000-1678147200@www.interpride.org
SUMMARY:International Women’s Week
DESCRIPTION:
URL:https://www.interpride.org/event/international-womens-week/
CATEGORIES:IMPORTANT DATES
END:VEVENT
BEGIN:VEVENT
DTSTART;TZID=America/Los_Angeles:20230302T000000
DTEND;TZID=America/Los_Angeles:20230302T000000
DTSTAMP:20260423T130431
CREATED:20221209T204444Z
LAST-MODIFIED:20221209T204444Z
UID:10000963-1677715200-1677715200@www.interpride.org
SUMMARY:World Teen Mental Wellness Day
DESCRIPTION:
URL:https://www.interpride.org/event/world-teen-mental-wellness-day/
CATEGORIES:IMPORTANT DATES
END:VEVENT
BEGIN:VEVENT
DTSTART;TZID=America/Los_Angeles:20230301T000000
DTEND;TZID=America/Los_Angeles:20230331T000000
DTSTAMP:20260423T130431
CREATED:20221209T204352Z
LAST-MODIFIED:20221209T204352Z
UID:10000959-1677628800-1680220800@www.interpride.org
SUMMARY:Bisexual Health Awareness Month
DESCRIPTION:
URL:https://www.interpride.org/event/bisexual-health-awareness-month/
CATEGORIES:IMPORTANT DATES
END:VEVENT
BEGIN:VEVENT
DTSTART;TZID=America/Los_Angeles:20230301T000000
DTEND;TZID=America/Los_Angeles:20230331T000000
DTSTAMP:20260423T130431
CREATED:20221209T204352Z
LAST-MODIFIED:20221209T204352Z
UID:10000960-1677628800-1680220800@www.interpride.org
SUMMARY:Women's History Month
DESCRIPTION:
URL:https://www.interpride.org/event/womens-history-month/
CATEGORIES:IMPORTANT DATES
END:VEVENT
BEGIN:VEVENT
DTSTART;TZID=America/Los_Angeles:20230301T000000
DTEND;TZID=America/Los_Angeles:20230331T000000
DTSTAMP:20260423T130431
CREATED:20221209T204352Z
LAST-MODIFIED:20221209T204352Z
UID:10000961-1677628800-1680220800@www.interpride.org
SUMMARY:International Ideas Month
DESCRIPTION:
URL:https://www.interpride.org/event/international-ideas-month/
CATEGORIES:IMPORTANT DATES
END:VEVENT
BEGIN:VEVENT
DTSTART;TZID=America/Los_Angeles:20230301T000000
DTEND;TZID=America/Los_Angeles:20230301T000000
DTSTAMP:20260423T130431
CREATED:20221209T204352Z
LAST-MODIFIED:20221209T204352Z
UID:10000958-1677628800-1677628800@www.interpride.org
SUMMARY:International Women of Color Day
DESCRIPTION:
URL:https://www.interpride.org/event/international-women-of-color-day/
CATEGORIES:IMPORTANT DATES
END:VEVENT
BEGIN:VEVENT
DTSTART;TZID=America/Los_Angeles:20230301T000000
DTEND;TZID=America/Los_Angeles:20230301T000000
DTSTAMP:20260423T130431
CREATED:20221209T204352Z
LAST-MODIFIED:20221209T204352Z
UID:10000962-1677628800-1677628800@www.interpride.org
SUMMARY:Zero Discrimination Day
DESCRIPTION:
URL:https://www.interpride.org/event/zero-discrimination-day-2/
CATEGORIES:IMPORTANT DATES
END:VEVENT
BEGIN:VEVENT
DTSTART;VALUE=DATE:20230228
DTEND;VALUE=DATE:20230304
DTSTAMP:20260423T130431
CREATED:20230203T001036Z
LAST-MODIFIED:20230203T001036Z
UID:10001187-1677560400-1677819599@www.interpride.org
SUMMARY:Virtual Participation in Sydney WorldPride 2023 Human Rights Conference
DESCRIPTION:Sydney WorldPride Human Rights Conference is FREE virtually!\n\nThe Sydney WorldPride Human Rights Conference (1–3 March 2023) will be free to view globally through two virtual channels: \n  \n\nLIVE STREAM: Open-source live stream of the plenary and mainstage sessions.\nVIRTUAL PLATFORM: Register-to-view live stream of all plenary and break-out sessions\, including moderated group chat\, real-time Q&A\, and on-demand access for one year post-event\n\n  \nRegistration for the free virtual platform is now available here: https://interpride.net/hrcregister \n  \nIf you require a VPN to participate virtually from a hostile country\, please email conference@sydneyworldpride.com. \n 
URL:https://www.interpride.org/event/virtual-participation-in-sydney-worldpride-2023-human-rights-conference/
CATEGORIES:PRIDE EVENT,WEBINAR
ATTACH;FMTTYPE=image/jpeg:https://www.interpride.org/wp-content/uploads/2023/02/Sydney-Human-Rights-Conference-TW.jpg
ORGANIZER;CN="Sydney WorldPride":MAILTO:conference@sydneyworldpride.com
END:VEVENT
BEGIN:VEVENT
DTSTART;TZID=America/Los_Angeles:20230225T000000
DTEND;TZID=America/Los_Angeles:20230225T000000
DTSTAMP:20260423T130431
CREATED:20230109T231048Z
LAST-MODIFIED:20230109T231048Z
UID:10001178-1677283200-1677283200@www.interpride.org
SUMMARY:Trikone Australia Inc
DESCRIPTION:Australia (R20)
URL:https://www.interpride.org/event/trikone-australia-inc-2/
CATEGORIES:PRIDE EVENT
END:VEVENT
BEGIN:VEVENT
DTSTART;TZID=America/Los_Angeles:20230225T000000
DTEND;TZID=America/Los_Angeles:20230225T000000
DTSTAMP:20260423T130431
CREATED:20230109T223353Z
LAST-MODIFIED:20230109T223353Z
UID:10001118-1677283200-1677283200@www.interpride.org
SUMMARY:Sydney Gay and Lesbian Mardi Gras
DESCRIPTION:Australia (R20)
URL:https://www.interpride.org/event/sydney-gay-and-lesbian-mardi-gras/
CATEGORIES:PRIDE EVENT
END:VEVENT
BEGIN:VEVENT
DTSTART;TZID=America/Los_Angeles:20230224T160000
DTEND;TZID=America/Los_Angeles:20230224T160000
DTSTAMP:20260423T130431
CREATED:20220814T003454Z
LAST-MODIFIED:20220814T003454Z
UID:10000738-1677254400-1677254400@www.interpride.org
SUMMARY:BlaQ Aboriginal Corporation
DESCRIPTION:
URL:https://www.interpride.org/event/blaq-aboriginal-corporation/
CATEGORIES:PRIDE EVENT
END:VEVENT
BEGIN:VEVENT
DTSTART;TZID=America/Los_Angeles:20230224T160000
DTEND;TZID=America/Los_Angeles:20230224T160000
DTSTAMP:20260423T130431
CREATED:20220814T003251Z
LAST-MODIFIED:20220814T003251Z
UID:10000706-1677254400-1677254400@www.interpride.org
SUMMARY:Sydney Queer Irish
DESCRIPTION:
URL:https://www.interpride.org/event/sydney-queer-irish/
CATEGORIES:PRIDE EVENT
END:VEVENT
BEGIN:VEVENT
DTSTART;TZID=America/Los_Angeles:20230224T000000
DTEND;TZID=America/Los_Angeles:20230224T000000
DTSTAMP:20260423T130431
CREATED:20221209T204338Z
LAST-MODIFIED:20221209T204338Z
UID:10000957-1677196800-1677196800@www.interpride.org
SUMMARY:International Stand Up to Bullying Day
DESCRIPTION:
URL:https://www.interpride.org/event/international-stand-up-to-bullying-day/
CATEGORIES:IMPORTANT DATES
END:VEVENT
BEGIN:VEVENT
DTSTART;VALUE=DATE:20230223
DTEND;VALUE=DATE:20230306
DTSTAMP:20260423T130431
CREATED:20230209T041322Z
LAST-MODIFIED:20230209T041518Z
UID:10001188-1677128400-1677992399@www.interpride.org
SUMMARY:Pride Villages
DESCRIPTION:Featuring international icon Conchita Wurst\nOxford Street is home to the Sydney Gay and Lesbian Mardi Gras Parade\, and as part of WorldPride celebrations\, areas of this beloved LGBTQIA+ district will be closed to traffic to create a fabulous (and free!) festival hub.\n  \nFor 9 days from 24 February\, Crown Street will be closed between Oxford and Campbell Streets\, as will Riley Street between Oxford and Goulburn Streets. The area will become home to daily stalls\, performances\, dining and a place to connect with friends and family in between WorldPride events.\n  \nCrown Street will be home to the Travel Proud Stage presented by Booking.com with nightly shows and special extended entertainment on weekends.\n  \nTo mark the final weekend of WorldPride (4-5 March)\, Oxford Street will also be closed for once-in-a-lifetime street party\, all the way from Liverpool Street to Flinders Street\, featuring The American Express Oxford Street Stage. That’s in addition to the annual Oxford Street closure for the Mardi Gras Parade on 25 February!\n  \nSupported by the NSW Government through Create NSW.\n  \nPlease note there will be no Pride Villages on the day of Mardi Gras Parade (25 February).\n  \nAll ages welcome.\n  \nPride Villages – Crown & Riley Street\nFriday 24th Feb – 3pm – 10pm\nSunday 26th Feb – 10am- 10pm\nMonday 27th Feb – Thursday 2nd March – 2pm-10pm\nFriday 3rd March – 2pm-11pm\nSaturday 4th March – 12pm -1am\nSunday 5th March – 10am-10pm\n  \n*NOTE: Pride Villages will not be activated on Sat 25 Feb (Mardi Gras Parade day)\n  \nTravel Proud Stage presented by Booking.com\, Crown Street – (from 26 Feb)\nFeaturing performances from local and international talent\, including:\nAlex Dugan\, Alfie Arcuri\, Amanda Louise\, Annabelle Gaspar\, Argonaut\, Ashtray\, Astro\, Beks\, Betty Grumble\, Big Thick Energy\, Boy & Bucket\, Conchita Wurst\, DJ Prolifik the gifted\, Dollar Bin Darlings\, Dolly Llama\, DYAN TAI: Worship Queer Collective + DJ\, Gay & Lesbian Choir\, Greg Gould\, Jacqui Cunningham\, James Alexandr \, Jayyyslays\, Jen Moore\, Juliett Tango\, Kate Monroe\, Kitty Obsidian\, Kweens of Comedy – AJ Lamarque\, Lacey Hill\, Lady Gargles\, Lisa Pellegrino\, Mama Alto\, Mama de Leche\, Miss Katalyna\, Nick Pes\, Nova Gina\, Overexpired\, People Of Cabaret\, Philmah Bocks\, Ray Isaac\, Retro Sweat\, Rodd Richards\, Seann Miley Moore\, Sexy Galexy\, Shaniqua\, Sideboob\, Stone Motheless Cold\, Sveta\, Sydney Drag Royalty\, Tash York\, Thraxxy\, Trevor Ashley & Friends\, Tyra Bankstown\, Ty Madden\, Tyoow\, Wonder Mama\n  \nOxford Street Party\nSaturday 4th March – 12pm -1am\nSunday 5th March – 10am-10pm\n  \nThe American Express Oxford Street Stage will feature free performances by:\nAlex Lahey\, Bianca Hunt\, Brendan Maclean\, Candy Bowers\, Carla from Bankstown\, Chela\, Clio\, Day Day\, DJ Chip\, Dunny Minogue\, ETHAN\, Haiku Hands\, Half Queen\, HANDSOME\, Imbi\, Jawbreakers\, Jo Jo Zaho\, Keelan Mak\, Kyva\, Lady Shaka\, Lion\, Nicholas Brown\, Scott Campbell Hunter\, Troy Beman\, Tyra Bankstown\, Tyrone Pynor\, Vassy\, Yummy\, YVNGCWEED\n  \nThe AMEX Shop Small Village within Pride Villages features 18 small businesses showcasing an array of products available for purchase.\n 
URL:https://www.interpride.org/event/pride-villages/
CATEGORIES:PRIDE EVENT
ATTACH;FMTTYPE=image/jpeg:https://www.interpride.org/wp-content/uploads/2023/02/PrideVillagesEventSWP.jpg
END:VEVENT
BEGIN:VEVENT
DTSTART;TZID=America/Los_Angeles:20230223T000000
DTEND;TZID=America/Los_Angeles:20230223T000000
DTSTAMP:20260423T130431
CREATED:20230109T224215Z
LAST-MODIFIED:20230109T224215Z
UID:10001138-1677110400-1677110400@www.interpride.org
SUMMARY:First Mardi Gras Incorporated
DESCRIPTION:Australia (R20)
URL:https://www.interpride.org/event/first-mardi-gras-incorporated-2/
CATEGORIES:PRIDE EVENT
END:VEVENT
BEGIN:VEVENT
DTSTART;TZID=America/Los_Angeles:20230220T160000
DTEND;TZID=America/Los_Angeles:20230220T170000
DTSTAMP:20260423T130431
CREATED:20230131T142406Z
LAST-MODIFIED:20230131T142406Z
UID:10001186-1676908800-1676912400@www.interpride.org
SUMMARY:Voluntariado: experiencias en Sudamérica
DESCRIPTION:– Marchas de ciudades de diferentes dimensiones hablan de como manejan el voluntariado.\n– La importancia del voluntariado para las marchas del orgullo\n– Como llamar personas para que sean voluntarias y como recibir-las\n– Qué documentos legales son necesarios para haber seguridad para las organizaciones \n 
URL:https://www.interpride.org/event/voluntariado-experiencias-en-sudamerica/
CATEGORIES:WEBINAR
ATTACH;FMTTYPE=image/jpeg:https://www.interpride.org/wp-content/uploads/2023/01/20-Feb-23-Welton-Trinidad-Webiar-Twitter-Post.jpg
END:VEVENT
BEGIN:VEVENT
DTSTART;TZID=America/Los_Angeles:20230220T000000
DTEND;TZID=America/Los_Angeles:20230226T000000
DTSTAMP:20260423T130431
CREATED:20221209T204338Z
LAST-MODIFIED:20221209T204338Z
UID:10000956-1676851200-1677369600@www.interpride.org
SUMMARY:Aromantic Awareness Week
DESCRIPTION:
URL:https://www.interpride.org/event/aromantic-awareness-week-2/
CATEGORIES:IMPORTANT DATES
END:VEVENT
BEGIN:VEVENT
DTSTART;TZID=America/Los_Angeles:20230220T000000
DTEND;TZID=America/Los_Angeles:20230220T000000
DTSTAMP:20260423T130431
CREATED:20230109T231212Z
LAST-MODIFIED:20230109T231212Z
UID:10001184-1676851200-1676851200@www.interpride.org
SUMMARY:Lampegat pride
DESCRIPTION:Netherlands (R13)
URL:https://www.interpride.org/event/lampegat-pride/
CATEGORIES:PRIDE EVENT
END:VEVENT
BEGIN:VEVENT
DTSTART;TZID=America/Los_Angeles:20230220T000000
DTEND;TZID=America/Los_Angeles:20230220T000000
DTSTAMP:20260423T130431
CREATED:20221209T204338Z
LAST-MODIFIED:20221209T204338Z
UID:10000955-1676851200-1676851200@www.interpride.org
SUMMARY:World Day of Social Justice
DESCRIPTION:
URL:https://www.interpride.org/event/world-day-of-social-justice-2/
CATEGORIES:IMPORTANT DATES
END:VEVENT
END:VCALENDAR