BEGIN:VCALENDAR
VERSION:2.0
PRODID:-//InterPride - ECPv6.15.20//NONSGML v1.0//EN
CALSCALE:GREGORIAN
METHOD:PUBLISH
X-ORIGINAL-URL:https://www.interpride.org
X-WR-CALDESC:Events for InterPride
REFRESH-INTERVAL;VALUE=DURATION:PT1H
X-Robots-Tag:noindex
X-PUBLISHED-TTL:PT1H
BEGIN:VTIMEZONE
TZID:America/Los_Angeles
BEGIN:DAYLIGHT
TZOFFSETFROM:-0800
TZOFFSETTO:-0700
TZNAME:PDT
DTSTART:20210314T100000
END:DAYLIGHT
BEGIN:STANDARD
TZOFFSETFROM:-0700
TZOFFSETTO:-0800
TZNAME:PST
DTSTART:20211107T090000
END:STANDARD
BEGIN:DAYLIGHT
TZOFFSETFROM:-0800
TZOFFSETTO:-0700
TZNAME:PDT
DTSTART:20220313T100000
END:DAYLIGHT
BEGIN:STANDARD
TZOFFSETFROM:-0700
TZOFFSETTO:-0800
TZNAME:PST
DTSTART:20221106T090000
END:STANDARD
BEGIN:DAYLIGHT
TZOFFSETFROM:-0800
TZOFFSETTO:-0700
TZNAME:PDT
DTSTART:20230312T100000
END:DAYLIGHT
BEGIN:STANDARD
TZOFFSETFROM:-0700
TZOFFSETTO:-0800
TZNAME:PST
DTSTART:20231105T090000
END:STANDARD
BEGIN:DAYLIGHT
TZOFFSETFROM:-0800
TZOFFSETTO:-0700
TZNAME:PDT
DTSTART:20240310T100000
END:DAYLIGHT
BEGIN:STANDARD
TZOFFSETFROM:-0700
TZOFFSETTO:-0800
TZNAME:PST
DTSTART:20241103T090000
END:STANDARD
END:VTIMEZONE
BEGIN:VEVENT
DTSTART;TZID=America/Los_Angeles:20230101T000000
DTEND;TZID=America/Los_Angeles:20230101T000000
DTSTAMP:20260425T085442
CREATED:20221209T204244Z
LAST-MODIFIED:20221209T204244Z
UID:10000935-1672531200-1672531200@www.interpride.org
SUMMARY:Universal Hour of Peace
DESCRIPTION:
URL:https://www.interpride.org/event/universal-hour-of-peace/
CATEGORIES:IMPORTANT DATES
END:VEVENT
BEGIN:VEVENT
DTSTART;TZID=America/Los_Angeles:20221218T000000
DTEND;TZID=America/Los_Angeles:20221218T000000
DTSTAMP:20260425T085442
CREATED:20220915T021053Z
LAST-MODIFIED:20220915T021053Z
UID:10000931-1671321600-1671321600@www.interpride.org
SUMMARY:International Migrants Day
DESCRIPTION:
URL:https://www.interpride.org/event/international-migrants-day/
CATEGORIES:IMPORTANT DATES
END:VEVENT
BEGIN:VEVENT
DTSTART;TZID=America/Los_Angeles:20221214T150000
DTEND;TZID=America/Los_Angeles:20221214T160000
DTSTAMP:20260425T085442
CREATED:20221209T134831Z
LAST-MODIFIED:20221209T135225Z
UID:10000934-1671030000-1671033600@www.interpride.org
SUMMARY:GORGEOUS DRAG | DRAG CULTURE & CHOSEN FAMILY WITH JUANITA MORE!
DESCRIPTION:Join us to discuss Drag Culture & Chosen Family with Juanita MORE! \nWhen? Wednesday\, December 14\, 2022\nTime? 3 – 4 PM PT | 11 PM – 12 AM GMT \nGlobal livestream Event for photographer ELIZABETH WATERMAN’S fine art portfolio “GORGEOUS DRAG” will include a panel discussion on DRAG CULTURE and CHOSEN FAMILY\, featuring special guest and legendary drag queen Juanita MORE! \nThe event is a benefit for INTERPRIDE and takes place DECEMBER 14\, 3-4 PM Pacific Time\, GMT 11 PM-Midnight \n“This body of work encompasses an eclectic range of individual artists and overlapping subcultures\,  and through it runs a vein of courage\, defiance\, tenacity\, and pride.” \n\nElizabeth Waterman
URL:https://www.interpride.org/event/gorgeous-drag-drag-culture-chosen-family-with-juanita-more/
CATEGORIES:PRIDE EVENT,WEBINAR
ATTACH;FMTTYPE=image/jpeg:https://www.interpride.org/wp-content/uploads/2022/12/Gorgeous-Drag-Closing-Event-Twitter-Post.jpg
END:VEVENT
BEGIN:VEVENT
DTSTART;TZID=America/Los_Angeles:20221210T000000
DTEND;TZID=America/Los_Angeles:20221210T000000
DTSTAMP:20260425T085442
CREATED:20220915T021053Z
LAST-MODIFIED:20220915T021053Z
UID:10000930-1670630400-1670630400@www.interpride.org
SUMMARY:Human Rights Day
DESCRIPTION:
URL:https://www.interpride.org/event/human-rights-day/
CATEGORIES:IMPORTANT DATES
END:VEVENT
BEGIN:VEVENT
DTSTART;TZID=America/Los_Angeles:20221208T000000
DTEND;TZID=America/Los_Angeles:20221208T000000
DTSTAMP:20260425T085442
CREATED:20220915T021052Z
LAST-MODIFIED:20220915T021052Z
UID:10000929-1670457600-1670457600@www.interpride.org
SUMMARY:Pansexual & Panromantic Pride Day
DESCRIPTION:
URL:https://www.interpride.org/event/pansexual-panromantic-pride-day/
CATEGORIES:IMPORTANT DATES
END:VEVENT
BEGIN:VEVENT
DTSTART;TZID=America/Los_Angeles:20221205T160000
DTEND;TZID=America/Los_Angeles:20221205T160000
DTSTAMP:20260425T085442
CREATED:20220814T003117Z
LAST-MODIFIED:20220814T003117Z
UID:10000671-1670256000-1670256000@www.interpride.org
SUMMARY:MANODIVERSA
DESCRIPTION:
URL:https://www.interpride.org/event/manodiversa/
CATEGORIES:PRIDE EVENT
END:VEVENT
BEGIN:VEVENT
DTSTART;TZID=America/Los_Angeles:20221205T000000
DTEND;TZID=America/Los_Angeles:20221205T000000
DTSTAMP:20260425T085442
CREATED:20220915T021052Z
LAST-MODIFIED:20220915T021052Z
UID:10000928-1670198400-1670198400@www.interpride.org
SUMMARY:International Volunteers Day
DESCRIPTION:
URL:https://www.interpride.org/event/international-volunteers-day/
CATEGORIES:IMPORTANT DATES
END:VEVENT
BEGIN:VEVENT
DTSTART;TZID=America/Los_Angeles:20221203T000000
DTEND;TZID=America/Los_Angeles:20221203T000000
DTSTAMP:20260425T085442
CREATED:20220915T021052Z
LAST-MODIFIED:20220915T021052Z
UID:10000927-1670025600-1670025600@www.interpride.org
SUMMARY:International Day of Persons with Disabilities
DESCRIPTION:
URL:https://www.interpride.org/event/international-day-of-persons-with-disabilities/
CATEGORIES:IMPORTANT DATES
END:VEVENT
BEGIN:VEVENT
DTSTART;TZID=America/Los_Angeles:20221201T160000
DTEND;TZID=America/Los_Angeles:20221201T160000
DTSTAMP:20260425T085442
CREATED:20220814T003050Z
LAST-MODIFIED:20220814T003050Z
UID:10000652-1669910400-1669910400@www.interpride.org
SUMMARY:Manso Orgullo
DESCRIPTION:
URL:https://www.interpride.org/event/manso-orgullo/
CATEGORIES:PRIDE EVENT
END:VEVENT
BEGIN:VEVENT
DTSTART;TZID=America/Los_Angeles:20221201T000000
DTEND;TZID=America/Los_Angeles:20221201T000000
DTSTAMP:20260425T085442
CREATED:20220915T021038Z
LAST-MODIFIED:20220915T021038Z
UID:10000926-1669852800-1669852800@www.interpride.org
SUMMARY:World AIDS Day
DESCRIPTION:
URL:https://www.interpride.org/event/world-aids-day/
CATEGORIES:IMPORTANT DATES
END:VEVENT
BEGIN:VEVENT
DTSTART;TZID=America/Los_Angeles:20221129T160000
DTEND;TZID=America/Los_Angeles:20221129T160000
DTSTAMP:20260425T085442
CREATED:20220814T003653Z
LAST-MODIFIED:20220814T003653Z
UID:10000749-1669737600-1669737600@www.interpride.org
SUMMARY:Transgender Equality Hong Kong
DESCRIPTION:
URL:https://www.interpride.org/event/transgender-equality-hong-kong/
CATEGORIES:PRIDE EVENT
END:VEVENT
BEGIN:VEVENT
DTSTART;TZID=America/Los_Angeles:20221127T000000
DTEND;TZID=America/Los_Angeles:20221127T000000
DTSTAMP:20260425T085442
CREATED:20220915T021038Z
LAST-MODIFIED:20220915T021038Z
UID:10000925-1669507200-1669507200@www.interpride.org
SUMMARY:Assassination of Harvey Milk (1978)
DESCRIPTION:
URL:https://www.interpride.org/event/assassination-of-harvey-milk-1978/
CATEGORIES:IMPORTANT DATES
END:VEVENT
BEGIN:VEVENT
DTSTART;TZID=America/Los_Angeles:20221126T160000
DTEND;TZID=America/Los_Angeles:20221126T160000
DTSTAMP:20260425T085442
CREATED:20220814T004207Z
LAST-MODIFIED:20220814T004207Z
UID:10000769-1669478400-1669478400@www.interpride.org
SUMMARY:OUR PRIDE
DESCRIPTION:
URL:https://www.interpride.org/event/our-pride/
CATEGORIES:PRIDE EVENT
END:VEVENT
BEGIN:VEVENT
DTSTART;TZID=America/Los_Angeles:20221125T000000
DTEND;TZID=America/Los_Angeles:20221125T000000
DTSTAMP:20260425T085442
CREATED:20220915T021038Z
LAST-MODIFIED:20220915T021038Z
UID:10000924-1669334400-1669334400@www.interpride.org
SUMMARY:International Day for the Elimination of Violence Against Women
DESCRIPTION:
URL:https://www.interpride.org/event/international-day-for-the-elimination-of-violence-against-women/
CATEGORIES:IMPORTANT DATES
END:VEVENT
BEGIN:VEVENT
DTSTART;TZID=America/Los_Angeles:20221124T160000
DTEND;TZID=America/Los_Angeles:20221124T160000
DTSTAMP:20260425T085442
CREATED:20220814T003305Z
LAST-MODIFIED:20220814T003305Z
UID:10000719-1669305600-1669305600@www.interpride.org
SUMMARY:APCOM Foundation
DESCRIPTION:
URL:https://www.interpride.org/event/apcom-foundation/
CATEGORIES:PRIDE EVENT
END:VEVENT
BEGIN:VEVENT
DTSTART;TZID=America/Los_Angeles:20221120T000000
DTEND;TZID=America/Los_Angeles:20221120T000000
DTSTAMP:20260425T085442
CREATED:20220915T021038Z
LAST-MODIFIED:20220915T021038Z
UID:10000923-1668902400-1668902400@www.interpride.org
SUMMARY:Transgender Day Of Remembrance
DESCRIPTION:
URL:https://www.interpride.org/event/transgender-day-of-remembrance/
CATEGORIES:IMPORTANT DATES
END:VEVENT
BEGIN:VEVENT
DTSTART;TZID=America/Los_Angeles:20221116T000000
DTEND;TZID=America/Los_Angeles:20221116T000000
DTSTAMP:20260425T085442
CREATED:20220915T021038Z
LAST-MODIFIED:20220915T021038Z
UID:10000922-1668556800-1668556800@www.interpride.org
SUMMARY:International Day for Tolerance
DESCRIPTION:
URL:https://www.interpride.org/event/international-day-for-tolerance/
CATEGORIES:IMPORTANT DATES
END:VEVENT
BEGIN:VEVENT
DTSTART;TZID=America/Los_Angeles:20221114T160000
DTEND;TZID=America/Los_Angeles:20221114T160000
DTSTAMP:20260425T085442
CREATED:20220814T003804Z
LAST-MODIFIED:20220814T003804Z
UID:10000757-1668441600-1668441600@www.interpride.org
SUMMARY:Equality Australia
DESCRIPTION:
URL:https://www.interpride.org/event/equality-australia/
CATEGORIES:PRIDE EVENT
END:VEVENT
BEGIN:VEVENT
DTSTART;TZID=America/Los_Angeles:20221114T160000
DTEND;TZID=America/Los_Angeles:20221114T160000
DTSTAMP:20260425T085442
CREATED:20220814T003254Z
LAST-MODIFIED:20220814T003254Z
UID:10000712-1668441600-1668441600@www.interpride.org
SUMMARY:Associação Paranaense da Parada da Diversidade
DESCRIPTION:
URL:https://www.interpride.org/event/associacao-paranaense-da-parada-da-diversidade/
CATEGORIES:PRIDE EVENT
END:VEVENT
BEGIN:VEVENT
DTSTART;TZID=America/Los_Angeles:20221113T000000
DTEND;TZID=America/Los_Angeles:20221119T000000
DTSTAMP:20260425T085442
CREATED:20220915T020957Z
LAST-MODIFIED:20220915T020957Z
UID:10000921-1668297600-1668816000@www.interpride.org
SUMMARY:Transgender Awareness Week
DESCRIPTION:
URL:https://www.interpride.org/event/transgender-awareness-week/
CATEGORIES:IMPORTANT DATES
END:VEVENT
BEGIN:VEVENT
DTSTART;TZID=America/Los_Angeles:20221111T160000
DTEND;TZID=America/Los_Angeles:20221111T160000
DTSTAMP:20260425T085442
CREATED:20220814T004739Z
LAST-MODIFIED:20220814T004739Z
UID:10000813-1668182400-1668182400@www.interpride.org
SUMMARY:DiversityDHS/Your LGBTQ+ Connection in Desert Hot Springs
DESCRIPTION:
URL:https://www.interpride.org/event/diversitydhs-your-lgbtq-connection-in-desert-hot-springs/
CATEGORIES:PRIDE EVENT
END:VEVENT
BEGIN:VEVENT
DTSTART;TZID=America/Los_Angeles:20221111T160000
DTEND;TZID=America/Los_Angeles:20221111T160000
DTSTAMP:20260425T085442
CREATED:20220814T003554Z
LAST-MODIFIED:20220814T003554Z
UID:10000743-1668182400-1668182400@www.interpride.org
SUMMARY:Hong Kong Pride Parade
DESCRIPTION:
URL:https://www.interpride.org/event/hong-kong-pride-parade/
CATEGORIES:PRIDE EVENT
END:VEVENT
BEGIN:VEVENT
DTSTART;TZID=America/Los_Angeles:20221111T160000
DTEND;TZID=America/Los_Angeles:20221111T160000
DTSTAMP:20260425T085442
CREATED:20220814T003553Z
LAST-MODIFIED:20220814T003553Z
UID:10000742-1668182400-1668182400@www.interpride.org
SUMMARY:Les Corner Empowerment Association
DESCRIPTION:
URL:https://www.interpride.org/event/les-corner-empowerment-association/
CATEGORIES:PRIDE EVENT
END:VEVENT
BEGIN:VEVENT
DTSTART;TZID=America/Los_Angeles:20221108T000000
DTEND;TZID=America/Los_Angeles:20221108T000000
DTSTAMP:20260425T085442
CREATED:20220915T020957Z
LAST-MODIFIED:20220915T020957Z
UID:10000920-1667865600-1667865600@www.interpride.org
SUMMARY:Intersex Day of Remembrance
DESCRIPTION:
URL:https://www.interpride.org/event/intersex-day-of-remembrance/
CATEGORIES:IMPORTANT DATES
END:VEVENT
BEGIN:VEVENT
DTSTART;TZID=America/Los_Angeles:20221106T000000
DTEND;TZID=America/Los_Angeles:20221106T000000
DTSTAMP:20260425T085442
CREATED:20220915T020957Z
LAST-MODIFIED:20220915T020957Z
UID:10000919-1667692800-1667692800@www.interpride.org
SUMMARY:Trans Parent Day
DESCRIPTION:
URL:https://www.interpride.org/event/trans-parent-day/
CATEGORIES:IMPORTANT DATES
END:VEVENT
BEGIN:VEVENT
DTSTART;TZID=America/Los_Angeles:20221104T170000
DTEND;TZID=America/Los_Angeles:20221104T170000
DTSTAMP:20260425T085442
CREATED:20220814T003331Z
LAST-MODIFIED:20220814T003331Z
UID:10000721-1667581200-1667581200@www.interpride.org
SUMMARY:Federacion Argentina LGBT+
DESCRIPTION:
URL:https://www.interpride.org/event/federacion-argentina-lgbt/
CATEGORIES:PRIDE EVENT
END:VEVENT
BEGIN:VEVENT
DTSTART;TZID=America/Los_Angeles:20221104T170000
DTEND;TZID=America/Los_Angeles:20221104T170000
DTSTAMP:20260425T085442
CREATED:20220814T003051Z
LAST-MODIFIED:20220814T003051Z
UID:10000653-1667581200-1667581200@www.interpride.org
SUMMARY:Track-T
DESCRIPTION:
URL:https://www.interpride.org/event/track-t/
CATEGORIES:PRIDE EVENT
END:VEVENT
BEGIN:VEVENT
DTSTART;TZID=America/Los_Angeles:20221103T170000
DTEND;TZID=America/Los_Angeles:20221103T170000
DTSTAMP:20260425T085442
CREATED:20220814T004542Z
LAST-MODIFIED:20220814T004542Z
UID:10000776-1667494800-1667494800@www.interpride.org
SUMMARY:Greater Palm Springs Pride
DESCRIPTION:
URL:https://www.interpride.org/event/greater-palm-springs-pride/
CATEGORIES:PRIDE EVENT
END:VEVENT
BEGIN:VEVENT
DTSTART;TZID=America/Los_Angeles:20221101T000000
DTEND;TZID=America/Los_Angeles:20221130T000000
DTSTAMP:20260425T085442
CREATED:20220915T020957Z
LAST-MODIFIED:20220915T020957Z
UID:10000917-1667260800-1669766400@www.interpride.org
SUMMARY:Native American Indian/Alaska Native Heritage Month (US)
DESCRIPTION:
URL:https://www.interpride.org/event/native-american-indian-alaska-native-heritage-month-us/
CATEGORIES:IMPORTANT DATES
END:VEVENT
BEGIN:VEVENT
DTSTART;TZID=America/Los_Angeles:20221101T000000
DTEND;TZID=America/Los_Angeles:20221130T000000
DTSTAMP:20260425T085442
CREATED:20220915T020957Z
LAST-MODIFIED:20220915T020957Z
UID:10000918-1667260800-1669766400@www.interpride.org
SUMMARY:Trans Awareness Month
DESCRIPTION:
URL:https://www.interpride.org/event/trans-awareness-month/
CATEGORIES:IMPORTANT DATES
END:VEVENT
END:VCALENDAR