BEGIN:VCALENDAR
VERSION:2.0
PRODID:-//InterPride - ECPv6.15.20//NONSGML v1.0//EN
CALSCALE:GREGORIAN
METHOD:PUBLISH
X-WR-CALNAME:InterPride
X-ORIGINAL-URL:https://www.interpride.org
X-WR-CALDESC:Events for InterPride
REFRESH-INTERVAL;VALUE=DURATION:PT1H
X-Robots-Tag:noindex
X-PUBLISHED-TTL:PT1H
BEGIN:VTIMEZONE
TZID:America/Los_Angeles
BEGIN:DAYLIGHT
TZOFFSETFROM:-0800
TZOFFSETTO:-0700
TZNAME:PDT
DTSTART:20210314T100000
END:DAYLIGHT
BEGIN:STANDARD
TZOFFSETFROM:-0700
TZOFFSETTO:-0800
TZNAME:PST
DTSTART:20211107T090000
END:STANDARD
BEGIN:DAYLIGHT
TZOFFSETFROM:-0800
TZOFFSETTO:-0700
TZNAME:PDT
DTSTART:20220313T100000
END:DAYLIGHT
BEGIN:STANDARD
TZOFFSETFROM:-0700
TZOFFSETTO:-0800
TZNAME:PST
DTSTART:20221106T090000
END:STANDARD
BEGIN:DAYLIGHT
TZOFFSETFROM:-0800
TZOFFSETTO:-0700
TZNAME:PDT
DTSTART:20230312T100000
END:DAYLIGHT
BEGIN:STANDARD
TZOFFSETFROM:-0700
TZOFFSETTO:-0800
TZNAME:PST
DTSTART:20231105T090000
END:STANDARD
END:VTIMEZONE
BEGIN:VEVENT
DTSTART;TZID=America/Los_Angeles:20221106T000000
DTEND;TZID=America/Los_Angeles:20221106T000000
DTSTAMP:20260425T123132
CREATED:20220915T020957Z
LAST-MODIFIED:20220915T020957Z
UID:10000919-1667692800-1667692800@www.interpride.org
SUMMARY:Trans Parent Day
DESCRIPTION:
URL:https://www.interpride.org/event/trans-parent-day/
CATEGORIES:IMPORTANT DATES
END:VEVENT
BEGIN:VEVENT
DTSTART;TZID=America/Los_Angeles:20221104T170000
DTEND;TZID=America/Los_Angeles:20221104T170000
DTSTAMP:20260425T123132
CREATED:20220814T003331Z
LAST-MODIFIED:20220814T003331Z
UID:10000721-1667581200-1667581200@www.interpride.org
SUMMARY:Federacion Argentina LGBT+
DESCRIPTION:
URL:https://www.interpride.org/event/federacion-argentina-lgbt/
CATEGORIES:PRIDE EVENT
END:VEVENT
BEGIN:VEVENT
DTSTART;TZID=America/Los_Angeles:20221104T170000
DTEND;TZID=America/Los_Angeles:20221104T170000
DTSTAMP:20260425T123132
CREATED:20220814T003051Z
LAST-MODIFIED:20220814T003051Z
UID:10000653-1667581200-1667581200@www.interpride.org
SUMMARY:Track-T
DESCRIPTION:
URL:https://www.interpride.org/event/track-t/
CATEGORIES:PRIDE EVENT
END:VEVENT
BEGIN:VEVENT
DTSTART;TZID=America/Los_Angeles:20221103T170000
DTEND;TZID=America/Los_Angeles:20221103T170000
DTSTAMP:20260425T123132
CREATED:20220814T004542Z
LAST-MODIFIED:20220814T004542Z
UID:10000776-1667494800-1667494800@www.interpride.org
SUMMARY:Greater Palm Springs Pride
DESCRIPTION:
URL:https://www.interpride.org/event/greater-palm-springs-pride/
CATEGORIES:PRIDE EVENT
END:VEVENT
BEGIN:VEVENT
DTSTART;TZID=America/Los_Angeles:20221101T000000
DTEND;TZID=America/Los_Angeles:20221130T000000
DTSTAMP:20260425T123132
CREATED:20220915T020957Z
LAST-MODIFIED:20220915T020957Z
UID:10000917-1667260800-1669766400@www.interpride.org
SUMMARY:Native American Indian/Alaska Native Heritage Month (US)
DESCRIPTION:
URL:https://www.interpride.org/event/native-american-indian-alaska-native-heritage-month-us/
CATEGORIES:IMPORTANT DATES
END:VEVENT
BEGIN:VEVENT
DTSTART;TZID=America/Los_Angeles:20221101T000000
DTEND;TZID=America/Los_Angeles:20221130T000000
DTSTAMP:20260425T123132
CREATED:20220915T020957Z
LAST-MODIFIED:20220915T020957Z
UID:10000918-1667260800-1669766400@www.interpride.org
SUMMARY:Trans Awareness Month
DESCRIPTION:
URL:https://www.interpride.org/event/trans-awareness-month/
CATEGORIES:IMPORTANT DATES
END:VEVENT
BEGIN:VEVENT
DTSTART;TZID=America/Los_Angeles:20221031T170000
DTEND;TZID=America/Los_Angeles:20221031T170000
DTSTAMP:20260425T123132
CREATED:20220814T003113Z
LAST-MODIFIED:20220814T003113Z
UID:10000665-1667235600-1667235600@www.interpride.org
SUMMARY:Sweekar The Rainbow Parents
DESCRIPTION:
URL:https://www.interpride.org/event/sweekar-the-rainbow-parents/
CATEGORIES:PRIDE EVENT
END:VEVENT
BEGIN:VEVENT
DTSTART;TZID=America/Los_Angeles:20221030T170000
DTEND;TZID=America/Los_Angeles:20221030T170000
DTSTAMP:20260425T123132
CREATED:20220814T003453Z
LAST-MODIFIED:20220814T003453Z
UID:10000737-1667149200-1667149200@www.interpride.org
SUMMARY:GOULBURN VALLEY PRIDE INC.
DESCRIPTION:
URL:https://www.interpride.org/event/goulburn-valley-pride-inc/
CATEGORIES:PRIDE EVENT
END:VEVENT
BEGIN:VEVENT
DTSTART;TZID=America/Los_Angeles:20221028T000000
DTEND;TZID=America/Los_Angeles:20221030T000000
DTSTAMP:20260425T123132
CREATED:20220825T204147Z
LAST-MODIFIED:20220825T204147Z
UID:10000824-1666915200-1667088000@www.interpride.org
SUMMARY:InterPride Region 12 Conference
DESCRIPTION:
URL:https://www.interpride.org/event/interpride-region-12-conference/
CATEGORIES:PRIDE EVENT
END:VEVENT
BEGIN:VEVENT
DTSTART;TZID=America/Los_Angeles:20221027T170000
DTEND;TZID=America/Los_Angeles:20221027T170000
DTSTAMP:20260425T123132
CREATED:20220814T003115Z
LAST-MODIFIED:20220814T003115Z
UID:10000667-1666890000-1666890000@www.interpride.org
SUMMARY:Taiwan Tongzhi (LGBTQ+) Hotline Association
DESCRIPTION:
URL:https://www.interpride.org/event/taiwan-tongzhi-lgbtq-hotline-association/
CATEGORIES:PRIDE EVENT
END:VEVENT
BEGIN:VEVENT
DTSTART;VALUE=DATE:20221027
DTEND;VALUE=DATE:20221031
DTSTAMP:20260425T123132
CREATED:20220904T183651Z
LAST-MODIFIED:20220904T183859Z
UID:10000830-1666828800-1667174399@www.interpride.org
SUMMARY:InterPride 2022 Annual General Meeting & World Conference (AGM & WC)
DESCRIPTION:Be part of the celebration! \nWelcome To The Annual General Meeting & World Conference\n\n\n\n\n\n\nFor the first time in InterPride’s history\, the Annual General Meeting & World Conference (GM&WC) will be hosted in a Latin American country! InterPride’s member organization\, Guadalajara Pride\, is the proud host of this year’s annual event. \nWe are proud to welcome you and make this conference a milestone in the history of InterPride.
URL:https://www.interpride.org/event/interpride-2022-annual-general-meeting-world-conference-agm-wc/
LOCATION:Hilton Guadalajara\, Ave. de la Rosas 2933\, Verde Valle\, Guadalajara\, Jal.\, 44530\, Mexico
CATEGORIES:PRIDE EVENT
ATTACH;FMTTYPE=image/png:https://www.interpride.org/wp-content/uploads/2022/07/Conference-e1658853964515.png
ORGANIZER;CN="Guadalajara Pride":MAILTO:contacto@guadalajarapride.com
END:VEVENT
BEGIN:VEVENT
DTSTART;TZID=America/Los_Angeles:20221026T000000
DTEND;TZID=America/Los_Angeles:20221026T000000
DTSTAMP:20260425T123132
CREATED:20220915T020941Z
LAST-MODIFIED:20220915T020941Z
UID:10000916-1666742400-1666742400@www.interpride.org
SUMMARY:Intersex Awareness Day
DESCRIPTION:
URL:https://www.interpride.org/event/intersex-awareness-day/
CATEGORIES:IMPORTANT DATES
END:VEVENT
BEGIN:VEVENT
DTSTART;TZID=America/Los_Angeles:20221023T000000
DTEND;TZID=America/Los_Angeles:20221029T000000
DTSTAMP:20260425T123132
CREATED:20220915T020941Z
LAST-MODIFIED:20220915T020941Z
UID:10000915-1666483200-1667001600@www.interpride.org
SUMMARY:Asexual Awareness Week
DESCRIPTION:
URL:https://www.interpride.org/event/asexual-awareness-week/
CATEGORIES:IMPORTANT DATES
END:VEVENT
BEGIN:VEVENT
DTSTART;TZID=America/Los_Angeles:20221022T170000
DTEND;TZID=America/Los_Angeles:20221022T170000
DTSTAMP:20260425T123132
CREATED:20220814T003123Z
LAST-MODIFIED:20220814T003123Z
UID:10000677-1666458000-1666458000@www.interpride.org
SUMMARY:Australian Asexuals
DESCRIPTION:
URL:https://www.interpride.org/event/australian-asexuals/
CATEGORIES:PRIDE EVENT
END:VEVENT
BEGIN:VEVENT
DTSTART;TZID=America/Los_Angeles:20221020T160000
DTEND;TZID=America/Los_Angeles:20221020T170000
DTSTAMP:20260425T123132
CREATED:20221005T202551Z
LAST-MODIFIED:20221005T205120Z
UID:10000933-1666281600-1666285200@www.interpride.org
SUMMARY:Streamlining Festival Vendors + EventHub Member Benefit Showcase
DESCRIPTION:What is managing festival vendors and parade participants actually costing your org\, in terms of time\, money\, and opportunity cost? This session will put a spotlight on the inefficiencies in systems and methods traditionally used by festival organizers for vendor and sponsor programs that cost orgs critical time and money\, and provide best practices and strategies for maximizing partnership revenue while minimizing costs. It will also showcase how EventHub is used by hundreds of festivals to grow sponsor revenue and streamline b2b participants. A recording will be provided to all registrants following the session. \n  \nRegister now at: https://interpride.net/eventhubwebinar  \n  \nLinkedIn: https://www.linkedin.com/company/eventhubofficial\nFacebook: https://www.facebook.com/eventhuboff\nInstagram: https://www.instagram.com/eventhubofficial\nTwitter: https://twitter.com/EventHubOff
URL:https://www.interpride.org/event/streamlining-festival-vendors-eventhub-member-benefit-showcase/
CATEGORIES:WEBINAR
ATTACH;FMTTYPE=image/jpeg:https://www.interpride.org/wp-content/uploads/2022/10/eventhubwebinaroctober.jpg
ORGANIZER;CN="Eventhub":MAILTO:michaelb@eventhub.net
END:VEVENT
BEGIN:VEVENT
DTSTART;TZID=America/Los_Angeles:20221020T120000
DTEND;TZID=America/Los_Angeles:20221020T130000
DTSTAMP:20260425T123132
CREATED:20220913T222502Z
LAST-MODIFIED:20221012T141605Z
UID:10000831-1666267200-1666270800@www.interpride.org
SUMMARY:LIVE STREAM: Gorgeous DRAG Panel
DESCRIPTION:LIVE STREAM: Gorgeous DRAG Panel on Activism\, Culture\, and Influence\n  \nTUNE IN FOR THIS EXCLUSIVE EVENT! \n  \nExhibition Closing Event: A Panel on Drag Activism\, Culture\, and Influence! \n  \nWhen | October 20\, 2022 @ 12:00 pm – 1:00 PM Pacific Time \n  \n 
URL:https://www.interpride.org/event/live-stream-gorgeous-drag-panel-on-activism-culture-and-influence/
CATEGORIES:PRIDE EVENT,WEBINAR
ATTACH;FMTTYPE=image/jpeg:https://www.interpride.org/wp-content/uploads/2022/10/Gorgeous-Drag-Closing-Event-Twitter-Post.jpg
END:VEVENT
BEGIN:VEVENT
DTSTART;TZID=America/Los_Angeles:20221019T000000
DTEND;TZID=America/Los_Angeles:20221019T000000
DTSTAMP:20260425T123132
CREATED:20220915T020941Z
LAST-MODIFIED:20220915T020941Z
UID:10000914-1666137600-1666137600@www.interpride.org
SUMMARY:International Pronouns Day
DESCRIPTION:
URL:https://www.interpride.org/event/international-pronouns-day/
CATEGORIES:IMPORTANT DATES
END:VEVENT
BEGIN:VEVENT
DTSTART;TZID=America/Los_Angeles:20221017T000000
DTEND;TZID=America/Los_Angeles:20221024T000000
DTSTAMP:20260425T123132
CREATED:20220915T020941Z
LAST-MODIFIED:20220915T020941Z
UID:10000913-1665964800-1666569600@www.interpride.org
SUMMARY:Genderfluid Visibility Week
DESCRIPTION:
URL:https://www.interpride.org/event/genderfluid-visibility-week/
CATEGORIES:IMPORTANT DATES
END:VEVENT
BEGIN:VEVENT
DTSTART;TZID=America/Los_Angeles:20221016T000000
DTEND;TZID=America/Los_Angeles:20221016T000000
DTSTAMP:20260425T123132
CREATED:20220915T020941Z
LAST-MODIFIED:20220915T020941Z
UID:10000912-1665878400-1665878400@www.interpride.org
SUMMARY:Spirit Day
DESCRIPTION:
URL:https://www.interpride.org/event/spirit-day/
CATEGORIES:IMPORTANT DATES
END:VEVENT
BEGIN:VEVENT
DTSTART;TZID=America/Los_Angeles:20221014T170000
DTEND;TZID=America/Los_Angeles:20221014T170000
DTSTAMP:20260425T123132
CREATED:20220814T004705Z
LAST-MODIFIED:20220814T004705Z
UID:10000804-1665766800-1665766800@www.interpride.org
SUMMARY:Come Out With Pride\, Inc.
DESCRIPTION:
URL:https://www.interpride.org/event/come-out-with-pride-inc/
CATEGORIES:PRIDE EVENT
END:VEVENT
BEGIN:VEVENT
DTSTART;TZID=America/Los_Angeles:20221014T170000
DTEND;TZID=America/Los_Angeles:20221014T170000
DTSTAMP:20260425T123132
CREATED:20220814T004545Z
LAST-MODIFIED:20220814T004545Z
UID:10000781-1665766800-1665766800@www.interpride.org
SUMMARY:Phoenix Pride
DESCRIPTION:
URL:https://www.interpride.org/event/phoenix-pride/
CATEGORIES:PRIDE EVENT
END:VEVENT
BEGIN:VEVENT
DTSTART;TZID=America/Los_Angeles:20221014T170000
DTEND;TZID=America/Los_Angeles:20221014T170000
DTSTAMP:20260425T123132
CREATED:20220814T004205Z
LAST-MODIFIED:20220814T004205Z
UID:10000765-1665766800-1665766800@www.interpride.org
SUMMARY:Spencer Pride\, Inc.
DESCRIPTION:
URL:https://www.interpride.org/event/spencer-pride-inc/
CATEGORIES:PRIDE EVENT
END:VEVENT
BEGIN:VEVENT
DTSTART;TZID=America/Los_Angeles:20221014T170000
DTEND;TZID=America/Los_Angeles:20221014T170000
DTSTAMP:20260425T123132
CREATED:20220814T004007Z
LAST-MODIFIED:20220814T004007Z
UID:10000764-1665766800-1665766800@www.interpride.org
SUMMARY:Central Arkansas Pride
DESCRIPTION:
URL:https://www.interpride.org/event/central-arkansas-pride/
CATEGORIES:PRIDE EVENT
END:VEVENT
BEGIN:VEVENT
DTSTART;TZID=America/Los_Angeles:20221014T000000
DTEND;TZID=America/Los_Angeles:20221016T000000
DTSTAMP:20260425T123132
CREATED:20220825T204147Z
LAST-MODIFIED:20220825T204147Z
UID:10000823-1665705600-1665878400@www.interpride.org
SUMMARY:UKPON Conference 2022
DESCRIPTION:
URL:https://www.interpride.org/event/ukpon-conference-2022/
CATEGORIES:PRIDE EVENT
END:VEVENT
BEGIN:VEVENT
DTSTART;TZID=America/Los_Angeles:20221011T000000
DTEND;TZID=America/Los_Angeles:20221011T000000
DTSTAMP:20260425T123132
CREATED:20220915T020743Z
LAST-MODIFIED:20220915T020743Z
UID:10000911-1665446400-1665446400@www.interpride.org
SUMMARY:National Coming Out Day (US)
DESCRIPTION:
URL:https://www.interpride.org/event/national-coming-out-day-us/
CATEGORIES:IMPORTANT DATES
END:VEVENT
BEGIN:VEVENT
DTSTART;TZID=America/Los_Angeles:20221010T000000
DTEND;TZID=America/Los_Angeles:20221010T000000
DTSTAMP:20260425T123132
CREATED:20220915T020742Z
LAST-MODIFIED:20220915T020742Z
UID:10000909-1665360000-1665360000@www.interpride.org
SUMMARY:World Mental Health Day (Focus on LGBTQIA+ community)
DESCRIPTION:
URL:https://www.interpride.org/event/world-mental-health-day-focus-on-lgbtqia-community/
CATEGORIES:IMPORTANT DATES
END:VEVENT
BEGIN:VEVENT
DTSTART;TZID=America/Los_Angeles:20221010T000000
DTEND;TZID=America/Los_Angeles:20221010T000000
DTSTAMP:20260425T123132
CREATED:20220915T020742Z
LAST-MODIFIED:20220915T020742Z
UID:10000910-1665360000-1665360000@www.interpride.org
SUMMARY:Indigenous People's Day (US)
DESCRIPTION:
URL:https://www.interpride.org/event/indigenous-peoples-day-us/
CATEGORIES:IMPORTANT DATES
END:VEVENT
BEGIN:VEVENT
DTSTART;TZID=America/Los_Angeles:20221008T170000
DTEND;TZID=America/Los_Angeles:20221008T170000
DTSTAMP:20260425T123132
CREATED:20220814T003702Z
LAST-MODIFIED:20220814T003702Z
UID:10000752-1665248400-1665248400@www.interpride.org
SUMMARY:Gandhinagar Queer Pride
DESCRIPTION:
URL:https://www.interpride.org/event/gandhinagar-queer-pride/
CATEGORIES:PRIDE EVENT
END:VEVENT
BEGIN:VEVENT
DTSTART;TZID=America/Los_Angeles:20221008T000000
DTEND;TZID=America/Los_Angeles:20221008T000000
DTSTAMP:20260425T123132
CREATED:20220915T020742Z
LAST-MODIFIED:20220915T020742Z
UID:10000908-1665187200-1665187200@www.interpride.org
SUMMARY:International Lesbian Day
DESCRIPTION:
URL:https://www.interpride.org/event/international-lesbian-day/
CATEGORIES:IMPORTANT DATES
END:VEVENT
BEGIN:VEVENT
DTSTART;TZID=America/Los_Angeles:20221007T170000
DTEND;TZID=America/Los_Angeles:20221007T170000
DTSTAMP:20260425T123132
CREATED:20220814T004544Z
LAST-MODIFIED:20220814T004544Z
UID:10000779-1665162000-1665162000@www.interpride.org
SUMMARY:Atlanta Pride Committee
DESCRIPTION:
URL:https://www.interpride.org/event/atlanta-pride-committee/
CATEGORIES:PRIDE EVENT
END:VEVENT
END:VCALENDAR