BEGIN:VCALENDAR
VERSION:2.0
PRODID:-//InterPride - ECPv6.15.20//NONSGML v1.0//EN
CALSCALE:GREGORIAN
METHOD:PUBLISH
X-WR-CALNAME:InterPride
X-ORIGINAL-URL:https://www.interpride.org
X-WR-CALDESC:Events for InterPride
REFRESH-INTERVAL;VALUE=DURATION:PT1H
X-Robots-Tag:noindex
X-PUBLISHED-TTL:PT1H
BEGIN:VTIMEZONE
TZID:America/Los_Angeles
BEGIN:DAYLIGHT
TZOFFSETFROM:-0800
TZOFFSETTO:-0700
TZNAME:PDT
DTSTART:20220313T100000
END:DAYLIGHT
BEGIN:STANDARD
TZOFFSETFROM:-0700
TZOFFSETTO:-0800
TZNAME:PST
DTSTART:20221106T090000
END:STANDARD
BEGIN:DAYLIGHT
TZOFFSETFROM:-0800
TZOFFSETTO:-0700
TZNAME:PDT
DTSTART:20230312T100000
END:DAYLIGHT
BEGIN:STANDARD
TZOFFSETFROM:-0700
TZOFFSETTO:-0800
TZNAME:PST
DTSTART:20231105T090000
END:STANDARD
BEGIN:DAYLIGHT
TZOFFSETFROM:-0800
TZOFFSETTO:-0700
TZNAME:PDT
DTSTART:20240310T100000
END:DAYLIGHT
BEGIN:STANDARD
TZOFFSETFROM:-0700
TZOFFSETTO:-0800
TZNAME:PST
DTSTART:20241103T090000
END:STANDARD
END:VTIMEZONE
BEGIN:VEVENT
DTSTART;TZID=America/Los_Angeles:20230930T000000
DTEND;TZID=America/Los_Angeles:20230930T000000
DTSTAMP:20260421T122801
CREATED:20230109T223251Z
LAST-MODIFIED:20230109T223251Z
UID:10001095-1696032000-1696032000@www.interpride.org
SUMMARY:Columbus IN Pride
DESCRIPTION:United States
URL:https://www.interpride.org/event/columbus-in-pride-2/
CATEGORIES:PRIDE EVENT
END:VEVENT
BEGIN:VEVENT
DTSTART;TZID=America/Los_Angeles:20230930T000000
DTEND;TZID=America/Los_Angeles:20230930T000000
DTSTAMP:20260421T122801
CREATED:20221209T205428Z
LAST-MODIFIED:20221209T205428Z
UID:10001054-1696032000-1696032000@www.interpride.org
SUMMARY:International Podcast Day
DESCRIPTION:
URL:https://www.interpride.org/event/international-podcast-day/
CATEGORIES:IMPORTANT DATES
END:VEVENT
BEGIN:VEVENT
DTSTART;TZID=America/Los_Angeles:20230926T000000
DTEND;TZID=America/Los_Angeles:20230926T000000
DTSTAMP:20260421T122801
CREATED:20221209T205428Z
LAST-MODIFIED:20221209T205428Z
UID:10001053-1695686400-1695686400@www.interpride.org
SUMMARY:World Day of Migrants and Refugees
DESCRIPTION:
URL:https://www.interpride.org/event/world-day-of-migrants-and-refugees/
CATEGORIES:IMPORTANT DATES
END:VEVENT
BEGIN:VEVENT
DTSTART;TZID=America/Los_Angeles:20230925T000000
DTEND;TZID=America/Los_Angeles:20230929T000000
DTSTAMP:20260421T122801
CREATED:20221209T205428Z
LAST-MODIFIED:20221209T205428Z
UID:10001052-1695600000-1695945600@www.interpride.org
SUMMARY:Ally Week
DESCRIPTION:
URL:https://www.interpride.org/event/ally-week-2/
CATEGORIES:IMPORTANT DATES
END:VEVENT
BEGIN:VEVENT
DTSTART;TZID=America/Los_Angeles:20230923T000000
DTEND;TZID=America/Los_Angeles:20230923T000000
DTSTAMP:20260421T122801
CREATED:20230109T231007Z
LAST-MODIFIED:20230109T231007Z
UID:10001173-1695427200-1695427200@www.interpride.org
SUMMARY:South Georgia Pride\, Inc.
DESCRIPTION:United States
URL:https://www.interpride.org/event/south-georgia-pride-inc-2/
CATEGORIES:PRIDE EVENT
END:VEVENT
BEGIN:VEVENT
DTSTART;TZID=America/Los_Angeles:20230923T000000
DTEND;TZID=America/Los_Angeles:20230923T000000
DTSTAMP:20260421T122801
CREATED:20230109T224013Z
LAST-MODIFIED:20230109T224013Z
UID:10001133-1695427200-1695427200@www.interpride.org
SUMMARY:Space Coast Pride\, Inc.
DESCRIPTION:United States
URL:https://www.interpride.org/event/space-coast-pride-inc-2/
CATEGORIES:PRIDE EVENT
END:VEVENT
BEGIN:VEVENT
DTSTART;TZID=America/Los_Angeles:20230923T000000
DTEND;TZID=America/Los_Angeles:20230923T000000
DTSTAMP:20260421T122801
CREATED:20221209T205413Z
LAST-MODIFIED:20221209T205413Z
UID:10001051-1695427200-1695427200@www.interpride.org
SUMMARY:Celebrate Bisexuality Day
DESCRIPTION:
URL:https://www.interpride.org/event/celebrate-bisexuality-day-2/
CATEGORIES:IMPORTANT DATES
END:VEVENT
BEGIN:VEVENT
DTSTART;TZID=America/Los_Angeles:20230921T000000
DTEND;TZID=America/Los_Angeles:20230921T000000
DTSTAMP:20260421T122801
CREATED:20221209T205413Z
LAST-MODIFIED:20221209T205413Z
UID:10001049-1695254400-1695254400@www.interpride.org
SUMMARY:International Day of Peace (or World Peace Day)
DESCRIPTION:
URL:https://www.interpride.org/event/international-day-of-peace-or-world-peace-day/
CATEGORIES:IMPORTANT DATES
END:VEVENT
BEGIN:VEVENT
DTSTART;TZID=America/Los_Angeles:20230921T000000
DTEND;TZID=America/Los_Angeles:20230921T000000
DTSTAMP:20260421T122801
CREATED:20221209T205413Z
LAST-MODIFIED:20221209T205413Z
UID:10001050-1695254400-1695254400@www.interpride.org
SUMMARY:World Gratitude Day
DESCRIPTION:
URL:https://www.interpride.org/event/world-gratitude-day/
CATEGORIES:IMPORTANT DATES
END:VEVENT
BEGIN:VEVENT
DTSTART;TZID=America/Los_Angeles:20230916T000000
DTEND;TZID=America/Los_Angeles:20230923T000000
DTSTAMP:20260421T122801
CREATED:20221209T205413Z
LAST-MODIFIED:20221209T205413Z
UID:10001048-1694822400-1695427200@www.interpride.org
SUMMARY:Bisexual Awareness Week
DESCRIPTION:
URL:https://www.interpride.org/event/bisexual-awareness-week-2/
CATEGORIES:IMPORTANT DATES
END:VEVENT
BEGIN:VEVENT
DTSTART;TZID=America/Los_Angeles:20230915T170000
DTEND;TZID=America/Los_Angeles:20230915T170000
DTSTAMP:20260421T122801
CREATED:20220814T003122Z
LAST-MODIFIED:20220814T003122Z
UID:10000676-1694797200-1694797200@www.interpride.org
SUMMARY:Southwest Virginia Pride\, Inc.
DESCRIPTION:
URL:https://www.interpride.org/event/southwest-virginia-pride-inc/
CATEGORIES:PRIDE EVENT
END:VEVENT
BEGIN:VEVENT
DTSTART;TZID=America/Los_Angeles:20230915T000000
DTEND;TZID=America/Los_Angeles:20231015T000000
DTSTAMP:20260421T122801
CREATED:20221209T205238Z
LAST-MODIFIED:20221209T205238Z
UID:10001044-1694736000-1697328000@www.interpride.org
SUMMARY:Hispanic Heritage Month
DESCRIPTION:
URL:https://www.interpride.org/event/hispanic-heritage-month-2/
CATEGORIES:IMPORTANT DATES
END:VEVENT
BEGIN:VEVENT
DTSTART;TZID=America/Los_Angeles:20230915T000000
DTEND;TZID=America/Los_Angeles:20230915T000000
DTSTAMP:20260421T122801
CREATED:20221209T205413Z
LAST-MODIFIED:20221209T205413Z
UID:10001047-1694736000-1694736000@www.interpride.org
SUMMARY:International Day of Democracy
DESCRIPTION:
URL:https://www.interpride.org/event/international-day-of-democracy-2/
CATEGORIES:IMPORTANT DATES
END:VEVENT
BEGIN:VEVENT
DTSTART;TZID=America/Los_Angeles:20230910T000000
DTEND;TZID=America/Los_Angeles:20230910T000000
DTSTAMP:20260421T122801
CREATED:20230109T223408Z
LAST-MODIFIED:20230109T223408Z
UID:10001123-1694304000-1694304000@www.interpride.org
SUMMARY:Riverside LGBTQ+ Pride
DESCRIPTION:United States
URL:https://www.interpride.org/event/riverside-lgbtq-pride-2/
CATEGORIES:PRIDE EVENT
END:VEVENT
BEGIN:VEVENT
DTSTART;TZID=America/Los_Angeles:20230910T000000
DTEND;TZID=America/Los_Angeles:20230910T000000
DTSTAMP:20260421T122801
CREATED:20221209T205239Z
LAST-MODIFIED:20221209T205239Z
UID:10001046-1694304000-1694304000@www.interpride.org
SUMMARY:World Suicide Prevention Day
DESCRIPTION:
URL:https://www.interpride.org/event/world-suicide-prevention-day/
CATEGORIES:IMPORTANT DATES
END:VEVENT
BEGIN:VEVENT
DTSTART;TZID=America/Los_Angeles:20230909T000000
DTEND;TZID=America/Los_Angeles:20230909T000000
DTSTAMP:20260421T122801
CREATED:20230109T224013Z
LAST-MODIFIED:20230109T224013Z
UID:10001131-1694217600-1694217600@www.interpride.org
SUMMARY:South Central Minnesota Pride
DESCRIPTION:United States
URL:https://www.interpride.org/event/south-central-minnesota-pride-2/
CATEGORIES:PRIDE EVENT
END:VEVENT
BEGIN:VEVENT
DTSTART;TZID=America/Los_Angeles:20230907T000000
DTEND;TZID=America/Los_Angeles:20230917T000000
DTSTAMP:20260421T122801
CREATED:20220825T204159Z
LAST-MODIFIED:20220825T204159Z
UID:10000827-1694044800-1694908800@www.interpride.org
SUMMARY:EuroPride 2023
DESCRIPTION:
URL:https://www.interpride.org/event/europride-2023/
CATEGORIES:PRIDE EVENT
END:VEVENT
BEGIN:VEVENT
DTSTART;TZID=America/Los_Angeles:20230905T000000
DTEND;TZID=America/Los_Angeles:20230905T000000
DTSTAMP:20260421T122801
CREATED:20221209T205239Z
LAST-MODIFIED:20221209T205239Z
UID:10001045-1693872000-1693872000@www.interpride.org
SUMMARY:International Day of Charity
DESCRIPTION:
URL:https://www.interpride.org/event/international-day-of-charity-2/
CATEGORIES:IMPORTANT DATES
END:VEVENT
BEGIN:VEVENT
DTSTART;TZID=America/Los_Angeles:20230831T000000
DTEND;TZID=America/Los_Angeles:20230831T000000
DTSTAMP:20260421T122801
CREATED:20221209T205238Z
LAST-MODIFIED:20221209T205238Z
UID:10001043-1693440000-1693440000@www.interpride.org
SUMMARY:International Day for People of African Descent
DESCRIPTION:
URL:https://www.interpride.org/event/international-day-for-people-of-african-descent-2/
CATEGORIES:IMPORTANT DATES
END:VEVENT
BEGIN:VEVENT
DTSTART;TZID=America/Los_Angeles:20230826T000000
DTEND;TZID=America/Los_Angeles:20230826T000000
DTSTAMP:20260421T122801
CREATED:20230109T224013Z
LAST-MODIFIED:20230109T224013Z
UID:10001132-1693008000-1693008000@www.interpride.org
SUMMARY:South Bay Alliance Association Incorporated
DESCRIPTION:United States
URL:https://www.interpride.org/event/south-bay-alliance-association-incorporated/
CATEGORIES:PRIDE EVENT
END:VEVENT
BEGIN:VEVENT
DTSTART;TZID=America/Los_Angeles:20230826T000000
DTEND;TZID=America/Los_Angeles:20230826T000000
DTSTAMP:20260421T122801
CREATED:20230109T223608Z
LAST-MODIFIED:20230109T223608Z
UID:10001125-1693008000-1693008000@www.interpride.org
SUMMARY:Jersey City LGBTQ+ Pride Festival
DESCRIPTION:United States
URL:https://www.interpride.org/event/jersey-city-lgbtq-pride-festival-2/
CATEGORIES:PRIDE EVENT
END:VEVENT
BEGIN:VEVENT
DTSTART;TZID=America/Los_Angeles:20230826T000000
DTEND;TZID=America/Los_Angeles:20230826T000000
DTSTAMP:20260421T122801
CREATED:20221209T205038Z
LAST-MODIFIED:20221209T205038Z
UID:10001042-1693008000-1693008000@www.interpride.org
SUMMARY:Women's Equality Day
DESCRIPTION:
URL:https://www.interpride.org/event/womens-equality-day-2/
CATEGORIES:IMPORTANT DATES
END:VEVENT
BEGIN:VEVENT
DTSTART;TZID=America/Los_Angeles:20230824T000000
DTEND;TZID=America/Los_Angeles:20230824T000000
DTSTAMP:20260421T122801
CREATED:20230109T223308Z
LAST-MODIFIED:20230109T223308Z
UID:10001104-1692835200-1692835200@www.interpride.org
SUMMARY:FAIRNY
DESCRIPTION:United States
URL:https://www.interpride.org/event/fairny-2/
CATEGORIES:PRIDE EVENT
END:VEVENT
BEGIN:VEVENT
DTSTART;TZID=America/Los_Angeles:20230824T000000
DTEND;TZID=America/Los_Angeles:20230824T000000
DTSTAMP:20260421T122801
CREATED:20221209T205038Z
LAST-MODIFIED:20221209T205038Z
UID:10001041-1692835200-1692835200@www.interpride.org
SUMMARY:Marsha P. Johnson Day
DESCRIPTION:
URL:https://www.interpride.org/event/marsha-p-johnson-day-2/
CATEGORIES:IMPORTANT DATES
END:VEVENT
BEGIN:VEVENT
DTSTART;TZID=America/Los_Angeles:20230821T000000
DTEND;TZID=America/Los_Angeles:20230821T000000
DTSTAMP:20260421T122801
CREATED:20221209T205038Z
LAST-MODIFIED:20221209T205038Z
UID:10001040-1692576000-1692576000@www.interpride.org
SUMMARY:International Day of Remembrance and Tribute to the Victims of Terrorism
DESCRIPTION:
URL:https://www.interpride.org/event/international-day-of-remembrance-and-tribute-to-the-victims-of-terrorism-2/
CATEGORIES:IMPORTANT DATES
END:VEVENT
BEGIN:VEVENT
DTSTART;TZID=America/Los_Angeles:20230820T000000
DTEND;TZID=America/Los_Angeles:20230820T000000
DTSTAMP:20260421T122801
CREATED:20230109T225628Z
LAST-MODIFIED:20230109T225628Z
UID:10001142-1692489600-1692489600@www.interpride.org
SUMMARY:Bradbury-Sullivan LGBT Community Center
DESCRIPTION:United States
URL:https://www.interpride.org/event/bradbury-sullivan-lgbt-community-center-2/
CATEGORIES:PRIDE EVENT
END:VEVENT
BEGIN:VEVENT
DTSTART;TZID=America/Los_Angeles:20230819T000000
DTEND;TZID=America/Los_Angeles:20230819T000000
DTSTAMP:20260421T122801
CREATED:20230109T223408Z
LAST-MODIFIED:20230109T223408Z
UID:10001124-1692403200-1692403200@www.interpride.org
SUMMARY:Warwickshire Pride
DESCRIPTION:United Kingdom (R10)
URL:https://www.interpride.org/event/warwickshire-pride-2/
CATEGORIES:PRIDE EVENT
END:VEVENT
BEGIN:VEVENT
DTSTART;TZID=America/Los_Angeles:20230819T000000
DTEND;TZID=America/Los_Angeles:20230819T000000
DTSTAMP:20260421T122801
CREATED:20230109T223307Z
LAST-MODIFIED:20230109T223307Z
UID:10001103-1692403200-1692403200@www.interpride.org
SUMMARY:CSD Magdeburg e.V.
DESCRIPTION:Germany (R12)
URL:https://www.interpride.org/event/csd-magdeburg-e-v/
CATEGORIES:PRIDE EVENT
END:VEVENT
BEGIN:VEVENT
DTSTART;TZID=America/Los_Angeles:20230819T000000
DTEND;TZID=America/Los_Angeles:20230819T000000
DTSTAMP:20260421T122801
CREATED:20230109T223307Z
LAST-MODIFIED:20230109T223307Z
UID:10001102-1692403200-1692403200@www.interpride.org
SUMMARY:Charlotte Pride
DESCRIPTION:United States
URL:https://www.interpride.org/event/charlotte-pride-2/
CATEGORIES:PRIDE EVENT
END:VEVENT
BEGIN:VEVENT
DTSTART;TZID=America/Los_Angeles:20230819T000000
DTEND;TZID=America/Los_Angeles:20230819T000000
DTSTAMP:20260421T122801
CREATED:20221209T205038Z
LAST-MODIFIED:20221209T205038Z
UID:10001039-1692403200-1692403200@www.interpride.org
SUMMARY:World Humanitarian Day
DESCRIPTION:
URL:https://www.interpride.org/event/world-humanitarian-day-2/
CATEGORIES:IMPORTANT DATES
END:VEVENT
END:VCALENDAR